Workbook

Sheet 注意事項
B1: 記入に際しての注意事項
B3: エントリーマニュアルに従って入力してください。
B4: MacOSの方は、Numbersソフトは使用せず、Excelソフトのみ使用してください。

Sheet ﾄｰﾀﾙ
A1: 第1回エントリーファイル（期限前エントリー用）
A2: 送信日
A3: クラブ名
A4: クラブ名（カナ）
A5: 事務担当者名
A6: 事務担当者連絡先
A8: 日程 | B8: 大会名 | C8: カテゴリー | D8: エントリー費 | E8: 人数 | F8: 合計 | G8: 監督名 | H8: 旗門員氏名
A9: 45298 | B9: 山梨OPEN 第1戦 兼中学校選手権 | C9: 高校生以下 | D9: 3000 | E9: =COUNTIF(エントリー!AU6:AU80,3000) -> 0 | F9: =D9*E9 -> 0
C10: 一般 | D10: 4000 | E10: =COUNTIF(エントリー!AU6:AU80,4000) -> 0 | F10: =D10*E10 -> 0
A11: 45299 | B11: 第78回 国体予選会 | C11: 高校生以下 | D11: 3000 | E11: =COUNTIF(エントリー!AW6:AW80,3000) -> 0 | F11: =D11*E11 -> 0
C12: 一般 | D12: 4000 | E12: =COUNTIF(エントリー!AW6:AW80,4000) -> 0 | F12: =D12*E12 -> 0
B13: 山梨県SL選手権 兼中学校選手権 | C13: 高校生以下 | D13: 2500 | E13: =COUNTIF(エントリー!AY6:AY80,2500) -> 0 | F13: =D13*E13 -> 0
C14: 一般 | D14: 4000 | E14: =COUNTIF(エントリー!AY6:AY80,4000) -> 0 | F14: =D14*E14 -> 0
A15: 45312 | B15: 全日本マスターズ予選 | C15: 一般 | D15: 4000 | E15: =COUNTIF(エントリー!BA6:BA80,4000) -> 0 | F15: =D15*E15 -> 0
B16: 小中学生GS | C16: 中学生以下 | D16: 2500 | E16: =COUNTIF(エントリー!BC6:BC80,2500) -> 0 | F16: =D16*E16 -> 0
A17: 第1回エントリー合計金額 | C17: =SUM(F9:F16) -> 0
A18: SAY競技者登録 | C18: 小学3年生以下 | D18: 500 | E18: =COUNTIF(個表!AB4:AB78,500) -> 0 | F18: =E18*D18 -> 0
C19: 小学4年生以上 | D19: 1000 | E19: =COUNTIF(個表!AB4:AB78,1000) -> 0 | F19: =E19*D19 -> 0
C20: =個表!AB79 -> 0
A21: SAY負担金（山梨県スキー連盟以外でSAJ登録をしているもの） | C21: 一律 | D21: 2000 | F21: =D21*E21 -> 0
A22: 支払合計金額 | C22: =C17+C20+F21 -> 0

Sheet 個表
A1: 個表欄
A2: <NO> | B2: SAJ会員 番号 （半角数字） | C2: 姓 （漢字） | D2: 名 （漢字） | E2: 姓 （半角ｶﾅ） | F2: 名 （半角ｶﾅ） | G2: 生年月日 （半角） | H2: 性別 (選択制) 男子：1 女子：2 | I2: 学校名 （学生のみ） | J2: 漢字氏名 (自動入力) | K2: 国名 (自動入力) | L2: 県連盟 (自動入力) | M2: SAY DHポイント （SAY記載） | N2: SAY SLポイント （SAY記載） | O2: SAY GSポイント （SAY記載） | P2: SAY SGポイント （SAY記載） | Q2: 所属 (自動入力) | R2: ｶﾅ氏名 （自動入力） | S2: 学年 (自動入力) | T2: 所属名 カナ (自動入力) | U2: 国体基準 年齢 (自動入力) | V2: マスターズ 大会 基準年齢 (自動入力) | W2: 国体予選 カテゴリ (自動入力) | X2: ポイント レース カテゴリ (自動入力) | Y2: OPENレース カテゴリ (自動入力) | Z2: Jｒ大会 カテゴリ (自動入力) | AA2: マスターズ カテゴリ (自動入力) | AB2: SAY選手 登録 (自動入力) | AC2: 傷害保険 会社名 | AD2: 傷害保険 証券番号 | AE2: マスターズ クロスカントリー のみ参加
A4: 1 | J4: =CONCATENATE(C4," ",D4) | K4: =IF(B4="","","JPN") | L4: =IF(B4="","","山梨県スキー連盟") | Q4: =IF($B4="", "",ﾄｰﾀﾙ!$B$3 ) | R4: =CONCATENATE(E4," ",F4) | S4: =IF(I4="","",VLOOKUP(U4,連盟使用!$AB$3:$AC$22,2,FALSE)) | T4: =IF($B4="", "",ﾄｰﾀﾙ!$B$4) | U4: =IF(G4="","",DATEDIF(G4,連盟使用!$AS$3,"Y")) | V4: =IF(G4="","",DATEDIF(G4,連盟使用!$AT$3,"Y")) | W4: =IF($U4="","",IF($H4=1,VLOOKUP($U4,連盟使用!$A$3:$C$100,3,FALSE),VLOOKUP($U4,連盟使用!$D$3:$F$100,3,FALSE))) | X4: =IF($U4="","",IF($H4=1,VLOOKUP($U4,連盟使用!$G$3:$I$100,3,FALSE),VLOOKUP($U4,連盟使用!$J$3:$L$100,3,FALSE))) | Y4: =IF($U4="","",IF($H4=1,VLOOKUP($U4,連盟使用!$M$3:$O$100,3,FALSE),VLOOKUP($U4,連盟使用!$P$3:$R$100,3,FALSE))) | Z4: =IF($U4="","",VLOOKUP($U4,連盟使用!$S$3:$U$100,3,FALSE)) | AA4: =IF($V4="","",IF($H4=1,VLOOKUP($V4,連盟使用!$V$3:$X$100,3,FALSE),VLOOKUP($V4,連盟使用!$Y$3:$AA$100,3,FALSE))) | AB4: =IF(U4="","",IF(AE4="○",0,IF(U4>=9,1000,500)))
A5: 2 | J5: =CONCATENATE(C5," ",D5) | K5: =IF(B5="","","JPN") | L5: =IF(B5="","","山梨県スキー連盟") | Q5: =IF($B5="", "",ﾄｰﾀﾙ!$B$3 ) | R5: =CONCATENATE(E5," ",F5) | S5: =IF(I5="","",VLOOKUP(U5,連盟使用!$AB$3:$AC$22,2,FALSE)) | T5: =IF($B5="", "",ﾄｰﾀﾙ!$B$4) | U5: =IF(G5="","",DATEDIF(G5,連盟使用!$AS$3,"Y")) | V5: =IF(G5="","",DATEDIF(G5,連盟使用!$AT$3,"Y")) | W5: =IF($U5="","",IF($H5=1,VLOOKUP($U5,連盟使用!$A$3:$C$100,3,FALSE),VLOOKUP($U5,連盟使用!$D$3:$F$100,3,FALSE))) | X5: =IF($U5="","",IF($H5=1,VLOOKUP($U5,連盟使用!$G$3:$I$100,3,FALSE),VLOOKUP($U5,連盟使用!$J$3:$L$100,3,FALSE))) | Y5: =IF($U5="","",IF($H5=1,VLOOKUP($U5,連盟使用!$M$3:$O$100,3,FALSE),VLOOKUP($U5,連盟使用!$P$3:$R$100,3,FALSE))) | Z5: =IF($U5="","",VLOOKUP($U5,連盟使用!$S$3:$U$100,3,FALSE)) | AA5: =IF($V5="","",IF($H5=1,VLOOKUP($V5,連盟使用!$V$3:$X$100,3,FALSE),VLOOKUP($V5,連盟使用!$Y$3:$AA$100,3,FALSE))) | AB5: =IF(U5="","",IF(AE5="○",0,IF(U5>=9,1000,500)))
A6: 3 | J6: =CONCATENATE(C6," ",D6) | K6: =IF(B6="","","JPN") | L6: =IF(B6="","","山梨県スキー連盟") | Q6: =IF($B6="", "",ﾄｰﾀﾙ!$B$3 ) | R6: =CONCATENATE(E6," ",F6) | S6: =IF(I6="","",VLOOKUP(U6,連盟使用!$AB$3:$AC$22,2,FALSE)) | T6: =IF($B6="", "",ﾄｰﾀﾙ!$B$4) | U6: =IF(G6="","",DATEDIF(G6,連盟使用!$AS$3,"Y")) | V6: =IF(G6="","",DATEDIF(G6,連盟使用!$AT$3,"Y")) | W6: =IF($U6="","",IF($H6=1,VLOOKUP($U6,連盟使用!$A$3:$C$100,3,FALSE),VLOOKUP($U6,連盟使用!$D$3:$F$100,3,FALSE))) | X6: =IF($U6="","",IF($H6=1,VLOOKUP($U6,連盟使用!$G$3:$I$100,3,FALSE),VLOOKUP($U6,連盟使用!$J$3:$L$100,3,FALSE))) | Y6: =IF($U6="","",IF($H6=1,VLOOKUP($U6,連盟使用!$M$3:$O$100,3,FALSE),VLOOKUP($U6,連盟使用!$P$3:$R$100,3,FALSE))) | Z6: =IF($U6="","",VLOOKUP($U6,連盟使用!$S$3:$U$100,3,FALSE)) | AA6: =IF($V6="","",IF($H6=1,VLOOKUP($V6,連盟使用!$V$3:$X$100,3,FALSE),VLOOKUP($V6,連盟使用!$Y$3:$AA$100,3,FALSE))) | AB6: =IF(U6="","",IF(AE6="○",0,IF(U6>=9,1000,500)))
A7: 4 | J7: =CONCATENATE(C7," ",D7) | K7: =IF(B7="","","JPN") | L7: =IF(B7="","","山梨県スキー連盟") | Q7: =IF($B7="", "",ﾄｰﾀﾙ!$B$3 ) | R7: =CONCATENATE(E7," ",F7) | S7: =IF(I7="","",VLOOKUP(U7,連盟使用!$AB$3:$AC$22,2,FALSE)) | T7: =IF($B7="", "",ﾄｰﾀﾙ!$B$4) | U7: =IF(G7="","",DATEDIF(G7,連盟使用!$AS$3,"Y")) | V7: =IF(G7="","",DATEDIF(G7,連盟使用!$AT$3,"Y")) | W7: =IF($U7="","",IF($H7=1,VLOOKUP($U7,連盟使用!$A$3:$C$100,3,FALSE),VLOOKUP($U7,連盟使用!$D$3:$F$100,3,FALSE))) | X7: =IF($U7="","",IF($H7=1,VLOOKUP($U7,連盟使用!$G$3:$I$100,3,FALSE),VLOOKUP($U7,連盟使用!$J$3:$L$100,3,FALSE))) | Y7: =IF($U7="","",IF($H7=1,VLOOKUP($U7,連盟使用!$M$3:$O$100,3,FALSE),VLOOKUP($U7,連盟使用!$P$3:$R$100,3,FALSE))) | Z7: =IF($U7="","",VLOOKUP($U7,連盟使用!$S$3:$U$100,3,FALSE)) | AA7: =IF($V7="","",IF($H7=1,VLOOKUP($V7,連盟使用!$V$3:$X$100,3,FALSE),VLOOKUP($V7,連盟使用!$Y$3:$AA$100,3,FALSE))) | AB7: =IF(U7="","",IF(AE7="○",0,IF(U7>=9,1000,500)))
A8: 5 | J8: =CONCATENATE(C8," ",D8) | K8: =IF(B8="","","JPN") | L8: =IF(B8="","","山梨県スキー連盟") | Q8: =IF($B8="", "",ﾄｰﾀﾙ!$B$3 ) | R8: =CONCATENATE(E8," ",F8) | S8: =IF(I8="","",VLOOKUP(U8,連盟使用!$AB$3:$AC$22,2,FALSE)) | T8: =IF($B8="", "",ﾄｰﾀﾙ!$B$4) | U8: =IF(G8="","",DATEDIF(G8,連盟使用!$AS$3,"Y")) | V8: =IF(G8="","",DATEDIF(G8,連盟使用!$AT$3,"Y")) | W8: =IF($U8="","",IF($H8=1,VLOOKUP($U8,連盟使用!$A$3:$C$100,3,FALSE),VLOOKUP($U8,連盟使用!$D$3:$F$100,3,FALSE))) | X8: =IF($U8="","",IF($H8=1,VLOOKUP($U8,連盟使用!$G$3:$I$100,3,FALSE),VLOOKUP($U8,連盟使用!$J$3:$L$100,3,FALSE))) | Y8: =IF($U8="","",IF($H8=1,VLOOKUP($U8,連盟使用!$M$3:$O$100,3,FALSE),VLOOKUP($U8,連盟使用!$P$3:$R$100,3,FALSE))) | Z8: =IF($U8="","",VLOOKUP($U8,連盟使用!$S$3:$U$100,3,FALSE)) | AA8: =IF($V8="","",IF($H8=1,VLOOKUP($V8,連盟使用!$V$3:$X$100,3,FALSE),VLOOKUP($V8,連盟使用!$Y$3:$AA$100,3,FALSE))) | AB8: =IF(U8="","",IF(AE8="○",0,IF(U8>=9,1000,500)))
A9: 6 | J9: =CONCATENATE(C9," ",D9) | K9: =IF(B9="","","JPN") | L9: =IF(B9="","","山梨県スキー連盟") | Q9: =IF($B9="", "",ﾄｰﾀﾙ!$B$3 ) | R9: =CONCATENATE(E9," ",F9) | S9: =IF(I9="","",VLOOKUP(U9,連盟使用!$AB$3:$AC$22,2,FALSE)) | T9: =IF($B9="", "",ﾄｰﾀﾙ!$B$4) | U9: =IF(G9="","",DATEDIF(G9,連盟使用!$AS$3,"Y")) | V9: =IF(G9="","",DATEDIF(G9,連盟使用!$AT$3,"Y")) | W9: =IF($U9="","",IF($H9=1,VLOOKUP($U9,連盟使用!$A$3:$C$100,3,FALSE),VLOOKUP($U9,連盟使用!$D$3:$F$100,3,FALSE))) | X9: =IF($U9="","",IF($H9=1,VLOOKUP($U9,連盟使用!$G$3:$I$100,3,FALSE),VLOOKUP($U9,連盟使用!$J$3:$L$100,3,FALSE))) | Y9: =IF($U9="","",IF($H9=1,VLOOKUP($U9,連盟使用!$M$3:$O$100,3,FALSE),VLOOKUP($U9,連盟使用!$P$3:$R$100,3,FALSE))) | Z9: =IF($U9="","",VLOOKUP($U9,連盟使用!$S$3:$U$100,3,FALSE)) | AA9: =IF($V9="","",IF($H9=1,VLOOKUP($V9,連盟使用!$V$3:$X$100,3,FALSE),VLOOKUP($V9,連盟使用!$Y$3:$AA$100,3,FALSE))) | AB9: =IF(U9="","",IF(AE9="○",0,IF(U9>=9,1000,500)))
A10: 7 | J10: =CONCATENATE(C10," ",D10) | K10: =IF(B10="","","JPN") | L10: =IF(B10="","","山梨県スキー連盟") | Q10: =IF($B10="", "",ﾄｰﾀﾙ!$B$3 ) | R10: =CONCATENATE(E10," ",F10) | S10: =IF(I10="","",VLOOKUP(U10,連盟使用!$AB$3:$AC$22,2,FALSE)) | T10: =IF($B10="", "",ﾄｰﾀﾙ!$B$4) | U10: =IF(G10="","",DATEDIF(G10,連盟使用!$AS$3,"Y")) | V10: =IF(G10="","",DATEDIF(G10,連盟使用!$AT$3,"Y")) | W10: =IF($U10="","",IF($H10=1,VLOOKUP($U10,連盟使用!$A$3:$C$100,3,FALSE),VLOOKUP($U10,連盟使用!$D$3:$F$100,3,FALSE))) | X10: =IF($U10="","",IF($H10=1,VLOOKUP($U10,連盟使用!$G$3:$I$100,3,FALSE),VLOOKUP($U10,連盟使用!$J$3:$L$100,3,FALSE))) | Y10: =IF($U10="","",IF($H10=1,VLOOKUP($U10,連盟使用!$M$3:$O$100,3,FALSE),VLOOKUP($U10,連盟使用!$P$3:$R$100,3,FALSE))) | Z10: =IF($U10="","",VLOOKUP($U10,連盟使用!$S$3:$U$100,3,FALSE)) | AA10: =IF($V10="","",IF($H10=1,VLOOKUP($V10,連盟使用!$V$3:$X$100,3,FALSE),VLOOKUP($V10,連盟使用!$Y$3:$AA$100,3,FALSE))) | AB10: =IF(U10="","",IF(AE10="○",0,IF(U10>=9,1000,500)))
A11: 8 | J11: =CONCATENATE(C11," ",D11) | K11: =IF(B11="","","JPN") | L11: =IF(B11="","","山梨県スキー連盟") | Q11: =IF($B11="", "",ﾄｰﾀﾙ!$B$3 ) | R11: =CONCATENATE(E11," ",F11) | S11: =IF(I11="","",VLOOKUP(U11,連盟使用!$AB$3:$AC$22,2,FALSE)) | T11: =IF($B11="", "",ﾄｰﾀﾙ!$B$4) | U11: =IF(G11="","",DATEDIF(G11,連盟使用!$AS$3,"Y")) | V11: =IF(G11="","",DATEDIF(G11,連盟使用!$AT$3,"Y")) | W11: =IF($U11="","",IF($H11=1,VLOOKUP($U11,連盟使用!$A$3:$C$100,3,FALSE),VLOOKUP($U11,連盟使用!$D$3:$F$100,3,FALSE))) | X11: =IF($U11="","",IF($H11=1,VLOOKUP($U11,連盟使用!$G$3:$I$100,3,FALSE),VLOOKUP($U11,連盟使用!$J$3:$L$100,3,FALSE))) | Y11: =IF($U11="","",IF($H11=1,VLOOKUP($U11,連盟使用!$M$3:$O$100,3,FALSE),VLOOKUP($U11,連盟使用!$P$3:$R$100,3,FALSE))) | Z11: =IF($U11="","",VLOOKUP($U11,連盟使用!$S$3:$U$100,3,FALSE)) | AA11: =IF($V11="","",IF($H11=1,VLOOKUP($V11,連盟使用!$V$3:$X$100,3,FALSE),VLOOKUP($V11,連盟使用!$Y$3:$AA$100,3,FALSE))) | AB11: =IF(U11="","",IF(AE11="○",0,IF(U11>=9,1000,500)))
A12: 9 | J12: =CONCATENATE(C12," ",D12) | K12: =IF(B12="","","JPN") | L12: =IF(B12="","","山梨県スキー連盟") | Q12: =IF($B12="", "",ﾄｰﾀﾙ!$B$3 ) | R12: =CONCATENATE(E12," ",F12) | S12: =IF(I12="","",VLOOKUP(U12,連盟使用!$AB$3:$AC$22,2,FALSE)) | T12: =IF($B12="", "",ﾄｰﾀﾙ!$B$4) | U12: =IF(G12="","",DATEDIF(G12,連盟使用!$AS$3,"Y")) | V12: =IF(G12="","",DATEDIF(G12,連盟使用!$AT$3,"Y")) | W12: =IF($U12="","",IF($H12=1,VLOOKUP($U12,連盟使用!$A$3:$C$100,3,FALSE),VLOOKUP($U12,連盟使用!$D$3:$F$100,3,FALSE))) | X12: =IF($U12="","",IF($H12=1,VLOOKUP($U12,連盟使用!$G$3:$I$100,3,FALSE),VLOOKUP($U12,連盟使用!$J$3:$L$100,3,FALSE))) | Y12: =IF($U12="","",IF($H12=1,VLOOKUP($U12,連盟使用!$M$3:$O$100,3,FALSE),VLOOKUP($U12,連盟使用!$P$3:$R$100,3,FALSE))) | Z12: =IF($U12="","",VLOOKUP($U12,連盟使用!$S$3:$U$100,3,FALSE)) | AA12: =IF($V12="","",IF($H12=1,VLOOKUP($V12,連盟使用!$V$3:$X$100,3,FALSE),VLOOKUP($V12,連盟使用!$Y$3:$AA$100,3,FALSE))) | AB12: =IF(U12="","",IF(AE12="○",0,IF(U12>=9,1000,500)))
A13: 10 | J13: =CONCATENATE(C13," ",D13) | K13: =IF(B13="","","JPN") | L13: =IF(B13="","","山梨県スキー連盟") | Q13: =IF($B13="", "",ﾄｰﾀﾙ!$B$3 ) | R13: =CONCATENATE(E13," ",F13) | S13: =IF(I13="","",VLOOKUP(U13,連盟使用!$AB$3:$AC$22,2,FALSE)) | T13: =IF($B13="", "",ﾄｰﾀﾙ!$B$4) | U13: =IF(G13="","",DATEDIF(G13,連盟使用!$AS$3,"Y")) | V13: =IF(G13="","",DATEDIF(G13,連盟使用!$AT$3,"Y")) | W13: =IF($U13="","",IF($H13=1,VLOOKUP($U13,連盟使用!$A$3:$C$100,3,FALSE),VLOOKUP($U13,連盟使用!$D$3:$F$100,3,FALSE))) | X13: =IF($U13="","",IF($H13=1,VLOOKUP($U13,連盟使用!$G$3:$I$100,3,FALSE),VLOOKUP($U13,連盟使用!$J$3:$L$100,3,FALSE))) | Y13: =IF($U13="","",IF($H13=1,VLOOKUP($U13,連盟使用!$M$3:$O$100,3,FALSE),VLOOKUP($U13,連盟使用!$P$3:$R$100,3,FALSE))) | Z13: =IF($U13="","",VLOOKUP($U13,連盟使用!$S$3:$U$100,3,FALSE)) | AA13: =IF($V13="","",IF($H13=1,VLOOKUP($V13,連盟使用!$V$3:$X$100,3,FALSE),VLOOKUP($V13,連盟使用!$Y$3:$AA$100,3,FALSE))) | AB13: =IF(U13="","",IF(AE13="○",0,IF(U13>=9,1000,500)))
A14: 11 | J14: =CONCATENATE(C14," ",D14) | K14: =IF(B14="","","JPN") | L14: =IF(B14="","","山梨県スキー連盟") | Q14: =IF($B14="", "",ﾄｰﾀﾙ!$B$3 ) | R14: =CONCATENATE(E14," ",F14) | S14: =IF(I14="","",VLOOKUP(U14,連盟使用!$AB$3:$AC$22,2,FALSE)) | T14: =IF($B14="", "",ﾄｰﾀﾙ!$B$4) | U14: =IF(G14="","",DATEDIF(G14,連盟使用!$AS$3,"Y")) | V14: =IF(G14="","",DATEDIF(G14,連盟使用!$AT$3,"Y")) | W14: =IF($U14="","",IF($H14=1,VLOOKUP($U14,連盟使用!$A$3:$C$100,3,FALSE),VLOOKUP($U14,連盟使用!$D$3:$F$100,3,FALSE))) | X14: =IF($U14="","",IF($H14=1,VLOOKUP($U14,連盟使用!$G$3:$I$100,3,FALSE),VLOOKUP($U14,連盟使用!$J$3:$L$100,3,FALSE))) | Y14: =IF($U14="","",IF($H14=1,VLOOKUP($U14,連盟使用!$M$3:$O$100,3,FALSE),VLOOKUP($U14,連盟使用!$P$3:$R$100,3,FALSE))) | Z14: =IF($U14="","",VLOOKUP($U14,連盟使用!$S$3:$U$100,3,FALSE)) | AA14: =IF($V14="","",IF($H14=1,VLOOKUP($V14,連盟使用!$V$3:$X$100,3,FALSE),VLOOKUP($V14,連盟使用!$Y$3:$AA$100,3,FALSE))) | AB14: =IF(U14="","",IF(AE14="○",0,IF(U14>=9,1000,500)))
A15: 12 | J15: =CONCATENATE(C15," ",D15) | K15: =IF(B15="","","JPN") | L15: =IF(B15="","","山梨県スキー連盟") | Q15: =IF($B15="", "",ﾄｰﾀﾙ!$B$3 ) | R15: =CONCATENATE(E15," ",F15) | S15: =IF(I15="","",VLOOKUP(U15,連盟使用!$AB$3:$AC$22,2,FALSE)) | T15: =IF($B15="", "",ﾄｰﾀﾙ!$B$4) | U15: =IF(G15="","",DATEDIF(G15,連盟使用!$AS$3,"Y")) | V15: =IF(G15="","",DATEDIF(G15,連盟使用!$AT$3,"Y")) | W15: =IF($U15="","",IF($H15=1,VLOOKUP($U15,連盟使用!$A$3:$C$100,3,FALSE),VLOOKUP($U15,連盟使用!$D$3:$F$100,3,FALSE))) | X15: =IF($U15="","",IF($H15=1,VLOOKUP($U15,連盟使用!$G$3:$I$100,3,FALSE),VLOOKUP($U15,連盟使用!$J$3:$L$100,3,FALSE))) | Y15: =IF($U15="","",IF($H15=1,VLOOKUP($U15,連盟使用!$M$3:$O$100,3,FALSE),VLOOKUP($U15,連盟使用!$P$3:$R$100,3,FALSE))) | Z15: =IF($U15="","",VLOOKUP($U15,連盟使用!$S$3:$U$100,3,FALSE)) | AA15: =IF($V15="","",IF($H15=1,VLOOKUP($V15,連盟使用!$V$3:$X$100,3,FALSE),VLOOKUP($V15,連盟使用!$Y$3:$AA$100,3,FALSE))) | AB15: =IF(U15="","",IF(AE15="○",0,IF(U15>=9,1000,500)))
... A78: 75 | J78: =CONCATENATE(C78," ",D78) | K78: =IF(B78="","","JPN") | L78: =IF(B78="","","山梨県スキー連盟") | Q78: =IF($B78="", "",ﾄｰﾀﾙ!$B$3 ) | R78: =CONCATENATE(E78," ",F78) | S78: =IF(I78="","",VLOOKUP(U78,連盟使用!$AB$3:$AC$22,2,FALSE)) | T78: =IF($B78="", "",ﾄｰﾀﾙ!$B$4) | U78: =IF(G78="","",DATEDIF(G78,連盟使用!$AS$3,"Y")) | V78: =IF(G78="","",DATEDIF(G78,連盟使用!$AT$3,"Y")) | W78: =IF($U78="","",IF($H78=1,VLOOKUP($U78,連盟使用!$A$3:$C$100,3,FALSE),VLOOKUP($U78,連盟使用!$D$3:$F$100,3,FALSE))) | X78: =IF($U78="","",IF($H78=1,VLOOKUP($U78,連盟使用!$G$3:$I$100,3,FALSE),VLOOKUP($U78,連盟使用!$J$3:$L$100,3,FALSE))) | Y78: =IF($U78="","",IF($H78=1,VLOOKUP($U78,連盟使用!$M$3:$O$100,3,FALSE),VLOOKUP($U78,連盟使用!$P$3:$R$100,3,FALSE))) | Z78: =IF($U78="","",VLOOKUP($U78,連盟使用!$S$3:$U$100,3,FALSE)) | AA78: =IF($V78="","",IF($H78=1,VLOOKUP($V78,連盟使用!$V$3:$X$100,3,FALSE),VLOOKUP($V78,連盟使用!$Y$3:$AA$100,3,FALSE))) | AB78: =IF(U78="","",IF(AE78="○",0,IF(U78>=9,1000,500)))
AB79: =SUM(AB4:AB78) -> 0

Sheet エントリー
A1: 個表欄 | AT1: エントリー
AT2: 45298 | AV2: 45299 | AX2: 45299 | AZ2: 45312 | BB2: 45312
AT3: 種別 | AU3: OPEN | AV3: 種別 | AW3: 国体 | AX3: 種別 | AY3: 通常 | AZ3: 種別 | BA3: MS | BB3: 種別 | BC3: Jr | BD3: 種別 | BF3: 種別 | BH3: 種別 | BJ3: 種別 | BL3: 種別 | BN3: 種別 | BP3: 種別 | BR3: 種別 | BT3: 種別 | BV3: 種別 | BX3: 種別 | BZ3: 種別 | CB3: 種別 | CD3: 種別 | CF3: 種別
A4: <NO> | B4: SAJ会員 番号 （半角数字） | C4: 空欄 | D4: 空欄 | E4: 漢字氏名 (自動入力) | F4: 国名 (自動入力) | G4: 県連盟 (自動入力) | H4: 空欄 | I4: 空欄 | J4: 空欄 | K4: 空欄 | L4: SAY DHポイント (自動入力) | M4: SAY SLポイント (自動入力) | N4: SAY GSポイント (自動入力) | O4: SAY SGポイント (自動入力) | P4: 所属 (自動入力) | Q4: 生年月日 (自動入力) | R4: 空欄 | S4: ｶﾅ氏名 （自動入力） | T4: 学年 (自動入力) | U4: 空欄 | V4: 姓 （自動入力） | W4: 名 （自動入力） | X4: 姓 (自動入力) | Y4: 名 (自動入力) | Z4: 空欄 | AA4: 空欄 | AB4: 空欄 | AC4: 空欄 | AD4: 空欄 | AE4: 性別 (選択制) 男子：1 女子：2 | AF4: 空欄 | AG4: 空欄 | AH4: 空欄 | AI4: 所属名 カナ (自動入力) | AJ4: 空欄 | AK4: 空欄 | AL4: 学校名 （自動入力） | AM4: 国体基準 年齢 (自動入力) | AN4: マスターズ 大会 基準年齢 (自動入力) | AO4: 国体予選 カテゴリ (自動入力) | AP4: ポイント レース カテゴリ (自動入力) | AQ4: OPENレース カテゴリ (自動入力) | AR4: Jｒ大会 カテゴリ (自動入力) | AS4: マスターズ カテゴリ (自動入力) | AT4: 山梨OPEN GS 第1戦 兼中学選手権 | AV4: 第78回 国体予選 GS | AX4: 第76回 SL選手権 兼中学校選手権 | AZ4: 全日本マスターズ予選会 | BB4: 小中学生GS大会
AT5: 出場 | AU5: 金額 (自動計算) | AV5: 出場 | AW5: 金額 (自動計算) | AX5: 出場 | AY5: 金額 (自動計算) | AZ5: 出場 | BA5: 金額 (自動計算) | BB5: 出場 | BC5: 金額 (自動計算) | BD5: 出場 | BE5: 金額 (自動計算) | BF5: 出場 | BG5: 金額 (自動計算) | BH5: 出場 | BI5: 金額 (自動計算) | BJ5: 出場 | BK5: 金額 (自動計算) | BL5: 出場 | BM5: 金額 (自動計算) | BN5: 出場 | BO5: 金額 (自動計算) | BP5: 出場 | BQ5: 金額 (自動計算) | BR5: 出場 | BS5: 金額 (自動計算) | BT5: 出場 | BU5: 金額 (自動計算) | BV5: 出場 | BW5: 金額 (自動計算) | BX5: 出場 | BY5: 金額 (自動計算) | BZ5: 出場 | CA5: 金額 (自動計算) | CB5: 出場 | CC5: 金額 (自動計算) | CD5: 出場 | CE5: 金額 (自動計算) | CF5: 出場 | CG5: 金額 (自動計算) | CH5: 総合計金額
A6: =IF(個表!A4="","",個表!A4) -> 1 | B6: =IF(個表!B4="","",個表!B4) | E6: =IF(個表!J4="","",個表!J4) | F6: =IF(個表!K4="","",個表!K4) | G6: =IF(個表!L4="","",個表!L4) | L6: =IF(個表!M4="","",個表!M4) | M6: =IF(個表!N4="","",個表!N4) | N6: =IF(個表!O4="","",個表!O4) | O6: =IF(個表!P4="","",個表!P4) | P6: =IF(個表!Q4="","",個表!Q4) | Q6: =IF(個表!G4="","",個表!G4) | S6: =IF(個表!R4="","",個表!R4) | T6: =IF(個表!S4="","",個表!S4) | V6: =IF(個表!C4="","",個表!C4) | W6: =IF(個表!D4="","",個表!D4) | X6: =IF(個表!E4="","",個表!E4) | Y6: =IF(個表!F4="","",個表!F4) | AE6: =IF(個表!H4="","",個表!H4) | AI6: =IF(個表!T4="","",個表!T4) | AL6: =IF(個表!I4="","",個表!I4) | AM6: =IF(個表!U4="","",個表!U4) | AN6: =IF(個表!V4="","",個表!V4) | AO6: =IF(個表!W4="","",個表!W4) | AP6: =IF(個表!X4="","",個表!X4) | AQ6: =IF(個表!Y4="","",個表!Y4) | AR6: =IF(個表!Z4="","",個表!Z4) | AS6: =IF(個表!AA4="","",個表!AA4) | AU6: =IF(AT6="","",IF(AND(AT6="○",AU$3="国体"),VLOOKUP($AM6,連盟使用!$AN$3:$AO$100,2,FALSE),IF(AND(AT6="○",AU$3="通常",AU$1="通常・OPEN"),VLOOKUP($AM6,連盟使用!$AF$3:$AG$100,2,FALSE),IF(AND(AT6="○",AU$3="通常"),VLOOKUP($AM6,連盟使用!$AD$3:$AE$100,2,FALSE),IF(AT6="△",10000,IF(AND(AT6="○",AU$3="OPEN"),VLOOKUP($AM6,連盟使用!$AF$3:$AG$100,2,FALSE),IF(AND(AT6="○",AU$3="Jr",AU$1="Jrふじてん"),VLOOKUP($AM6,連盟使用!$AP$3:$AQ$100,2,FALSE),IF(AND(AT6="○",AU$3="Jr"),VLOOKUP($AM6,連盟使用!$AH$3:$AI$100,2,FALSE),IF(AND(AT6="○",AU$3="MS",$AE6=1),VLOOKUP($AN6,連盟使用!$AJ$3:$AK$100,2,FALSE),VLOOKUP($AN6,連盟使用!$AL$3:$AM$100,2,FALSE)))))))))) | AW6: =IF(AV6="","",IF(AND(AV6="○",AW$3="国体"),VLOOKUP($AM6,連盟使用!$AN$3:$AO$100,2,FALSE),IF(AND(AV6="○",AW$3="通常",AW$1="通常・OPEN"),VLOOKUP($AM6,連盟使用!$AF$3:$AG$100,2,FALSE),IF(AND(AV6="○",AW$3="通常"),VLOOKUP($AM6,連盟使用!$AD$3:$AE$100,2,FALSE),IF(AV6="△",10000,IF(AND(AV6="○",AW$3="OPEN"),VLOOKUP($AM6,連盟使用!$AF$3:$AG$100,2,FALSE),IF(AND(AV6="○",AW$3="Jr",AW$1="Jrふじてん"),VLOOKUP($AM6,連盟使用!$AP$3:$AQ$100,2,FALSE),IF(AND(AV6="○",AW$3="Jr"),VLOOKUP($AM6,連盟使用!$AH$3:$AI$100,2,FALSE),IF(AND(AV6="○",AW$3="MS",$AE6=1),VLOOKUP($AN6,連盟使用!$AJ$3:$AK$100,2,FALSE),VLOOKUP($AN6,連盟使用!$AL$3:$AM$100,2,FALSE)))))))))) | AY6: =IF(AX6="","",IF(AND(AX6="○",AY$3="国体"),VLOOKUP($AM6,連盟使用!$AN$3:$AO$100,2,FALSE),IF(AND(AX6="○",AY$3="通常",AY$1="通常・OPEN"),VLOOKUP($AM6,連盟使用!$AF$3:$AG$100,2,FALSE),IF(AND(AX6="○",AY$3="通常"),VLOOKUP($AM6,連盟使用!$AD$3:$AE$100,2,FALSE),IF(AX6="△",10000,IF(AND(AX6="○",AY$3="OPEN"),VLOOKUP($AM6,連盟使用!$AF$3:$AG$100,2,FALSE),IF(AND(AX6="○",AY$3="Jr",AY$1="Jrふじてん"),VLOOKUP($AM6,連盟使用!$AP$3:$AQ$100,2,FALSE),IF(AND(AX6="○",AY$3="Jr"),VLOOKUP($AM6,連盟使用!$AH$3:$AI$100,2,FALSE),IF(AND(AX6="○",AY$3="MS",$AE6=1),VLOOKUP($AN6,連盟使用!$AJ$3:$AK$100,2,FALSE),VLOOKUP($AN6,連盟使用!$AL$3:$AM$100,2,FALSE)))))))))) | BA6: =IF(AZ6="","",IF(AND(AZ6="○",BA$3="国体"),VLOOKUP($AM6,連盟使用!$AN$3:$AO$100,2,FALSE),IF(AND(AZ6="○",BA$3="通常",BA$1="通常・OPEN"),VLOOKUP($AM6,連盟使用!$AF$3:$AG$100,2,FALSE),IF(AND(AZ6="○",BA$3="通常"),VLOOKUP($AM6,連盟使用!$AD$3:$AE$100,2,FALSE),IF(AZ6="△",10000,IF(AND(AZ6="○",BA$3="OPEN"),VLOOKUP($AM6,連盟使用!$AF$3:$AG$100,2,FALSE),IF(AND(AZ6="○",BA$3="Jr",BA$1="Jrふじてん"),VLOOKUP($AM6,連盟使用!$AP$3:$AQ$100,2,FALSE),IF(AND(AZ6="○",BA$3="Jr"),VLOOKUP($AM6,連盟使用!$AH$3:$AI$100,2,FALSE),IF(AND(AZ6="○",BA$3="MS",$AE6=1),VLOOKUP($AN6,連盟使用!$AJ$3:$AK$100,2,FALSE),VLOOKUP($AN6,連盟使用!$AL$3:$AM$100,2,FALSE)))))))))) | BC6: =IF(BB6="","",IF(AND(BB6="○",BC$3="国体"),VLOOKUP($AM6,連盟使用!$AN$3:$AO$100,2,FALSE),IF(AND(BB6="○",BC$3="通常",BC$1="通常・OPEN"),VLOOKUP($AM6,連盟使用!$AF$3:$AG$100,2,FALSE),IF(AND(BB6="○",BC$3="通常"),VLOOKUP($AM6,連盟使用!$AD$3:$AE$100,2,FALSE),IF(BB6="△",10000,IF(AND(BB6="○",BC$3="OPEN"),VLOOKUP($AM6,連盟使用!$AF$3:$AG$100,2,FALSE),IF(AND(BB6="○",BC$3="Jr",BC$1="Jrふじてん"),VLOOKUP($AM6,連盟使用!$AP$3:$AQ$100,2,FALSE),IF(AND(BB6="○",BC$3="Jr"),VLOOKUP($AM6,連盟使用!$AH$3:$AI$100,2,FALSE),IF(AND(BB6="○",BC$3="MS",$AE6=1),VLOOKUP($AN6,連盟使用!$AJ$3:$AK$100,2,FALSE),VLOOKUP($AN6,連盟使用!$AL$3:$AM$100,2,FALSE)))))))))) | BE6: =IF(BD6="","",IF(AND(BD6="○",BE$3="国体"),VLOOKUP($AM6,連盟使用!$AN$3:$AO$100,2,FALSE),IF(AND(BD6="○",BE$3="通常",BE$1="通常・OPEN"),VLOOKUP($AM6,連盟使用!$AF$3:$AG$100,2,FALSE),IF(AND(BD6="○",BE$3="通常"),VLOOKUP($AM6,連盟使用!$AD$3:$AE$100,2,FALSE),IF(BD6="△",10000,IF(AND(BD6="○",BE$3="OPEN"),VLOOKUP($AM6,連盟使用!$AF$3:$AG$100,2,FALSE),IF(AND(BD6="○",BE$3="Jr",BE$1="Jrふじてん"),VLOOKUP($AM6,連盟使用!$AP$3:$AQ$100,2,FALSE),IF(AND(BD6="○",BE$3="Jr"),VLOOKUP($AM6,連盟使用!$AH$3:$AI$100,2,FALSE),IF(AND(BD6="○",BE$3="MS",$AE6=1),VLOOKUP($AN6,連盟使用!$AJ$3:$AK$100,2,FALSE),VLOOKUP($AN6,連盟使用!$AL$3:$AM$100,2,FALSE)))))))))) | BG6: =IF(BF6="","",IF(AND(BF6="○",BG$3="国体"),VLOOKUP($AM6,連盟使用!$AN$3:$AO$100,2,FALSE),IF(AND(BF6="○",BG$3="通常",BG$1="通常・OPEN"),VLOOKUP($AM6,連盟使用!$AF$3:$AG$100,2,FALSE),IF(AND(BF6="○",BG$3="通常"),VLOOKUP($AM6,連盟使用!$AD$3:$AE$100,2,FALSE),IF(BF6="△",10000,IF(AND(BF6="○",BG$3="OPEN"),VLOOKUP($AM6,連盟使用!$AF$3:$AG$100,2,FALSE),IF(AND(BF6="○",BG$3="Jr",BG$1="Jrふじてん"),VLOOKUP($AM6,連盟使用!$AP$3:$AQ$100,2,FALSE),IF(AND(BF6="○",BG$3="Jr"),VLOOKUP($AM6,連盟使用!$AH$3:$AI$100,2,FALSE),IF(AND(BF6="○",BG$3="MS",$AE6=1),VLOOKUP($AN6,連盟使用!$AJ$3:$AK$100,2,FALSE),VLOOKUP($AN6,連盟使用!$AL$3:$AM$100,2,FALSE)))))))))) | BI6: =IF(BH6="","",IF(AND(BH6="○",BI$3="国体"),VLOOKUP($AM6,連盟使用!$AN$3:$AO$100,2,FALSE),IF(AND(BH6="○",BI$3="通常",BI$1="通常・OPEN"),VLOOKUP($AM6,連盟使用!$AF$3:$AG$100,2,FALSE),IF(AND(BH6="○",BI$3="通常"),VLOOKUP($AM6,連盟使用!$AD$3:$AE$100,2,FALSE),IF(BH6="△",10000,IF(AND(BH6="○",BI$3="OPEN"),VLOOKUP($AM6,連盟使用!$AF$3:$AG$100,2,FALSE),IF(AND(BH6="○",BI$3="Jr",BI$1="Jrふじてん"),VLOOKUP($AM6,連盟使用!$AP$3:$AQ$100,2,FALSE),IF(AND(BH6="○",BI$3="Jr"),VLOOKUP($AM6,連盟使用!$AH$3:$AI$100,2,FALSE),IF(AND(BH6="○",BI$3="MS",$AE6=1),VLOOKUP($AN6,連盟使用!$AJ$3:$AK$100,2,FALSE),VLOOKUP($AN6,連盟使用!$AL$3:$AM$100,2,FALSE)))))))))) | BK6: =IF(BJ6="","",IF(AND(BJ6="○",BK$3="国体"),VLOOKUP($AM6,連盟使用!$AN$3:$AO$100,2,FALSE),IF(AND(BJ6="○",BK$3="通常",BK$1="通常・OPEN"),VLOOKUP($AM6,連盟使用!$AF$3:$AG$100,2,FALSE),IF(AND(BJ6="○",BK$3="通常"),VLOOKUP($AM6,連盟使用!$AD$3:$AE$100,2,FALSE),IF(BJ6="△",10000,IF(AND(BJ6="○",BK$3="OPEN"),VLOOKUP($AM6,連盟使用!$AF$3:$AG$100,2,FALSE),IF(AND(BJ6="○",BK$3="Jr",BK$1="Jrふじてん"),VLOOKUP($AM6,連盟使用!$AP$3:$AQ$100,2,FALSE),IF(AND(BJ6="○",BK$3="Jr"),VLOOKUP($AM6,連盟使用!$AH$3:$AI$100,2,FALSE),IF(AND(BJ6="○",BK$3="MS",$AE6=1),VLOOKUP($AN6,連盟使用!$AJ$3:$AK$100,2,FALSE),VLOOKUP($AN6,連盟使用!$AL$3:$AM$100,2,FALSE)))))))))) | BM6: =IF(BL6="","",IF(AND(BL6="○",BM$3="国体"),VLOOKUP($AM6,連盟使用!$AN$3:$AO$100,2,FALSE),IF(AND(BL6="○",BM$3="通常",BM$1="通常・OPEN"),VLOOKUP($AM6,連盟使用!$AF$3:$AG$100,2,FALSE),IF(AND(BL6="○",BM$3="通常"),VLOOKUP($AM6,連盟使用!$AD$3:$AE$100,2,FALSE),IF(BL6="△",10000,IF(AND(BL6="○",BM$3="OPEN"),VLOOKUP($AM6,連盟使用!$AF$3:$AG$100,2,FALSE),IF(AND(BL6="○",BM$3="Jr",BM$1="Jrふじてん"),VLOOKUP($AM6,連盟使用!$AP$3:$AQ$100,2,FALSE),IF(AND(BL6="○",BM$3="Jr"),VLOOKUP($AM6,連盟使用!$AH$3:$AI$100,2,FALSE),IF(AND(BL6="○",BM$3="MS",$AE6=1),VLOOKUP($AN6,連盟使用!$AJ$3:$AK$100,2,FALSE),VLOOKUP($AN6,連盟使用!$AL$3:$AM$100,2,FALSE)))))))))) | BO6: =IF(BN6="","",IF(AND(BN6="○",BO$3="国体"),VLOOKUP($AM6,連盟使用!$AN$3:$AO$100,2,FALSE),IF(AND(BN6="○",BO$3="通常",BO$1="通常・OPEN"),VLOOKUP($AM6,連盟使用!$AF$3:$AG$100,2,FALSE),IF(AND(BN6="○",BO$3="通常"),VLOOKUP($AM6,連盟使用!$AD$3:$AE$100,2,FALSE),IF(BN6="△",10000,IF(AND(BN6="○",BO$3="OPEN"),VLOOKUP($AM6,連盟使用!$AF$3:$AG$100,2,FALSE),IF(AND(BN6="○",BO$3="Jr",BO$1="Jrふじてん"),VLOOKUP($AM6,連盟使用!$AP$3:$AQ$100,2,FALSE),IF(AND(BN6="○",BO$3="Jr"),VLOOKUP($AM6,連盟使用!$AH$3:$AI$100,2,FALSE),IF(AND(BN6="○",BO$3="MS",$AE6=1),VLOOKUP($AN6,連盟使用!$AJ$3:$AK$100,2,FALSE),VLOOKUP($AN6,連盟使用!$AL$3:$AM$100,2,FALSE)))))))))) | BQ6: =IF(BP6="","",IF(AND(BP6="○",BQ$3="国体"),VLOOKUP($AM6,連盟使用!$AN$3:$AO$100,2,FALSE),IF(AND(BP6="○",BQ$3="通常",BQ$1="通常・OPEN"),VLOOKUP($AM6,連盟使用!$AF$3:$AG$100,2,FALSE),IF(AND(BP6="○",BQ$3="通常"),VLOOKUP($AM6,連盟使用!$AD$3:$AE$100,2,FALSE),IF(BP6="△",10000,IF(AND(BP6="○",BQ$3="OPEN"),VLOOKUP($AM6,連盟使用!$AF$3:$AG$100,2,FALSE),IF(AND(BP6="○",BQ$3="Jr",BQ$1="Jrふじてん"),VLOOKUP($AM6,連盟使用!$AP$3:$AQ$100,2,FALSE),IF(AND(BP6="○",BQ$3="Jr"),VLOOKUP($AM6,連盟使用!$AH$3:$AI$100,2,FALSE),IF(AND(BP6="○",BQ$3="MS",$AE6=1),VLOOKUP($AN6,連盟使用!$AJ$3:$AK$100,2,FALSE),VLOOKUP($AN6,連盟使用!$AL$3:$AM$100,2,FALSE)))))))))) | BS6: =IF(BR6="","",IF(AND(BR6="○",BS$3="国体"),VLOOKUP($AM6,連盟使用!$AN$3:$AO$100,2,FALSE),IF(AND(BR6="○",BS$3="通常",BS$1="通常・OPEN"),VLOOKUP($AM6,連盟使用!$AF$3:$AG$100,2,FALSE),IF(AND(BR6="○",BS$3="通常"),VLOOKUP($AM6,連盟使用!$AD$3:$AE$100,2,FALSE),IF(BR6="△",10000,IF(AND(BR6="○",BS$3="OPEN"),VLOOKUP($AM6,連盟使用!$AF$3:$AG$100,2,FALSE),IF(AND(BR6="○",BS$3="Jr",BS$1="Jrふじてん"),VLOOKUP($AM6,連盟使用!$AP$3:$AQ$100,2,FALSE),IF(AND(BR6="○",BS$3="Jr"),VLOOKUP($AM6,連盟使用!$AH$3:$AI$100,2,FALSE),IF(AND(BR6="○",BS$3="MS",$AE6=1),VLOOKUP($AN6,連盟使用!$AJ$3:$AK$100,2,FALSE),VLOOKUP($AN6,連盟使用!$AL$3:$AM$100,2,FALSE)))))))))) | BU6: =IF(BT6="","",IF(AND(BT6="○",BU$3="国体"),VLOOKUP($AM6,連盟使用!$AN$3:$AO$100,2,FALSE),IF(AND(BT6="○",BU$3="通常",BU$1="通常・OPEN"),VLOOKUP($AM6,連盟使用!$AF$3:$AG$100,2,FALSE),IF(AND(BT6="○",BU$3="通常"),VLOOKUP($AM6,連盟使用!$AD$3:$AE$100,2,FALSE),IF(BT6="△",10000,IF(AND(BT6="○",BU$3="OPEN"),VLOOKUP($AM6,連盟使用!$AF$3:$AG$100,2,FALSE),IF(AND(BT6="○",BU$3="Jr",BU$1="Jrふじてん"),VLOOKUP($AM6,連盟使用!$AP$3:$AQ$100,2,FALSE),IF(AND(BT6="○",BU$3="Jr"),VLOOKUP($AM6,連盟使用!$AH$3:$AI$100,2,FALSE),IF(AND(BT6="○",BU$3="MS",$AE6=1),VLOOKUP($AN6,連盟使用!$AJ$3:$AK$100,2,FALSE),VLOOKUP($AN6,連盟使用!$AL$3:$AM$100,2,FALSE)))))))))) | BW6: =IF(BV6="","",IF(AND(BV6="○",BW$3="国体"),VLOOKUP($AM6,連盟使用!$AN$3:$AO$100,2,FALSE),IF(AND(BV6="○",BW$3="通常",BW$1="通常・OPEN"),VLOOKUP($AM6,連盟使用!$AF$3:$AG$100,2,FALSE),IF(AND(BV6="○",BW$3="通常"),VLOOKUP($AM6,連盟使用!$AD$3:$AE$100,2,FALSE),IF(BV6="△",10000,IF(AND(BV6="○",BW$3="OPEN"),VLOOKUP($AM6,連盟使用!$AF$3:$AG$100,2,FALSE),IF(AND(BV6="○",BW$3="Jr",BW$1="Jrふじてん"),VLOOKUP($AM6,連盟使用!$AP$3:$AQ$100,2,FALSE),IF(AND(BV6="○",BW$3="Jr"),VLOOKUP($AM6,連盟使用!$AH$3:$AI$100,2,FALSE),IF(AND(BV6="○",BW$3="MS",$AE6=1),VLOOKUP($AN6,連盟使用!$AJ$3:$AK$100,2,FALSE),VLOOKUP($AN6,連盟使用!$AL$3:$AM$100,2,FALSE)))))))))) | BY6: =IF(BX6="","",IF(AND(BX6="○",BY$3="国体"),VLOOKUP($AM6,連盟使用!$AN$3:$AO$100,2,FALSE),IF(AND(BX6="○",BY$3="通常",BY$1="通常・OPEN"),VLOOKUP($AM6,連盟使用!$AF$3:$AG$100,2,FALSE),IF(AND(BX6="○",BY$3="通常"),VLOOKUP($AM6,連盟使用!$AD$3:$AE$100,2,FALSE),IF(BX6="△",10000,IF(AND(BX6="○",BY$3="OPEN"),VLOOKUP($AM6,連盟使用!$AF$3:$AG$100,2,FALSE),IF(AND(BX6="○",BY$3="Jr",BY$1="Jrふじてん"),VLOOKUP($AM6,連盟使用!$AP$3:$AQ$100,2,FALSE),IF(AND(BX6="○",BY$3="Jr"),VLOOKUP($AM6,連盟使用!$AH$3:$AI$100,2,FALSE),IF(AND(BX6="○",BY$3="MS",$AE6=1),VLOOKUP($AN6,連盟使用!$AJ$3:$AK$100,2,FALSE),VLOOKUP($AN6,連盟使用!$AL$3:$AM$100,2,FALSE)))))))))) | CA6: =IF(BZ6="","",IF(AND(BZ6="○",CA$3="国体"),VLOOKUP($AM6,連盟使用!$AN$3:$AO$100,2,FALSE),IF(AND(BZ6="○",CA$3="通常",CA$1="通常・OPEN"),VLOOKUP($AM6,連盟使用!$AF$3:$AG$100,2,FALSE),IF(AND(BZ6="○",CA$3="通常"),VLOOKUP($AM6,連盟使用!$AD$3:$AE$100,2,FALSE),IF(BZ6="△",10000,IF(AND(BZ6="○",CA$3="OPEN"),VLOOKUP($AM6,連盟使用!$AF$3:$AG$100,2,FALSE),IF(AND(BZ6="○",CA$3="Jr",CA$1="Jrふじてん"),VLOOKUP($AM6,連盟使用!$AP$3:$AQ$100,2,FALSE),IF(AND(BZ6="○",CA$3="Jr"),VLOOKUP($AM6,連盟使用!$AH$3:$AI$100,2,FALSE),IF(AND(BZ6="○",CA$3="MS",$AE6=1),VLOOKUP($AN6,連盟使用!$AJ$3:$AK$100,2,FALSE),VLOOKUP($AN6,連盟使用!$AL$3:$AM$100,2,FALSE)))))))))) | CC6: =IF(CB6="","",IF(AND(CB6="○",CC$3="国体"),VLOOKUP($AM6,連盟使用!$AN$3:$AO$100,2,FALSE),IF(AND(CB6="○",CC$3="通常",CC$1="通常・OPEN"),VLOOKUP($AM6,連盟使用!$AF$3:$AG$100,2,FALSE),IF(AND(CB6="○",CC$3="通常"),VLOOKUP($AM6,連盟使用!$AD$3:$AE$100,2,FALSE),IF(CB6="△",10000,IF(AND(CB6="○",CC$3="OPEN"),VLOOKUP($AM6,連盟使用!$AF$3:$AG$100,2,FALSE),IF(AND(CB6="○",CC$3="Jr",CC$1="Jrふじてん"),VLOOKUP($AM6,連盟使用!$AP$3:$AQ$100,2,FALSE),IF(AND(CB6="○",CC$3="Jr"),VLOOKUP($AM6,連盟使用!$AH$3:$AI$100,2,FALSE),IF(AND(CB6="○",CC$3="MS",$AE6=1),VLOOKUP($AN6,連盟使用!$AJ$3:$AK$100,2,FALSE),VLOOKUP($AN6,連盟使用!$AL$3:$AM$100,2,FALSE)))))))))) | CE6: =IF(CD6="","",IF(AND(CD6="○",CE$3="国体"),VLOOKUP($AM6,連盟使用!$AN$3:$AO$100,2,FALSE),IF(AND(CD6="○",CE$3="通常",CE$1="通常・OPEN"),VLOOKUP($AM6,連盟使用!$AF$3:$AG$100,2,FALSE),IF(AND(CD6="○",CE$3="通常"),VLOOKUP($AM6,連盟使用!$AD$3:$AE$100,2,FALSE),IF(CD6="△",10000,IF(AND(CD6="○",CE$3="OPEN"),VLOOKUP($AM6,連盟使用!$AF$3:$AG$100,2,FALSE),IF(AND(CD6="○",CE$3="Jr",CE$1="Jrふじてん"),VLOOKUP($AM6,連盟使用!$AP$3:$AQ$100,2,FALSE),IF(AND(CD6="○",CE$3="Jr"),VLOOKUP($AM6,連盟使用!$AH$3:$AI$100,2,FALSE),IF(AND(CD6="○",CE$3="MS",$AE6=1),VLOOKUP($AN6,連盟使用!$AJ$3:$AK$100,2,FALSE),VLOOKUP($AN6,連盟使用!$AL$3:$AM$100,2,FALSE)))))))))) | CG6: =IF(CF6="","",IF(AND(CF6="○",CG$3="国体"),VLOOKUP($AM6,連盟使用!$AN$3:$AO$100,2,FALSE),IF(AND(CF6="○",CG$3="通常",CG$1="通常・OPEN"),VLOOKUP($AM6,連盟使用!$AF$3:$AG$100,2,FALSE),IF(AND(CF6="○",CG$3="通常"),VLOOKUP($AM6,連盟使用!$AD$3:$AE$100,2,FALSE),IF(CF6="△",10000,IF(AND(CF6="○",CG$3="OPEN"),VLOOKUP($AM6,連盟使用!$AF$3:$AG$100,2,FALSE),IF(AND(CF6="○",CG$3="Jr",CG$1="Jrふじてん"),VLOOKUP($AM6,連盟使用!$AP$3:$AQ$100,2,FALSE),IF(AND(CF6="○",CG$3="Jr"),VLOOKUP($AM6,連盟使用!$AH$3:$AI$100,2,FALSE),IF(AND(CF6="○",CG$3="MS",$AE6=1),VLOOKUP($AN6,連盟使用!$AJ$3:$AK$100,2,FALSE),VLOOKUP($AN6,連盟使用!$AL$3:$AM$100,2,FALSE)))))))))) | CH6: =SUM(AT6:CG6) -> 0
A7: =IF(個表!A5="","",個表!A5) -> 2 | B7: =IF(個表!B5="","",個表!B5) | E7: =IF(個表!J5="","",個表!J5) | F7: =IF(個表!K5="","",個表!K5) | G7: =IF(個表!L5="","",個表!L5) | L7: =IF(個表!M5="","",個表!M5) | M7: =IF(個表!N5="","",個表!N5) | N7: =IF(個表!O5="","",個表!O5) | O7: =IF(個表!P5="","",個表!P5) | P7: =IF(個表!Q5="","",個表!Q5) | Q7: =IF(個表!G5="","",個表!G5) | S7: =IF(個表!R5="","",個表!R5) | T7: =IF(個表!S5="","",個表!S5) | V7: =IF(個表!C5="","",個表!C5) | W7: =IF(個表!D5="","",個表!D5) | X7: =IF(個表!E5="","",個表!E5) | Y7: =IF(個表!F5="","",個表!F5) | AE7: =IF(個表!H5="","",個表!H5) | AI7: =IF(個表!T5="","",個表!T5) | AL7: =IF(個表!I5="","",個表!I5) | AM7: =IF(個表!U5="","",個表!U5) | AN7: =IF(個表!V5="","",個表!V5) | AO7: =IF(個表!W5="","",個表!W5) | AP7: =IF(個表!X5="","",個表!X5) | AQ7: =IF(個表!Y5="","",個表!Y5) | AR7: =IF(個表!Z5="","",個表!Z5) | AS7: =IF(個表!AA5="","",個表!AA5) | AU7: =IF(AT7="","",IF(AND(AT7="○",AU$3="国体"),VLOOKUP($AM7,連盟使用!$AN$3:$AO$100,2,FALSE),IF(AND(AT7="○",AU$3="通常",AU$1="通常・OPEN"),VLOOKUP($AM7,連盟使用!$AF$3:$AG$100,2,FALSE),IF(AND(AT7="○",AU$3="通常"),VLOOKUP($AM7,連盟使用!$AD$3:$AE$100,2,FALSE),IF(AT7="△",10000,IF(AND(AT7="○",AU$3="OPEN"),VLOOKUP($AM7,連盟使用!$AF$3:$AG$100,2,FALSE),IF(AND(AT7="○",AU$3="Jr",AU$1="Jrふじてん"),VLOOKUP($AM7,連盟使用!$AP$3:$AQ$100,2,FALSE),IF(AND(AT7="○",AU$3="Jr"),VLOOKUP($AM7,連盟使用!$AH$3:$AI$100,2,FALSE),IF(AND(AT7="○",AU$3="MS",$AE7=1),VLOOKUP($AN7,連盟使用!$AJ$3:$AK$100,2,FALSE),VLOOKUP($AN7,連盟使用!$AL$3:$AM$100,2,FALSE)))))))))) | AW7: =IF(AV7="","",IF(AND(AV7="○",AW$3="国体"),VLOOKUP($AM7,連盟使用!$AN$3:$AO$100,2,FALSE),IF(AND(AV7="○",AW$3="通常",AW$1="通常・OPEN"),VLOOKUP($AM7,連盟使用!$AF$3:$AG$100,2,FALSE),IF(AND(AV7="○",AW$3="通常"),VLOOKUP($AM7,連盟使用!$AD$3:$AE$100,2,FALSE),IF(AV7="△",10000,IF(AND(AV7="○",AW$3="OPEN"),VLOOKUP($AM7,連盟使用!$AF$3:$AG$100,2,FALSE),IF(AND(AV7="○",AW$3="Jr",AW$1="Jrふじてん"),VLOOKUP($AM7,連盟使用!$AP$3:$AQ$100,2,FALSE),IF(AND(AV7="○",AW$3="Jr"),VLOOKUP($AM7,連盟使用!$AH$3:$AI$100,2,FALSE),IF(AND(AV7="○",AW$3="MS",$AE7=1),VLOOKUP($AN7,連盟使用!$AJ$3:$AK$100,2,FALSE),VLOOKUP($AN7,連盟使用!$AL$3:$AM$100,2,FALSE)))))))))) | AY7: =IF(AX7="","",IF(AND(AX7="○",AY$3="国体"),VLOOKUP($AM7,連盟使用!$AN$3:$AO$100,2,FALSE),IF(AND(AX7="○",AY$3="通常",AY$1="通常・OPEN"),VLOOKUP($AM7,連盟使用!$AF$3:$AG$100,2,FALSE),IF(AND(AX7="○",AY$3="通常"),VLOOKUP($AM7,連盟使用!$AD$3:$AE$100,2,FALSE),IF(AX7="△",10000,IF(AND(AX7="○",AY$3="OPEN"),VLOOKUP($AM7,連盟使用!$AF$3:$AG$100,2,FALSE),IF(AND(AX7="○",AY$3="Jr",AY$1="Jrふじてん"),VLOOKUP($AM7,連盟使用!$AP$3:$AQ$100,2,FALSE),IF(AND(AX7="○",AY$3="Jr"),VLOOKUP($AM7,連盟使用!$AH$3:$AI$100,2,FALSE),IF(AND(AX7="○",AY$3="MS",$AE7=1),VLOOKUP($AN7,連盟使用!$AJ$3:$AK$100,2,FALSE),VLOOKUP($AN7,連盟使用!$AL$3:$AM$100,2,FALSE)))))))))) | BA7: =IF(AZ7="","",IF(AND(AZ7="○",BA$3="国体"),VLOOKUP($AM7,連盟使用!$AN$3:$AO$100,2,FALSE),IF(AND(AZ7="○",BA$3="通常",BA$1="通常・OPEN"),VLOOKUP($AM7,連盟使用!$AF$3:$AG$100,2,FALSE),IF(AND(AZ7="○",BA$3="通常"),VLOOKUP($AM7,連盟使用!$AD$3:$AE$100,2,FALSE),IF(AZ7="△",10000,IF(AND(AZ7="○",BA$3="OPEN"),VLOOKUP($AM7,連盟使用!$AF$3:$AG$100,2,FALSE),IF(AND(AZ7="○",BA$3="Jr",BA$1="Jrふじてん"),VLOOKUP($AM7,連盟使用!$AP$3:$AQ$100,2,FALSE),IF(AND(AZ7="○",BA$3="Jr"),VLOOKUP($AM7,連盟使用!$AH$3:$AI$100,2,FALSE),IF(AND(AZ7="○",BA$3="MS",$AE7=1),VLOOKUP($AN7,連盟使用!$AJ$3:$AK$100,2,FALSE),VLOOKUP($AN7,連盟使用!$AL$3:$AM$100,2,FALSE)))))))))) | BC7: =IF(BB7="","",IF(AND(BB7="○",BC$3="国体"),VLOOKUP($AM7,連盟使用!$AN$3:$AO$100,2,FALSE),IF(AND(BB7="○",BC$3="通常",BC$1="通常・OPEN"),VLOOKUP($AM7,連盟使用!$AF$3:$AG$100,2,FALSE),IF(AND(BB7="○",BC$3="通常"),VLOOKUP($AM7,連盟使用!$AD$3:$AE$100,2,FALSE),IF(BB7="△",10000,IF(AND(BB7="○",BC$3="OPEN"),VLOOKUP($AM7,連盟使用!$AF$3:$AG$100,2,FALSE),IF(AND(BB7="○",BC$3="Jr",BC$1="Jrふじてん"),VLOOKUP($AM7,連盟使用!$AP$3:$AQ$100,2,FALSE),IF(AND(BB7="○",BC$3="Jr"),VLOOKUP($AM7,連盟使用!$AH$3:$AI$100,2,FALSE),IF(AND(BB7="○",BC$3="MS",$AE7=1),VLOOKUP($AN7,連盟使用!$AJ$3:$AK$100,2,FALSE),VLOOKUP($AN7,連盟使用!$AL$3:$AM$100,2,FALSE)))))))))) | BE7: =IF(BD7="","",IF(AND(BD7="○",BE$3="国体"),VLOOKUP($AM7,連盟使用!$AN$3:$AO$100,2,FALSE),IF(AND(BD7="○",BE$3="通常",BE$1="通常・OPEN"),VLOOKUP($AM7,連盟使用!$AF$3:$AG$100,2,FALSE),IF(AND(BD7="○",BE$3="通常"),VLOOKUP($AM7,連盟使用!$AD$3:$AE$100,2,FALSE),IF(BD7="△",10000,IF(AND(BD7="○",BE$3="OPEN"),VLOOKUP($AM7,連盟使用!$AF$3:$AG$100,2,FALSE),IF(AND(BD7="○",BE$3="Jr",BE$1="Jrふじてん"),VLOOKUP($AM7,連盟使用!$AP$3:$AQ$100,2,FALSE),IF(AND(BD7="○",BE$3="Jr"),VLOOKUP($AM7,連盟使用!$AH$3:$AI$100,2,FALSE),IF(AND(BD7="○",BE$3="MS",$AE7=1),VLOOKUP($AN7,連盟使用!$AJ$3:$AK$100,2,FALSE),VLOOKUP($AN7,連盟使用!$AL$3:$AM$100,2,FALSE)))))))))) | BG7: =IF(BF7="","",IF(AND(BF7="○",BG$3="国体"),VLOOKUP($AM7,連盟使用!$AN$3:$AO$100,2,FALSE),IF(AND(BF7="○",BG$3="通常",BG$1="通常・OPEN"),VLOOKUP($AM7,連盟使用!$AF$3:$AG$100,2,FALSE),IF(AND(BF7="○",BG$3="通常"),VLOOKUP($AM7,連盟使用!$AD$3:$AE$100,2,FALSE),IF(BF7="△",10000,IF(AND(BF7="○",BG$3="OPEN"),VLOOKUP($AM7,連盟使用!$AF$3:$AG$100,2,FALSE),IF(AND(BF7="○",BG$3="Jr",BG$1="Jrふじてん"),VLOOKUP($AM7,連盟使用!$AP$3:$AQ$100,2,FALSE),IF(AND(BF7="○",BG$3="Jr"),VLOOKUP($AM7,連盟使用!$AH$3:$AI$100,2,FALSE),IF(AND(BF7="○",BG$3="MS",$AE7=1),VLOOKUP($AN7,連盟使用!$AJ$3:$AK$100,2,FALSE),VLOOKUP($AN7,連盟使用!$AL$3:$AM$100,2,FALSE)))))))))) | BI7: =IF(BH7="","",IF(AND(BH7="○",BI$3="国体"),VLOOKUP($AM7,連盟使用!$AN$3:$AO$100,2,FALSE),IF(AND(BH7="○",BI$3="通常",BI$1="通常・OPEN"),VLOOKUP($AM7,連盟使用!$AF$3:$AG$100,2,FALSE),IF(AND(BH7="○",BI$3="通常"),VLOOKUP($AM7,連盟使用!$AD$3:$AE$100,2,FALSE),IF(BH7="△",10000,IF(AND(BH7="○",BI$3="OPEN"),VLOOKUP($AM7,連盟使用!$AF$3:$AG$100,2,FALSE),IF(AND(BH7="○",BI$3="Jr",BI$1="Jrふじてん"),VLOOKUP($AM7,連盟使用!$AP$3:$AQ$100,2,FALSE),IF(AND(BH7="○",BI$3="Jr"),VLOOKUP($AM7,連盟使用!$AH$3:$AI$100,2,FALSE),IF(AND(BH7="○",BI$3="MS",$AE7=1),VLOOKUP($AN7,連盟使用!$AJ$3:$AK$100,2,FALSE),VLOOKUP($AN7,連盟使用!$AL$3:$AM$100,2,FALSE)))))))))) | BK7: =IF(BJ7="","",IF(AND(BJ7="○",BK$3="国体"),VLOOKUP($AM7,連盟使用!$AN$3:$AO$100,2,FALSE),IF(AND(BJ7="○",BK$3="通常",BK$1="通常・OPEN"),VLOOKUP($AM7,連盟使用!$AF$3:$AG$100,2,FALSE),IF(AND(BJ7="○",BK$3="通常"),VLOOKUP($AM7,連盟使用!$AD$3:$AE$100,2,FALSE),IF(BJ7="△",10000,IF(AND(BJ7="○",BK$3="OPEN"),VLOOKUP($AM7,連盟使用!$AF$3:$AG$100,2,FALSE),IF(AND(BJ7="○",BK$3="Jr",BK$1="Jrふじてん"),VLOOKUP($AM7,連盟使用!$AP$3:$AQ$100,2,FALSE),IF(AND(BJ7="○",BK$3="Jr"),VLOOKUP($AM7,連盟使用!$AH$3:$AI$100,2,FALSE),IF(AND(BJ7="○",BK$3="MS",$AE7=1),VLOOKUP($AN7,連盟使用!$AJ$3:$AK$100,2,FALSE),VLOOKUP($AN7,連盟使用!$AL$3:$AM$100,2,FALSE)))))))))) | BM7: =IF(BL7="","",IF(AND(BL7="○",BM$3="国体"),VLOOKUP($AM7,連盟使用!$AN$3:$AO$100,2,FALSE),IF(AND(BL7="○",BM$3="通常",BM$1="通常・OPEN"),VLOOKUP($AM7,連盟使用!$AF$3:$AG$100,2,FALSE),IF(AND(BL7="○",BM$3="通常"),VLOOKUP($AM7,連盟使用!$AD$3:$AE$100,2,FALSE),IF(BL7="△",10000,IF(AND(BL7="○",BM$3="OPEN"),VLOOKUP($AM7,連盟使用!$AF$3:$AG$100,2,FALSE),IF(AND(BL7="○",BM$3="Jr",BM$1="Jrふじてん"),VLOOKUP($AM7,連盟使用!$AP$3:$AQ$100,2,FALSE),IF(AND(BL7="○",BM$3="Jr"),VLOOKUP($AM7,連盟使用!$AH$3:$AI$100,2,FALSE),IF(AND(BL7="○",BM$3="MS",$AE7=1),VLOOKUP($AN7,連盟使用!$AJ$3:$AK$100,2,FALSE),VLOOKUP($AN7,連盟使用!$AL$3:$AM$100,2,FALSE)))))))))) | BO7: =IF(BN7="","",IF(AND(BN7="○",BO$3="国体"),VLOOKUP($AM7,連盟使用!$AN$3:$AO$100,2,FALSE),IF(AND(BN7="○",BO$3="通常",BO$1="通常・OPEN"),VLOOKUP($AM7,連盟使用!$AF$3:$AG$100,2,FALSE),IF(AND(BN7="○",BO$3="通常"),VLOOKUP($AM7,連盟使用!$AD$3:$AE$100,2,FALSE),IF(BN7="△",10000,IF(AND(BN7="○",BO$3="OPEN"),VLOOKUP($AM7,連盟使用!$AF$3:$AG$100,2,FALSE),IF(AND(BN7="○",BO$3="Jr",BO$1="Jrふじてん"),VLOOKUP($AM7,連盟使用!$AP$3:$AQ$100,2,FALSE),IF(AND(BN7="○",BO$3="Jr"),VLOOKUP($AM7,連盟使用!$AH$3:$AI$100,2,FALSE),IF(AND(BN7="○",BO$3="MS",$AE7=1),VLOOKUP($AN7,連盟使用!$AJ$3:$AK$100,2,FALSE),VLOOKUP($AN7,連盟使用!$AL$3:$AM$100,2,FALSE)))))))))) | BQ7: =IF(BP7="","",IF(AND(BP7="○",BQ$3="国体"),VLOOKUP($AM7,連盟使用!$AN$3:$AO$100,2,FALSE),IF(AND(BP7="○",BQ$3="通常",BQ$1="通常・OPEN"),VLOOKUP($AM7,連盟使用!$AF$3:$AG$100,2,FALSE),IF(AND(BP7="○",BQ$3="通常"),VLOOKUP($AM7,連盟使用!$AD$3:$AE$100,2,FALSE),IF(BP7="△",10000,IF(AND(BP7="○",BQ$3="OPEN"),VLOOKUP($AM7,連盟使用!$AF$3:$AG$100,2,FALSE),IF(AND(BP7="○",BQ$3="Jr",BQ$1="Jrふじてん"),VLOOKUP($AM7,連盟使用!$AP$3:$AQ$100,2,FALSE),IF(AND(BP7="○",BQ$3="Jr"),VLOOKUP($AM7,連盟使用!$AH$3:$AI$100,2,FALSE),IF(AND(BP7="○",BQ$3="MS",$AE7=1),VLOOKUP($AN7,連盟使用!$AJ$3:$AK$100,2,FALSE),VLOOKUP($AN7,連盟使用!$AL$3:$AM$100,2,FALSE)))))))))) | BS7: =IF(BR7="","",IF(AND(BR7="○",BS$3="国体"),VLOOKUP($AM7,連盟使用!$AN$3:$AO$100,2,FALSE),IF(AND(BR7="○",BS$3="通常",BS$1="通常・OPEN"),VLOOKUP($AM7,連盟使用!$AF$3:$AG$100,2,FALSE),IF(AND(BR7="○",BS$3="通常"),VLOOKUP($AM7,連盟使用!$AD$3:$AE$100,2,FALSE),IF(BR7="△",10000,IF(AND(BR7="○",BS$3="OPEN"),VLOOKUP($AM7,連盟使用!$AF$3:$AG$100,2,FALSE),IF(AND(BR7="○",BS$3="Jr",BS$1="Jrふじてん"),VLOOKUP($AM7,連盟使用!$AP$3:$AQ$100,2,FALSE),IF(AND(BR7="○",BS$3="Jr"),VLOOKUP($AM7,連盟使用!$AH$3:$AI$100,2,FALSE),IF(AND(BR7="○",BS$3="MS",$AE7=1),VLOOKUP($AN7,連盟使用!$AJ$3:$AK$100,2,FALSE),VLOOKUP($AN7,連盟使用!$AL$3:$AM$100,2,FALSE)))))))))) | BU7: =IF(BT7="","",IF(AND(BT7="○",BU$3="国体"),VLOOKUP($AM7,連盟使用!$AN$3:$AO$100,2,FALSE),IF(AND(BT7="○",BU$3="通常",BU$1="通常・OPEN"),VLOOKUP($AM7,連盟使用!$AF$3:$AG$100,2,FALSE),IF(AND(BT7="○",BU$3="通常"),VLOOKUP($AM7,連盟使用!$AD$3:$AE$100,2,FALSE),IF(BT7="△",10000,IF(AND(BT7="○",BU$3="OPEN"),VLOOKUP($AM7,連盟使用!$AF$3:$AG$100,2,FALSE),IF(AND(BT7="○",BU$3="Jr",BU$1="Jrふじてん"),VLOOKUP($AM7,連盟使用!$AP$3:$AQ$100,2,FALSE),IF(AND(BT7="○",BU$3="Jr"),VLOOKUP($AM7,連盟使用!$AH$3:$AI$100,2,FALSE),IF(AND(BT7="○",BU$3="MS",$AE7=1),VLOOKUP($AN7,連盟使用!$AJ$3:$AK$100,2,FALSE),VLOOKUP($AN7,連盟使用!$AL$3:$AM$100,2,FALSE)))))))))) | BW7: =IF(BV7="","",IF(AND(BV7="○",BW$3="国体"),VLOOKUP($AM7,連盟使用!$AN$3:$AO$100,2,FALSE),IF(AND(BV7="○",BW$3="通常",BW$1="通常・OPEN"),VLOOKUP($AM7,連盟使用!$AF$3:$AG$100,2,FALSE),IF(AND(BV7="○",BW$3="通常"),VLOOKUP($AM7,連盟使用!$AD$3:$AE$100,2,FALSE),IF(BV7="△",10000,IF(AND(BV7="○",BW$3="OPEN"),VLOOKUP($AM7,連盟使用!$AF$3:$AG$100,2,FALSE),IF(AND(BV7="○",BW$3="Jr",BW$1="Jrふじてん"),VLOOKUP($AM7,連盟使用!$AP$3:$AQ$100,2,FALSE),IF(AND(BV7="○",BW$3="Jr"),VLOOKUP($AM7,連盟使用!$AH$3:$AI$100,2,FALSE),IF(AND(BV7="○",BW$3="MS",$AE7=1),VLOOKUP($AN7,連盟使用!$AJ$3:$AK$100,2,FALSE),VLOOKUP($AN7,連盟使用!$AL$3:$AM$100,2,FALSE)))))))))) | BY7: =IF(BX7="","",IF(AND(BX7="○",BY$3="国体"),VLOOKUP($AM7,連盟使用!$AN$3:$AO$100,2,FALSE),IF(AND(BX7="○",BY$3="通常",BY$1="通常・OPEN"),VLOOKUP($AM7,連盟使用!$AF$3:$AG$100,2,FALSE),IF(AND(BX7="○",BY$3="通常"),VLOOKUP($AM7,連盟使用!$AD$3:$AE$100,2,FALSE),IF(BX7="△",10000,IF(AND(BX7="○",BY$3="OPEN"),VLOOKUP($AM7,連盟使用!$AF$3:$AG$100,2,FALSE),IF(AND(BX7="○",BY$3="Jr",BY$1="Jrふじてん"),VLOOKUP($AM7,連盟使用!$AP$3:$AQ$100,2,FALSE),IF(AND(BX7="○",BY$3="Jr"),VLOOKUP($AM7,連盟使用!$AH$3:$AI$100,2,FALSE),IF(AND(BX7="○",BY$3="MS",$AE7=1),VLOOKUP($AN7,連盟使用!$AJ$3:$AK$100,2,FALSE),VLOOKUP($AN7,連盟使用!$AL$3:$AM$100,2,FALSE)))))))))) | CA7: =IF(BZ7="","",IF(AND(BZ7="○",CA$3="国体"),VLOOKUP($AM7,連盟使用!$AN$3:$AO$100,2,FALSE),IF(AND(BZ7="○",CA$3="通常",CA$1="通常・OPEN"),VLOOKUP($AM7,連盟使用!$AF$3:$AG$100,2,FALSE),IF(AND(BZ7="○",CA$3="通常"),VLOOKUP($AM7,連盟使用!$AD$3:$AE$100,2,FALSE),IF(BZ7="△",10000,IF(AND(BZ7="○",CA$3="OPEN"),VLOOKUP($AM7,連盟使用!$AF$3:$AG$100,2,FALSE),IF(AND(BZ7="○",CA$3="Jr",CA$1="Jrふじてん"),VLOOKUP($AM7,連盟使用!$AP$3:$AQ$100,2,FALSE),IF(AND(BZ7="○",CA$3="Jr"),VLOOKUP($AM7,連盟使用!$AH$3:$AI$100,2,FALSE),IF(AND(BZ7="○",CA$3="MS",$AE7=1),VLOOKUP($AN7,連盟使用!$AJ$3:$AK$100,2,FALSE),VLOOKUP($AN7,連盟使用!$AL$3:$AM$100,2,FALSE)))))))))) | CC7: =IF(CB7="","",IF(AND(CB7="○",CC$3="国体"),VLOOKUP($AM7,連盟使用!$AN$3:$AO$100,2,FALSE),IF(AND(CB7="○",CC$3="通常",CC$1="通常・OPEN"),VLOOKUP($AM7,連盟使用!$AF$3:$AG$100,2,FALSE),IF(AND(CB7="○",CC$3="通常"),VLOOKUP($AM7,連盟使用!$AD$3:$AE$100,2,FALSE),IF(CB7="△",10000,IF(AND(CB7="○",CC$3="OPEN"),VLOOKUP($AM7,連盟使用!$AF$3:$AG$100,2,FALSE),IF(AND(CB7="○",CC$3="Jr",CC$1="Jrふじてん"),VLOOKUP($AM7,連盟使用!$AP$3:$AQ$100,2,FALSE),IF(AND(CB7="○",CC$3="Jr"),VLOOKUP($AM7,連盟使用!$AH$3:$AI$100,2,FALSE),IF(AND(CB7="○",CC$3="MS",$AE7=1),VLOOKUP($AN7,連盟使用!$AJ$3:$AK$100,2,FALSE),VLOOKUP($AN7,連盟使用!$AL$3:$AM$100,2,FALSE)))))))))) | CE7: =IF(CD7="","",IF(AND(CD7="○",CE$3="国体"),VLOOKUP($AM7,連盟使用!$AN$3:$AO$100,2,FALSE),IF(AND(CD7="○",CE$3="通常",CE$1="通常・OPEN"),VLOOKUP($AM7,連盟使用!$AF$3:$AG$100,2,FALSE),IF(AND(CD7="○",CE$3="通常"),VLOOKUP($AM7,連盟使用!$AD$3:$AE$100,2,FALSE),IF(CD7="△",10000,IF(AND(CD7="○",CE$3="OPEN"),VLOOKUP($AM7,連盟使用!$AF$3:$AG$100,2,FALSE),IF(AND(CD7="○",CE$3="Jr",CE$1="Jrふじてん"),VLOOKUP($AM7,連盟使用!$AP$3:$AQ$100,2,FALSE),IF(AND(CD7="○",CE$3="Jr"),VLOOKUP($AM7,連盟使用!$AH$3:$AI$100,2,FALSE),IF(AND(CD7="○",CE$3="MS",$AE7=1),VLOOKUP($AN7,連盟使用!$AJ$3:$AK$100,2,FALSE),VLOOKUP($AN7,連盟使用!$AL$3:$AM$100,2,FALSE)))))))))) | CG7: =IF(CF7="","",IF(AND(CF7="○",CG$3="国体"),VLOOKUP($AM7,連盟使用!$AN$3:$AO$100,2,FALSE),IF(AND(CF7="○",CG$3="通常",CG$1="通常・OPEN"),VLOOKUP($AM7,連盟使用!$AF$3:$AG$100,2,FALSE),IF(AND(CF7="○",CG$3="通常"),VLOOKUP($AM7,連盟使用!$AD$3:$AE$100,2,FALSE),IF(CF7="△",10000,IF(AND(CF7="○",CG$3="OPEN"),VLOOKUP($AM7,連盟使用!$AF$3:$AG$100,2,FALSE),IF(AND(CF7="○",CG$3="Jr",CG$1="Jrふじてん"),VLOOKUP($AM7,連盟使用!$AP$3:$AQ$100,2,FALSE),IF(AND(CF7="○",CG$3="Jr"),VLOOKUP($AM7,連盟使用!$AH$3:$AI$100,2,FALSE),IF(AND(CF7="○",CG$3="MS",$AE7=1),VLOOKUP($AN7,連盟使用!$AJ$3:$AK$100,2,FALSE),VLOOKUP($AN7,連盟使用!$AL$3:$AM$100,2,FALSE)))))))))) | CH7: =SUM(AT7:CG7) -> 0
A8: =IF(個表!A6="","",個表!A6) -> 3 | B8: =IF(個表!B6="","",個表!B6) | E8: =IF(個表!J6="","",個表!J6) | F8: =IF(個表!K6="","",個表!K6) | G8: =IF(個表!L6="","",個表!L6) | L8: =IF(個表!M6="","",個表!M6) | M8: =IF(個表!N6="","",個表!N6) | N8: =IF(個表!O6="","",個表!O6) | O8: =IF(個表!P6="","",個表!P6) | P8: =IF(個表!Q6="","",個表!Q6) | Q8: =IF(個表!G6="","",個表!G6) | S8: =IF(個表!R6="","",個表!R6) | T8: =IF(個表!S6="","",個表!S6) | V8: =IF(個表!C6="","",個表!C6) | W8: =IF(個表!D6="","",個表!D6) | X8: =IF(個表!E6="","",個表!E6) | Y8: =IF(個表!F6="","",個表!F6) | AE8: =IF(個表!H6="","",個表!H6) | AI8: =IF(個表!T6="","",個表!T6) | AL8: =IF(個表!I6="","",個表!I6) | AM8: =IF(個表!U6="","",個表!U6) | AN8: =IF(個表!V6="","",個表!V6) | AO8: =IF(個表!W6="","",個表!W6) | AP8: =IF(個表!X6="","",個表!X6) | AQ8: =IF(個表!Y6="","",個表!Y6) | AR8: =IF(個表!Z6="","",個表!Z6) | AS8: =IF(個表!AA6="","",個表!AA6) | AU8: =IF(AT8="","",IF(AND(AT8="○",AU$3="国体"),VLOOKUP($AM8,連盟使用!$AN$3:$AO$100,2,FALSE),IF(AND(AT8="○",AU$3="通常",AU$1="通常・OPEN"),VLOOKUP($AM8,連盟使用!$AF$3:$AG$100,2,FALSE),IF(AND(AT8="○",AU$3="通常"),VLOOKUP($AM8,連盟使用!$AD$3:$AE$100,2,FALSE),IF(AT8="△",10000,IF(AND(AT8="○",AU$3="OPEN"),VLOOKUP($AM8,連盟使用!$AF$3:$AG$100,2,FALSE),IF(AND(AT8="○",AU$3="Jr",AU$1="Jrふじてん"),VLOOKUP($AM8,連盟使用!$AP$3:$AQ$100,2,FALSE),IF(AND(AT8="○",AU$3="Jr"),VLOOKUP($AM8,連盟使用!$AH$3:$AI$100,2,FALSE),IF(AND(AT8="○",AU$3="MS",$AE8=1),VLOOKUP($AN8,連盟使用!$AJ$3:$AK$100,2,FALSE),VLOOKUP($AN8,連盟使用!$AL$3:$AM$100,2,FALSE)))))))))) | AW8: =IF(AV8="","",IF(AND(AV8="○",AW$3="国体"),VLOOKUP($AM8,連盟使用!$AN$3:$AO$100,2,FALSE),IF(AND(AV8="○",AW$3="通常",AW$1="通常・OPEN"),VLOOKUP($AM8,連盟使用!$AF$3:$AG$100,2,FALSE),IF(AND(AV8="○",AW$3="通常"),VLOOKUP($AM8,連盟使用!$AD$3:$AE$100,2,FALSE),IF(AV8="△",10000,IF(AND(AV8="○",AW$3="OPEN"),VLOOKUP($AM8,連盟使用!$AF$3:$AG$100,2,FALSE),IF(AND(AV8="○",AW$3="Jr",AW$1="Jrふじてん"),VLOOKUP($AM8,連盟使用!$AP$3:$AQ$100,2,FALSE),IF(AND(AV8="○",AW$3="Jr"),VLOOKUP($AM8,連盟使用!$AH$3:$AI$100,2,FALSE),IF(AND(AV8="○",AW$3="MS",$AE8=1),VLOOKUP($AN8,連盟使用!$AJ$3:$AK$100,2,FALSE),VLOOKUP($AN8,連盟使用!$AL$3:$AM$100,2,FALSE)))))))))) | AY8: =IF(AX8="","",IF(AND(AX8="○",AY$3="国体"),VLOOKUP($AM8,連盟使用!$AN$3:$AO$100,2,FALSE),IF(AND(AX8="○",AY$3="通常",AY$1="通常・OPEN"),VLOOKUP($AM8,連盟使用!$AF$3:$AG$100,2,FALSE),IF(AND(AX8="○",AY$3="通常"),VLOOKUP($AM8,連盟使用!$AD$3:$AE$100,2,FALSE),IF(AX8="△",10000,IF(AND(AX8="○",AY$3="OPEN"),VLOOKUP($AM8,連盟使用!$AF$3:$AG$100,2,FALSE),IF(AND(AX8="○",AY$3="Jr",AY$1="Jrふじてん"),VLOOKUP($AM8,連盟使用!$AP$3:$AQ$100,2,FALSE),IF(AND(AX8="○",AY$3="Jr"),VLOOKUP($AM8,連盟使用!$AH$3:$AI$100,2,FALSE),IF(AND(AX8="○",AY$3="MS",$AE8=1),VLOOKUP($AN8,連盟使用!$AJ$3:$AK$100,2,FALSE),VLOOKUP($AN8,連盟使用!$AL$3:$AM$100,2,FALSE)))))))))) | BA8: =IF(AZ8="","",IF(AND(AZ8="○",BA$3="国体"),VLOOKUP($AM8,連盟使用!$AN$3:$AO$100,2,FALSE),IF(AND(AZ8="○",BA$3="通常",BA$1="通常・OPEN"),VLOOKUP($AM8,連盟使用!$AF$3:$AG$100,2,FALSE),IF(AND(AZ8="○",BA$3="通常"),VLOOKUP($AM8,連盟使用!$AD$3:$AE$100,2,FALSE),IF(AZ8="△",10000,IF(AND(AZ8="○",BA$3="OPEN"),VLOOKUP($AM8,連盟使用!$AF$3:$AG$100,2,FALSE),IF(AND(AZ8="○",BA$3="Jr",BA$1="Jrふじてん"),VLOOKUP($AM8,連盟使用!$AP$3:$AQ$100,2,FALSE),IF(AND(AZ8="○",BA$3="Jr"),VLOOKUP($AM8,連盟使用!$AH$3:$AI$100,2,FALSE),IF(AND(AZ8="○",BA$3="MS",$AE8=1),VLOOKUP($AN8,連盟使用!$AJ$3:$AK$100,2,FALSE),VLOOKUP($AN8,連盟使用!$AL$3:$AM$100,2,FALSE)))))))))) | BC8: =IF(BB8="","",IF(AND(BB8="○",BC$3="国体"),VLOOKUP($AM8,連盟使用!$AN$3:$AO$100,2,FALSE),IF(AND(BB8="○",BC$3="通常",BC$1="通常・OPEN"),VLOOKUP($AM8,連盟使用!$AF$3:$AG$100,2,FALSE),IF(AND(BB8="○",BC$3="通常"),VLOOKUP($AM8,連盟使用!$AD$3:$AE$100,2,FALSE),IF(BB8="△",10000,IF(AND(BB8="○",BC$3="OPEN"),VLOOKUP($AM8,連盟使用!$AF$3:$AG$100,2,FALSE),IF(AND(BB8="○",BC$3="Jr",BC$1="Jrふじてん"),VLOOKUP($AM8,連盟使用!$AP$3:$AQ$100,2,FALSE),IF(AND(BB8="○",BC$3="Jr"),VLOOKUP($AM8,連盟使用!$AH$3:$AI$100,2,FALSE),IF(AND(BB8="○",BC$3="MS",$AE8=1),VLOOKUP($AN8,連盟使用!$AJ$3:$AK$100,2,FALSE),VLOOKUP($AN8,連盟使用!$AL$3:$AM$100,2,FALSE)))))))))) | BE8: =IF(BD8="","",IF(AND(BD8="○",BE$3="国体"),VLOOKUP($AM8,連盟使用!$AN$3:$AO$100,2,FALSE),IF(AND(BD8="○",BE$3="通常",BE$1="通常・OPEN"),VLOOKUP($AM8,連盟使用!$AF$3:$AG$100,2,FALSE),IF(AND(BD8="○",BE$3="通常"),VLOOKUP($AM8,連盟使用!$AD$3:$AE$100,2,FALSE),IF(BD8="△",10000,IF(AND(BD8="○",BE$3="OPEN"),VLOOKUP($AM8,連盟使用!$AF$3:$AG$100,2,FALSE),IF(AND(BD8="○",BE$3="Jr",BE$1="Jrふじてん"),VLOOKUP($AM8,連盟使用!$AP$3:$AQ$100,2,FALSE),IF(AND(BD8="○",BE$3="Jr"),VLOOKUP($AM8,連盟使用!$AH$3:$AI$100,2,FALSE),IF(AND(BD8="○",BE$3="MS",$AE8=1),VLOOKUP($AN8,連盟使用!$AJ$3:$AK$100,2,FALSE),VLOOKUP($AN8,連盟使用!$AL$3:$AM$100,2,FALSE)))))))))) | BG8: =IF(BF8="","",IF(AND(BF8="○",BG$3="国体"),VLOOKUP($AM8,連盟使用!$AN$3:$AO$100,2,FALSE),IF(AND(BF8="○",BG$3="通常",BG$1="通常・OPEN"),VLOOKUP($AM8,連盟使用!$AF$3:$AG$100,2,FALSE),IF(AND(BF8="○",BG$3="通常"),VLOOKUP($AM8,連盟使用!$AD$3:$AE$100,2,FALSE),IF(BF8="△",10000,IF(AND(BF8="○",BG$3="OPEN"),VLOOKUP($AM8,連盟使用!$AF$3:$AG$100,2,FALSE),IF(AND(BF8="○",BG$3="Jr",BG$1="Jrふじてん"),VLOOKUP($AM8,連盟使用!$AP$3:$AQ$100,2,FALSE),IF(AND(BF8="○",BG$3="Jr"),VLOOKUP($AM8,連盟使用!$AH$3:$AI$100,2,FALSE),IF(AND(BF8="○",BG$3="MS",$AE8=1),VLOOKUP($AN8,連盟使用!$AJ$3:$AK$100,2,FALSE),VLOOKUP($AN8,連盟使用!$AL$3:$AM$100,2,FALSE)))))))))) | BI8: =IF(BH8="","",IF(AND(BH8="○",BI$3="国体"),VLOOKUP($AM8,連盟使用!$AN$3:$AO$100,2,FALSE),IF(AND(BH8="○",BI$3="通常",BI$1="通常・OPEN"),VLOOKUP($AM8,連盟使用!$AF$3:$AG$100,2,FALSE),IF(AND(BH8="○",BI$3="通常"),VLOOKUP($AM8,連盟使用!$AD$3:$AE$100,2,FALSE),IF(BH8="△",10000,IF(AND(BH8="○",BI$3="OPEN"),VLOOKUP($AM8,連盟使用!$AF$3:$AG$100,2,FALSE),IF(AND(BH8="○",BI$3="Jr",BI$1="Jrふじてん"),VLOOKUP($AM8,連盟使用!$AP$3:$AQ$100,2,FALSE),IF(AND(BH8="○",BI$3="Jr"),VLOOKUP($AM8,連盟使用!$AH$3:$AI$100,2,FALSE),IF(AND(BH8="○",BI$3="MS",$AE8=1),VLOOKUP($AN8,連盟使用!$AJ$3:$AK$100,2,FALSE),VLOOKUP($AN8,連盟使用!$AL$3:$AM$100,2,FALSE)))))))))) | BK8: =IF(BJ8="","",IF(AND(BJ8="○",BK$3="国体"),VLOOKUP($AM8,連盟使用!$AN$3:$AO$100,2,FALSE),IF(AND(BJ8="○",BK$3="通常",BK$1="通常・OPEN"),VLOOKUP($AM8,連盟使用!$AF$3:$AG$100,2,FALSE),IF(AND(BJ8="○",BK$3="通常"),VLOOKUP($AM8,連盟使用!$AD$3:$AE$100,2,FALSE),IF(BJ8="△",10000,IF(AND(BJ8="○",BK$3="OPEN"),VLOOKUP($AM8,連盟使用!$AF$3:$AG$100,2,FALSE),IF(AND(BJ8="○",BK$3="Jr",BK$1="Jrふじてん"),VLOOKUP($AM8,連盟使用!$AP$3:$AQ$100,2,FALSE),IF(AND(BJ8="○",BK$3="Jr"),VLOOKUP($AM8,連盟使用!$AH$3:$AI$100,2,FALSE),IF(AND(BJ8="○",BK$3="MS",$AE8=1),VLOOKUP($AN8,連盟使用!$AJ$3:$AK$100,2,FALSE),VLOOKUP($AN8,連盟使用!$AL$3:$AM$100,2,FALSE)))))))))) | BM8: =IF(BL8="","",IF(AND(BL8="○",BM$3="国体"),VLOOKUP($AM8,連盟使用!$AN$3:$AO$100,2,FALSE),IF(AND(BL8="○",BM$3="通常",BM$1="通常・OPEN"),VLOOKUP($AM8,連盟使用!$AF$3:$AG$100,2,FALSE),IF(AND(BL8="○",BM$3="通常"),VLOOKUP($AM8,連盟使用!$AD$3:$AE$100,2,FALSE),IF(BL8="△",10000,IF(AND(BL8="○",BM$3="OPEN"),VLOOKUP($AM8,連盟使用!$AF$3:$AG$100,2,FALSE),IF(AND(BL8="○",BM$3="Jr",BM$1="Jrふじてん"),VLOOKUP($AM8,連盟使用!$AP$3:$AQ$100,2,FALSE),IF(AND(BL8="○",BM$3="Jr"),VLOOKUP($AM8,連盟使用!$AH$3:$AI$100,2,FALSE),IF(AND(BL8="○",BM$3="MS",$AE8=1),VLOOKUP($AN8,連盟使用!$AJ$3:$AK$100,2,FALSE),VLOOKUP($AN8,連盟使用!$AL$3:$AM$100,2,FALSE)))))))))) | BO8: =IF(BN8="","",IF(AND(BN8="○",BO$3="国体"),VLOOKUP($AM8,連盟使用!$AN$3:$AO$100,2,FALSE),IF(AND(BN8="○",BO$3="通常",BO$1="通常・OPEN"),VLOOKUP($AM8,連盟使用!$AF$3:$AG$100,2,FALSE),IF(AND(BN8="○",BO$3="通常"),VLOOKUP($AM8,連盟使用!$AD$3:$AE$100,2,FALSE),IF(BN8="△",10000,IF(AND(BN8="○",BO$3="OPEN"),VLOOKUP($AM8,連盟使用!$AF$3:$AG$100,2,FALSE),IF(AND(BN8="○",BO$3="Jr",BO$1="Jrふじてん"),VLOOKUP($AM8,連盟使用!$AP$3:$AQ$100,2,FALSE),IF(AND(BN8="○",BO$3="Jr"),VLOOKUP($AM8,連盟使用!$AH$3:$AI$100,2,FALSE),IF(AND(BN8="○",BO$3="MS",$AE8=1),VLOOKUP($AN8,連盟使用!$AJ$3:$AK$100,2,FALSE),VLOOKUP($AN8,連盟使用!$AL$3:$AM$100,2,FALSE)))))))))) | BQ8: =IF(BP8="","",IF(AND(BP8="○",BQ$3="国体"),VLOOKUP($AM8,連盟使用!$AN$3:$AO$100,2,FALSE),IF(AND(BP8="○",BQ$3="通常",BQ$1="通常・OPEN"),VLOOKUP($AM8,連盟使用!$AF$3:$AG$100,2,FALSE),IF(AND(BP8="○",BQ$3="通常"),VLOOKUP($AM8,連盟使用!$AD$3:$AE$100,2,FALSE),IF(BP8="△",10000,IF(AND(BP8="○",BQ$3="OPEN"),VLOOKUP($AM8,連盟使用!$AF$3:$AG$100,2,FALSE),IF(AND(BP8="○",BQ$3="Jr",BQ$1="Jrふじてん"),VLOOKUP($AM8,連盟使用!$AP$3:$AQ$100,2,FALSE),IF(AND(BP8="○",BQ$3="Jr"),VLOOKUP($AM8,連盟使用!$AH$3:$AI$100,2,FALSE),IF(AND(BP8="○",BQ$3="MS",$AE8=1),VLOOKUP($AN8,連盟使用!$AJ$3:$AK$100,2,FALSE),VLOOKUP($AN8,連盟使用!$AL$3:$AM$100,2,FALSE)))))))))) | BS8: =IF(BR8="","",IF(AND(BR8="○",BS$3="国体"),VLOOKUP($AM8,連盟使用!$AN$3:$AO$100,2,FALSE),IF(AND(BR8="○",BS$3="通常",BS$1="通常・OPEN"),VLOOKUP($AM8,連盟使用!$AF$3:$AG$100,2,FALSE),IF(AND(BR8="○",BS$3="通常"),VLOOKUP($AM8,連盟使用!$AD$3:$AE$100,2,FALSE),IF(BR8="△",10000,IF(AND(BR8="○",BS$3="OPEN"),VLOOKUP($AM8,連盟使用!$AF$3:$AG$100,2,FALSE),IF(AND(BR8="○",BS$3="Jr",BS$1="Jrふじてん"),VLOOKUP($AM8,連盟使用!$AP$3:$AQ$100,2,FALSE),IF(AND(BR8="○",BS$3="Jr"),VLOOKUP($AM8,連盟使用!$AH$3:$AI$100,2,FALSE),IF(AND(BR8="○",BS$3="MS",$AE8=1),VLOOKUP($AN8,連盟使用!$AJ$3:$AK$100,2,FALSE),VLOOKUP($AN8,連盟使用!$AL$3:$AM$100,2,FALSE)))))))))) | BU8: =IF(BT8="","",IF(AND(BT8="○",BU$3="国体"),VLOOKUP($AM8,連盟使用!$AN$3:$AO$100,2,FALSE),IF(AND(BT8="○",BU$3="通常",BU$1="通常・OPEN"),VLOOKUP($AM8,連盟使用!$AF$3:$AG$100,2,FALSE),IF(AND(BT8="○",BU$3="通常"),VLOOKUP($AM8,連盟使用!$AD$3:$AE$100,2,FALSE),IF(BT8="△",10000,IF(AND(BT8="○",BU$3="OPEN"),VLOOKUP($AM8,連盟使用!$AF$3:$AG$100,2,FALSE),IF(AND(BT8="○",BU$3="Jr",BU$1="Jrふじてん"),VLOOKUP($AM8,連盟使用!$AP$3:$AQ$100,2,FALSE),IF(AND(BT8="○",BU$3="Jr"),VLOOKUP($AM8,連盟使用!$AH$3:$AI$100,2,FALSE),IF(AND(BT8="○",BU$3="MS",$AE8=1),VLOOKUP($AN8,連盟使用!$AJ$3:$AK$100,2,FALSE),VLOOKUP($AN8,連盟使用!$AL$3:$AM$100,2,FALSE)))))))))) | BW8: =IF(BV8="","",IF(AND(BV8="○",BW$3="国体"),VLOOKUP($AM8,連盟使用!$AN$3:$AO$100,2,FALSE),IF(AND(BV8="○",BW$3="通常",BW$1="通常・OPEN"),VLOOKUP($AM8,連盟使用!$AF$3:$AG$100,2,FALSE),IF(AND(BV8="○",BW$3="通常"),VLOOKUP($AM8,連盟使用!$AD$3:$AE$100,2,FALSE),IF(BV8="△",10000,IF(AND(BV8="○",BW$3="OPEN"),VLOOKUP($AM8,連盟使用!$AF$3:$AG$100,2,FALSE),IF(AND(BV8="○",BW$3="Jr",BW$1="Jrふじてん"),VLOOKUP($AM8,連盟使用!$AP$3:$AQ$100,2,FALSE),IF(AND(BV8="○",BW$3="Jr"),VLOOKUP($AM8,連盟使用!$AH$3:$AI$100,2,FALSE),IF(AND(BV8="○",BW$3="MS",$AE8=1),VLOOKUP($AN8,連盟使用!$AJ$3:$AK$100,2,FALSE),VLOOKUP($AN8,連盟使用!$AL$3:$AM$100,2,FALSE)))))))))) | BY8: =IF(BX8="","",IF(AND(BX8="○",BY$3="国体"),VLOOKUP($AM8,連盟使用!$AN$3:$AO$100,2,FALSE),IF(AND(BX8="○",BY$3="通常",BY$1="通常・OPEN"),VLOOKUP($AM8,連盟使用!$AF$3:$AG$100,2,FALSE),IF(AND(BX8="○",BY$3="通常"),VLOOKUP($AM8,連盟使用!$AD$3:$AE$100,2,FALSE),IF(BX8="△",10000,IF(AND(BX8="○",BY$3="OPEN"),VLOOKUP($AM8,連盟使用!$AF$3:$AG$100,2,FALSE),IF(AND(BX8="○",BY$3="Jr",BY$1="Jrふじてん"),VLOOKUP($AM8,連盟使用!$AP$3:$AQ$100,2,FALSE),IF(AND(BX8="○",BY$3="Jr"),VLOOKUP($AM8,連盟使用!$AH$3:$AI$100,2,FALSE),IF(AND(BX8="○",BY$3="MS",$AE8=1),VLOOKUP($AN8,連盟使用!$AJ$3:$AK$100,2,FALSE),VLOOKUP($AN8,連盟使用!$AL$3:$AM$100,2,FALSE)))))))))) | CA8: =IF(BZ8="","",IF(AND(BZ8="○",CA$3="国体"),VLOOKUP($AM8,連盟使用!$AN$3:$AO$100,2,FALSE),IF(AND(BZ8="○",CA$3="通常",CA$1="通常・OPEN"),VLOOKUP($AM8,連盟使用!$AF$3:$AG$100,2,FALSE),IF(AND(BZ8="○",CA$3="通常"),VLOOKUP($AM8,連盟使用!$AD$3:$AE$100,2,FALSE),IF(BZ8="△",10000,IF(AND(BZ8="○",CA$3="OPEN"),VLOOKUP($AM8,連盟使用!$AF$3:$AG$100,2,FALSE),IF(AND(BZ8="○",CA$3="Jr",CA$1="Jrふじてん"),VLOOKUP($AM8,連盟使用!$AP$3:$AQ$100,2,FALSE),IF(AND(BZ8="○",CA$3="Jr"),VLOOKUP($AM8,連盟使用!$AH$3:$AI$100,2,FALSE),IF(AND(BZ8="○",CA$3="MS",$AE8=1),VLOOKUP($AN8,連盟使用!$AJ$3:$AK$100,2,FALSE),VLOOKUP($AN8,連盟使用!$AL$3:$AM$100,2,FALSE)))))))))) | CC8: =IF(CB8="","",IF(AND(CB8="○",CC$3="国体"),VLOOKUP($AM8,連盟使用!$AN$3:$AO$100,2,FALSE),IF(AND(CB8="○",CC$3="通常",CC$1="通常・OPEN"),VLOOKUP($AM8,連盟使用!$AF$3:$AG$100,2,FALSE),IF(AND(CB8="○",CC$3="通常"),VLOOKUP($AM8,連盟使用!$AD$3:$AE$100,2,FALSE),IF(CB8="△",10000,IF(AND(CB8="○",CC$3="OPEN"),VLOOKUP($AM8,連盟使用!$AF$3:$AG$100,2,FALSE),IF(AND(CB8="○",CC$3="Jr",CC$1="Jrふじてん"),VLOOKUP($AM8,連盟使用!$AP$3:$AQ$100,2,FALSE),IF(AND(CB8="○",CC$3="Jr"),VLOOKUP($AM8,連盟使用!$AH$3:$AI$100,2,FALSE),IF(AND(CB8="○",CC$3="MS",$AE8=1),VLOOKUP($AN8,連盟使用!$AJ$3:$AK$100,2,FALSE),VLOOKUP($AN8,連盟使用!$AL$3:$AM$100,2,FALSE)))))))))) | CE8: =IF(CD8="","",IF(AND(CD8="○",CE$3="国体"),VLOOKUP($AM8,連盟使用!$AN$3:$AO$100,2,FALSE),IF(AND(CD8="○",CE$3="通常",CE$1="通常・OPEN"),VLOOKUP($AM8,連盟使用!$AF$3:$AG$100,2,FALSE),IF(AND(CD8="○",CE$3="通常"),VLOOKUP($AM8,連盟使用!$AD$3:$AE$100,2,FALSE),IF(CD8="△",10000,IF(AND(CD8="○",CE$3="OPEN"),VLOOKUP($AM8,連盟使用!$AF$3:$AG$100,2,FALSE),IF(AND(CD8="○",CE$3="Jr",CE$1="Jrふじてん"),VLOOKUP($AM8,連盟使用!$AP$3:$AQ$100,2,FALSE),IF(AND(CD8="○",CE$3="Jr"),VLOOKUP($AM8,連盟使用!$AH$3:$AI$100,2,FALSE),IF(AND(CD8="○",CE$3="MS",$AE8=1),VLOOKUP($AN8,連盟使用!$AJ$3:$AK$100,2,FALSE),VLOOKUP($AN8,連盟使用!$AL$3:$AM$100,2,FALSE)))))))))) | CG8: =IF(CF8="","",IF(AND(CF8="○",CG$3="国体"),VLOOKUP($AM8,連盟使用!$AN$3:$AO$100,2,FALSE),IF(AND(CF8="○",CG$3="通常",CG$1="通常・OPEN"),VLOOKUP($AM8,連盟使用!$AF$3:$AG$100,2,FALSE),IF(AND(CF8="○",CG$3="通常"),VLOOKUP($AM8,連盟使用!$AD$3:$AE$100,2,FALSE),IF(CF8="△",10000,IF(AND(CF8="○",CG$3="OPEN"),VLOOKUP($AM8,連盟使用!$AF$3:$AG$100,2,FALSE),IF(AND(CF8="○",CG$3="Jr",CG$1="Jrふじてん"),VLOOKUP($AM8,連盟使用!$AP$3:$AQ$100,2,FALSE),IF(AND(CF8="○",CG$3="Jr"),VLOOKUP($AM8,連盟使用!$AH$3:$AI$100,2,FALSE),IF(AND(CF8="○",CG$3="MS",$AE8=1),VLOOKUP($AN8,連盟使用!$AJ$3:$AK$100,2,FALSE),VLOOKUP($AN8,連盟使用!$AL$3:$AM$100,2,FALSE)))))))))) | CH8: =SUM(AT8:CG8) -> 0
A9: =IF(個表!A7="","",個表!A7) -> 4 | B9: =IF(個表!B7="","",個表!B7) | E9: =IF(個表!J7="","",個表!J7) | F9: =IF(個表!K7="","",個表!K7) | G9: =IF(個表!L7="","",個表!L7) | L9: =IF(個表!M7="","",個表!M7) | M9: =IF(個表!N7="","",個表!N7) | N9: =IF(個表!O7="","",個表!O7) | O9: =IF(個表!P7="","",個表!P7) | P9: =IF(個表!Q7="","",個表!Q7) | Q9: =IF(個表!G7="","",個表!G7) | S9: =IF(個表!R7="","",個表!R7) | T9: =IF(個表!S7="","",個表!S7) | V9: =IF(個表!C7="","",個表!C7) | W9: =IF(個表!D7="","",個表!D7) | X9: =IF(個表!E7="","",個表!E7) | Y9: =IF(個表!F7="","",個表!F7) | AE9: =IF(個表!H7="","",個表!H7) | AI9: =IF(個表!T7="","",個表!T7) | AL9: =IF(個表!I7="","",個表!I7) | AM9: =IF(個表!U7="","",個表!U7) | AN9: =IF(個表!V7="","",個表!V7) | AO9: =IF(個表!W7="","",個表!W7) | AP9: =IF(個表!X7="","",個表!X7) | AQ9: =IF(個表!Y7="","",個表!Y7) | AR9: =IF(個表!Z7="","",個表!Z7) | AS9: =IF(個表!AA7="","",個表!AA7) | AU9: =IF(AT9="","",IF(AND(AT9="○",AU$3="国体"),VLOOKUP($AM9,連盟使用!$AN$3:$AO$100,2,FALSE),IF(AND(AT9="○",AU$3="通常",AU$1="通常・OPEN"),VLOOKUP($AM9,連盟使用!$AF$3:$AG$100,2,FALSE),IF(AND(AT9="○",AU$3="通常"),VLOOKUP($AM9,連盟使用!$AD$3:$AE$100,2,FALSE),IF(AT9="△",10000,IF(AND(AT9="○",AU$3="OPEN"),VLOOKUP($AM9,連盟使用!$AF$3:$AG$100,2,FALSE),IF(AND(AT9="○",AU$3="Jr",AU$1="Jrふじてん"),VLOOKUP($AM9,連盟使用!$AP$3:$AQ$100,2,FALSE),IF(AND(AT9="○",AU$3="Jr"),VLOOKUP($AM9,連盟使用!$AH$3:$AI$100,2,FALSE),IF(AND(AT9="○",AU$3="MS",$AE9=1),VLOOKUP($AN9,連盟使用!$AJ$3:$AK$100,2,FALSE),VLOOKUP($AN9,連盟使用!$AL$3:$AM$100,2,FALSE)))))))))) | AW9: =IF(AV9="","",IF(AND(AV9="○",AW$3="国体"),VLOOKUP($AM9,連盟使用!$AN$3:$AO$100,2,FALSE),IF(AND(AV9="○",AW$3="通常",AW$1="通常・OPEN"),VLOOKUP($AM9,連盟使用!$AF$3:$AG$100,2,FALSE),IF(AND(AV9="○",AW$3="通常"),VLOOKUP($AM9,連盟使用!$AD$3:$AE$100,2,FALSE),IF(AV9="△",10000,IF(AND(AV9="○",AW$3="OPEN"),VLOOKUP($AM9,連盟使用!$AF$3:$AG$100,2,FALSE),IF(AND(AV9="○",AW$3="Jr",AW$1="Jrふじてん"),VLOOKUP($AM9,連盟使用!$AP$3:$AQ$100,2,FALSE),IF(AND(AV9="○",AW$3="Jr"),VLOOKUP($AM9,連盟使用!$AH$3:$AI$100,2,FALSE),IF(AND(AV9="○",AW$3="MS",$AE9=1),VLOOKUP($AN9,連盟使用!$AJ$3:$AK$100,2,FALSE),VLOOKUP($AN9,連盟使用!$AL$3:$AM$100,2,FALSE)))))))))) | AY9: =IF(AX9="","",IF(AND(AX9="○",AY$3="国体"),VLOOKUP($AM9,連盟使用!$AN$3:$AO$100,2,FALSE),IF(AND(AX9="○",AY$3="通常",AY$1="通常・OPEN"),VLOOKUP($AM9,連盟使用!$AF$3:$AG$100,2,FALSE),IF(AND(AX9="○",AY$3="通常"),VLOOKUP($AM9,連盟使用!$AD$3:$AE$100,2,FALSE),IF(AX9="△",10000,IF(AND(AX9="○",AY$3="OPEN"),VLOOKUP($AM9,連盟使用!$AF$3:$AG$100,2,FALSE),IF(AND(AX9="○",AY$3="Jr",AY$1="Jrふじてん"),VLOOKUP($AM9,連盟使用!$AP$3:$AQ$100,2,FALSE),IF(AND(AX9="○",AY$3="Jr"),VLOOKUP($AM9,連盟使用!$AH$3:$AI$100,2,FALSE),IF(AND(AX9="○",AY$3="MS",$AE9=1),VLOOKUP($AN9,連盟使用!$AJ$3:$AK$100,2,FALSE),VLOOKUP($AN9,連盟使用!$AL$3:$AM$100,2,FALSE)))))))))) | BA9: =IF(AZ9="","",IF(AND(AZ9="○",BA$3="国体"),VLOOKUP($AM9,連盟使用!$AN$3:$AO$100,2,FALSE),IF(AND(AZ9="○",BA$3="通常",BA$1="通常・OPEN"),VLOOKUP($AM9,連盟使用!$AF$3:$AG$100,2,FALSE),IF(AND(AZ9="○",BA$3="通常"),VLOOKUP($AM9,連盟使用!$AD$3:$AE$100,2,FALSE),IF(AZ9="△",10000,IF(AND(AZ9="○",BA$3="OPEN"),VLOOKUP($AM9,連盟使用!$AF$3:$AG$100,2,FALSE),IF(AND(AZ9="○",BA$3="Jr",BA$1="Jrふじてん"),VLOOKUP($AM9,連盟使用!$AP$3:$AQ$100,2,FALSE),IF(AND(AZ9="○",BA$3="Jr"),VLOOKUP($AM9,連盟使用!$AH$3:$AI$100,2,FALSE),IF(AND(AZ9="○",BA$3="MS",$AE9=1),VLOOKUP($AN9,連盟使用!$AJ$3:$AK$100,2,FALSE),VLOOKUP($AN9,連盟使用!$AL$3:$AM$100,2,FALSE)))))))))) | BC9: =IF(BB9="","",IF(AND(BB9="○",BC$3="国体"),VLOOKUP($AM9,連盟使用!$AN$3:$AO$100,2,FALSE),IF(AND(BB9="○",BC$3="通常",BC$1="通常・OPEN"),VLOOKUP($AM9,連盟使用!$AF$3:$AG$100,2,FALSE),IF(AND(BB9="○",BC$3="通常"),VLOOKUP($AM9,連盟使用!$AD$3:$AE$100,2,FALSE),IF(BB9="△",10000,IF(AND(BB9="○",BC$3="OPEN"),VLOOKUP($AM9,連盟使用!$AF$3:$AG$100,2,FALSE),IF(AND(BB9="○",BC$3="Jr",BC$1="Jrふじてん"),VLOOKUP($AM9,連盟使用!$AP$3:$AQ$100,2,FALSE),IF(AND(BB9="○",BC$3="Jr"),VLOOKUP($AM9,連盟使用!$AH$3:$AI$100,2,FALSE),IF(AND(BB9="○",BC$3="MS",$AE9=1),VLOOKUP($AN9,連盟使用!$AJ$3:$AK$100,2,FALSE),VLOOKUP($AN9,連盟使用!$AL$3:$AM$100,2,FALSE)))))))))) | BE9: =IF(BD9="","",IF(AND(BD9="○",BE$3="国体"),VLOOKUP($AM9,連盟使用!$AN$3:$AO$100,2,FALSE),IF(AND(BD9="○",BE$3="通常",BE$1="通常・OPEN"),VLOOKUP($AM9,連盟使用!$AF$3:$AG$100,2,FALSE),IF(AND(BD9="○",BE$3="通常"),VLOOKUP($AM9,連盟使用!$AD$3:$AE$100,2,FALSE),IF(BD9="△",10000,IF(AND(BD9="○",BE$3="OPEN"),VLOOKUP($AM9,連盟使用!$AF$3:$AG$100,2,FALSE),IF(AND(BD9="○",BE$3="Jr",BE$1="Jrふじてん"),VLOOKUP($AM9,連盟使用!$AP$3:$AQ$100,2,FALSE),IF(AND(BD9="○",BE$3="Jr"),VLOOKUP($AM9,連盟使用!$AH$3:$AI$100,2,FALSE),IF(AND(BD9="○",BE$3="MS",$AE9=1),VLOOKUP($AN9,連盟使用!$AJ$3:$AK$100,2,FALSE),VLOOKUP($AN9,連盟使用!$AL$3:$AM$100,2,FALSE)))))))))) | BG9: =IF(BF9="","",IF(AND(BF9="○",BG$3="国体"),VLOOKUP($AM9,連盟使用!$AN$3:$AO$100,2,FALSE),IF(AND(BF9="○",BG$3="通常",BG$1="通常・OPEN"),VLOOKUP($AM9,連盟使用!$AF$3:$AG$100,2,FALSE),IF(AND(BF9="○",BG$3="通常"),VLOOKUP($AM9,連盟使用!$AD$3:$AE$100,2,FALSE),IF(BF9="△",10000,IF(AND(BF9="○",BG$3="OPEN"),VLOOKUP($AM9,連盟使用!$AF$3:$AG$100,2,FALSE),IF(AND(BF9="○",BG$3="Jr",BG$1="Jrふじてん"),VLOOKUP($AM9,連盟使用!$AP$3:$AQ$100,2,FALSE),IF(AND(BF9="○",BG$3="Jr"),VLOOKUP($AM9,連盟使用!$AH$3:$AI$100,2,FALSE),IF(AND(BF9="○",BG$3="MS",$AE9=1),VLOOKUP($AN9,連盟使用!$AJ$3:$AK$100,2,FALSE),VLOOKUP($AN9,連盟使用!$AL$3:$AM$100,2,FALSE)))))))))) | BI9: =IF(BH9="","",IF(AND(BH9="○",BI$3="国体"),VLOOKUP($AM9,連盟使用!$AN$3:$AO$100,2,FALSE),IF(AND(BH9="○",BI$3="通常",BI$1="通常・OPEN"),VLOOKUP($AM9,連盟使用!$AF$3:$AG$100,2,FALSE),IF(AND(BH9="○",BI$3="通常"),VLOOKUP($AM9,連盟使用!$AD$3:$AE$100,2,FALSE),IF(BH9="△",10000,IF(AND(BH9="○",BI$3="OPEN"),VLOOKUP($AM9,連盟使用!$AF$3:$AG$100,2,FALSE),IF(AND(BH9="○",BI$3="Jr",BI$1="Jrふじてん"),VLOOKUP($AM9,連盟使用!$AP$3:$AQ$100,2,FALSE),IF(AND(BH9="○",BI$3="Jr"),VLOOKUP($AM9,連盟使用!$AH$3:$AI$100,2,FALSE),IF(AND(BH9="○",BI$3="MS",$AE9=1),VLOOKUP($AN9,連盟使用!$AJ$3:$AK$100,2,FALSE),VLOOKUP($AN9,連盟使用!$AL$3:$AM$100,2,FALSE)))))))))) | BK9: =IF(BJ9="","",IF(AND(BJ9="○",BK$3="国体"),VLOOKUP($AM9,連盟使用!$AN$3:$AO$100,2,FALSE),IF(AND(BJ9="○",BK$3="通常",BK$1="通常・OPEN"),VLOOKUP($AM9,連盟使用!$AF$3:$AG$100,2,FALSE),IF(AND(BJ9="○",BK$3="通常"),VLOOKUP($AM9,連盟使用!$AD$3:$AE$100,2,FALSE),IF(BJ9="△",10000,IF(AND(BJ9="○",BK$3="OPEN"),VLOOKUP($AM9,連盟使用!$AF$3:$AG$100,2,FALSE),IF(AND(BJ9="○",BK$3="Jr",BK$1="Jrふじてん"),VLOOKUP($AM9,連盟使用!$AP$3:$AQ$100,2,FALSE),IF(AND(BJ9="○",BK$3="Jr"),VLOOKUP($AM9,連盟使用!$AH$3:$AI$100,2,FALSE),IF(AND(BJ9="○",BK$3="MS",$AE9=1),VLOOKUP($AN9,連盟使用!$AJ$3:$AK$100,2,FALSE),VLOOKUP($AN9,連盟使用!$AL$3:$AM$100,2,FALSE)))))))))) | BM9: =IF(BL9="","",IF(AND(BL9="○",BM$3="国体"),VLOOKUP($AM9,連盟使用!$AN$3:$AO$100,2,FALSE),IF(AND(BL9="○",BM$3="通常",BM$1="通常・OPEN"),VLOOKUP($AM9,連盟使用!$AF$3:$AG$100,2,FALSE),IF(AND(BL9="○",BM$3="通常"),VLOOKUP($AM9,連盟使用!$AD$3:$AE$100,2,FALSE),IF(BL9="△",10000,IF(AND(BL9="○",BM$3="OPEN"),VLOOKUP($AM9,連盟使用!$AF$3:$AG$100,2,FALSE),IF(AND(BL9="○",BM$3="Jr",BM$1="Jrふじてん"),VLOOKUP($AM9,連盟使用!$AP$3:$AQ$100,2,FALSE),IF(AND(BL9="○",BM$3="Jr"),VLOOKUP($AM9,連盟使用!$AH$3:$AI$100,2,FALSE),IF(AND(BL9="○",BM$3="MS",$AE9=1),VLOOKUP($AN9,連盟使用!$AJ$3:$AK$100,2,FALSE),VLOOKUP($AN9,連盟使用!$AL$3:$AM$100,2,FALSE)))))))))) | BO9: =IF(BN9="","",IF(AND(BN9="○",BO$3="国体"),VLOOKUP($AM9,連盟使用!$AN$3:$AO$100,2,FALSE),IF(AND(BN9="○",BO$3="通常",BO$1="通常・OPEN"),VLOOKUP($AM9,連盟使用!$AF$3:$AG$100,2,FALSE),IF(AND(BN9="○",BO$3="通常"),VLOOKUP($AM9,連盟使用!$AD$3:$AE$100,2,FALSE),IF(BN9="△",10000,IF(AND(BN9="○",BO$3="OPEN"),VLOOKUP($AM9,連盟使用!$AF$3:$AG$100,2,FALSE),IF(AND(BN9="○",BO$3="Jr",BO$1="Jrふじてん"),VLOOKUP($AM9,連盟使用!$AP$3:$AQ$100,2,FALSE),IF(AND(BN9="○",BO$3="Jr"),VLOOKUP($AM9,連盟使用!$AH$3:$AI$100,2,FALSE),IF(AND(BN9="○",BO$3="MS",$AE9=1),VLOOKUP($AN9,連盟使用!$AJ$3:$AK$100,2,FALSE),VLOOKUP($AN9,連盟使用!$AL$3:$AM$100,2,FALSE)))))))))) | BQ9: =IF(BP9="","",IF(AND(BP9="○",BQ$3="国体"),VLOOKUP($AM9,連盟使用!$AN$3:$AO$100,2,FALSE),IF(AND(BP9="○",BQ$3="通常",BQ$1="通常・OPEN"),VLOOKUP($AM9,連盟使用!$AF$3:$AG$100,2,FALSE),IF(AND(BP9="○",BQ$3="通常"),VLOOKUP($AM9,連盟使用!$AD$3:$AE$100,2,FALSE),IF(BP9="△",10000,IF(AND(BP9="○",BQ$3="OPEN"),VLOOKUP($AM9,連盟使用!$AF$3:$AG$100,2,FALSE),IF(AND(BP9="○",BQ$3="Jr",BQ$1="Jrふじてん"),VLOOKUP($AM9,連盟使用!$AP$3:$AQ$100,2,FALSE),IF(AND(BP9="○",BQ$3="Jr"),VLOOKUP($AM9,連盟使用!$AH$3:$AI$100,2,FALSE),IF(AND(BP9="○",BQ$3="MS",$AE9=1),VLOOKUP($AN9,連盟使用!$AJ$3:$AK$100,2,FALSE),VLOOKUP($AN9,連盟使用!$AL$3:$AM$100,2,FALSE)))))))))) | BS9: =IF(BR9="","",IF(AND(BR9="○",BS$3="国体"),VLOOKUP($AM9,連盟使用!$AN$3:$AO$100,2,FALSE),IF(AND(BR9="○",BS$3="通常",BS$1="通常・OPEN"),VLOOKUP($AM9,連盟使用!$AF$3:$AG$100,2,FALSE),IF(AND(BR9="○",BS$3="通常"),VLOOKUP($AM9,連盟使用!$AD$3:$AE$100,2,FALSE),IF(BR9="△",10000,IF(AND(BR9="○",BS$3="OPEN"),VLOOKUP($AM9,連盟使用!$AF$3:$AG$100,2,FALSE),IF(AND(BR9="○",BS$3="Jr",BS$1="Jrふじてん"),VLOOKUP($AM9,連盟使用!$AP$3:$AQ$100,2,FALSE),IF(AND(BR9="○",BS$3="Jr"),VLOOKUP($AM9,連盟使用!$AH$3:$AI$100,2,FALSE),IF(AND(BR9="○",BS$3="MS",$AE9=1),VLOOKUP($AN9,連盟使用!$AJ$3:$AK$100,2,FALSE),VLOOKUP($AN9,連盟使用!$AL$3:$AM$100,2,FALSE)))))))))) | BU9: =IF(BT9="","",IF(AND(BT9="○",BU$3="国体"),VLOOKUP($AM9,連盟使用!$AN$3:$AO$100,2,FALSE),IF(AND(BT9="○",BU$3="通常",BU$1="通常・OPEN"),VLOOKUP($AM9,連盟使用!$AF$3:$AG$100,2,FALSE),IF(AND(BT9="○",BU$3="通常"),VLOOKUP($AM9,連盟使用!$AD$3:$AE$100,2,FALSE),IF(BT9="△",10000,IF(AND(BT9="○",BU$3="OPEN"),VLOOKUP($AM9,連盟使用!$AF$3:$AG$100,2,FALSE),IF(AND(BT9="○",BU$3="Jr",BU$1="Jrふじてん"),VLOOKUP($AM9,連盟使用!$AP$3:$AQ$100,2,FALSE),IF(AND(BT9="○",BU$3="Jr"),VLOOKUP($AM9,連盟使用!$AH$3:$AI$100,2,FALSE),IF(AND(BT9="○",BU$3="MS",$AE9=1),VLOOKUP($AN9,連盟使用!$AJ$3:$AK$100,2,FALSE),VLOOKUP($AN9,連盟使用!$AL$3:$AM$100,2,FALSE)))))))))) | BW9: =IF(BV9="","",IF(AND(BV9="○",BW$3="国体"),VLOOKUP($AM9,連盟使用!$AN$3:$AO$100,2,FALSE),IF(AND(BV9="○",BW$3="通常",BW$1="通常・OPEN"),VLOOKUP($AM9,連盟使用!$AF$3:$AG$100,2,FALSE),IF(AND(BV9="○",BW$3="通常"),VLOOKUP($AM9,連盟使用!$AD$3:$AE$100,2,FALSE),IF(BV9="△",10000,IF(AND(BV9="○",BW$3="OPEN"),VLOOKUP($AM9,連盟使用!$AF$3:$AG$100,2,FALSE),IF(AND(BV9="○",BW$3="Jr",BW$1="Jrふじてん"),VLOOKUP($AM9,連盟使用!$AP$3:$AQ$100,2,FALSE),IF(AND(BV9="○",BW$3="Jr"),VLOOKUP($AM9,連盟使用!$AH$3:$AI$100,2,FALSE),IF(AND(BV9="○",BW$3="MS",$AE9=1),VLOOKUP($AN9,連盟使用!$AJ$3:$AK$100,2,FALSE),VLOOKUP($AN9,連盟使用!$AL$3:$AM$100,2,FALSE)))))))))) | BY9: =IF(BX9="","",IF(AND(BX9="○",BY$3="国体"),VLOOKUP($AM9,連盟使用!$AN$3:$AO$100,2,FALSE),IF(AND(BX9="○",BY$3="通常",BY$1="通常・OPEN"),VLOOKUP($AM9,連盟使用!$AF$3:$AG$100,2,FALSE),IF(AND(BX9="○",BY$3="通常"),VLOOKUP($AM9,連盟使用!$AD$3:$AE$100,2,FALSE),IF(BX9="△",10000,IF(AND(BX9="○",BY$3="OPEN"),VLOOKUP($AM9,連盟使用!$AF$3:$AG$100,2,FALSE),IF(AND(BX9="○",BY$3="Jr",BY$1="Jrふじてん"),VLOOKUP($AM9,連盟使用!$AP$3:$AQ$100,2,FALSE),IF(AND(BX9="○",BY$3="Jr"),VLOOKUP($AM9,連盟使用!$AH$3:$AI$100,2,FALSE),IF(AND(BX9="○",BY$3="MS",$AE9=1),VLOOKUP($AN9,連盟使用!$AJ$3:$AK$100,2,FALSE),VLOOKUP($AN9,連盟使用!$AL$3:$AM$100,2,FALSE)))))))))) | CA9: =IF(BZ9="","",IF(AND(BZ9="○",CA$3="国体"),VLOOKUP($AM9,連盟使用!$AN$3:$AO$100,2,FALSE),IF(AND(BZ9="○",CA$3="通常",CA$1="通常・OPEN"),VLOOKUP($AM9,連盟使用!$AF$3:$AG$100,2,FALSE),IF(AND(BZ9="○",CA$3="通常"),VLOOKUP($AM9,連盟使用!$AD$3:$AE$100,2,FALSE),IF(BZ9="△",10000,IF(AND(BZ9="○",CA$3="OPEN"),VLOOKUP($AM9,連盟使用!$AF$3:$AG$100,2,FALSE),IF(AND(BZ9="○",CA$3="Jr",CA$1="Jrふじてん"),VLOOKUP($AM9,連盟使用!$AP$3:$AQ$100,2,FALSE),IF(AND(BZ9="○",CA$3="Jr"),VLOOKUP($AM9,連盟使用!$AH$3:$AI$100,2,FALSE),IF(AND(BZ9="○",CA$3="MS",$AE9=1),VLOOKUP($AN9,連盟使用!$AJ$3:$AK$100,2,FALSE),VLOOKUP($AN9,連盟使用!$AL$3:$AM$100,2,FALSE)))))))))) | CC9: =IF(CB9="","",IF(AND(CB9="○",CC$3="国体"),VLOOKUP($AM9,連盟使用!$AN$3:$AO$100,2,FALSE),IF(AND(CB9="○",CC$3="通常",CC$1="通常・OPEN"),VLOOKUP($AM9,連盟使用!$AF$3:$AG$100,2,FALSE),IF(AND(CB9="○",CC$3="通常"),VLOOKUP($AM9,連盟使用!$AD$3:$AE$100,2,FALSE),IF(CB9="△",10000,IF(AND(CB9="○",CC$3="OPEN"),VLOOKUP($AM9,連盟使用!$AF$3:$AG$100,2,FALSE),IF(AND(CB9="○",CC$3="Jr",CC$1="Jrふじてん"),VLOOKUP($AM9,連盟使用!$AP$3:$AQ$100,2,FALSE),IF(AND(CB9="○",CC$3="Jr"),VLOOKUP($AM9,連盟使用!$AH$3:$AI$100,2,FALSE),IF(AND(CB9="○",CC$3="MS",$AE9=1),VLOOKUP($AN9,連盟使用!$AJ$3:$AK$100,2,FALSE),VLOOKUP($AN9,連盟使用!$AL$3:$AM$100,2,FALSE)))))))))) | CE9: =IF(CD9="","",IF(AND(CD9="○",CE$3="国体"),VLOOKUP($AM9,連盟使用!$AN$3:$AO$100,2,FALSE),IF(AND(CD9="○",CE$3="通常",CE$1="通常・OPEN"),VLOOKUP($AM9,連盟使用!$AF$3:$AG$100,2,FALSE),IF(AND(CD9="○",CE$3="通常"),VLOOKUP($AM9,連盟使用!$AD$3:$AE$100,2,FALSE),IF(CD9="△",10000,IF(AND(CD9="○",CE$3="OPEN"),VLOOKUP($AM9,連盟使用!$AF$3:$AG$100,2,FALSE),IF(AND(CD9="○",CE$3="Jr",CE$1="Jrふじてん"),VLOOKUP($AM9,連盟使用!$AP$3:$AQ$100,2,FALSE),IF(AND(CD9="○",CE$3="Jr"),VLOOKUP($AM9,連盟使用!$AH$3:$AI$100,2,FALSE),IF(AND(CD9="○",CE$3="MS",$AE9=1),VLOOKUP($AN9,連盟使用!$AJ$3:$AK$100,2,FALSE),VLOOKUP($AN9,連盟使用!$AL$3:$AM$100,2,FALSE)))))))))) | CG9: =IF(CF9="","",IF(AND(CF9="○",CG$3="国体"),VLOOKUP($AM9,連盟使用!$AN$3:$AO$100,2,FALSE),IF(AND(CF9="○",CG$3="通常",CG$1="通常・OPEN"),VLOOKUP($AM9,連盟使用!$AF$3:$AG$100,2,FALSE),IF(AND(CF9="○",CG$3="通常"),VLOOKUP($AM9,連盟使用!$AD$3:$AE$100,2,FALSE),IF(CF9="△",10000,IF(AND(CF9="○",CG$3="OPEN"),VLOOKUP($AM9,連盟使用!$AF$3:$AG$100,2,FALSE),IF(AND(CF9="○",CG$3="Jr",CG$1="Jrふじてん"),VLOOKUP($AM9,連盟使用!$AP$3:$AQ$100,2,FALSE),IF(AND(CF9="○",CG$3="Jr"),VLOOKUP($AM9,連盟使用!$AH$3:$AI$100,2,FALSE),IF(AND(CF9="○",CG$3="MS",$AE9=1),VLOOKUP($AN9,連盟使用!$AJ$3:$AK$100,2,FALSE),VLOOKUP($AN9,連盟使用!$AL$3:$AM$100,2,FALSE)))))))))) | CH9: =SUM(AT9:CG9) -> 0
A10: =IF(個表!A8="","",個表!A8) -> 5 | B10: =IF(個表!B8="","",個表!B8) | E10: =IF(個表!J8="","",個表!J8) | F10: =IF(個表!K8="","",個表!K8) | G10: =IF(個表!L8="","",個表!L8) | L10: =IF(個表!M8="","",個表!M8) | M10: =IF(個表!N8="","",個表!N8) | N10: =IF(個表!O8="","",個表!O8) | O10: =IF(個表!P8="","",個表!P8) | P10: =IF(個表!Q8="","",個表!Q8) | Q10: =IF(個表!G8="","",個表!G8) | S10: =IF(個表!R8="","",個表!R8) | T10: =IF(個表!S8="","",個表!S8) | V10: =IF(個表!C8="","",個表!C8) | W10: =IF(個表!D8="","",個表!D8) | X10: =IF(個表!E8="","",個表!E8) | Y10: =IF(個表!F8="","",個表!F8) | AE10: =IF(個表!H8="","",個表!H8) | AI10: =IF(個表!T8="","",個表!T8) | AL10: =IF(個表!I8="","",個表!I8) | AM10: =IF(個表!U8="","",個表!U8) | AN10: =IF(個表!V8="","",個表!V8) | AO10: =IF(個表!W8="","",個表!W8) | AP10: =IF(個表!X8="","",個表!X8) | AQ10: =IF(個表!Y8="","",個表!Y8) | AR10: =IF(個表!Z8="","",個表!Z8) | AS10: =IF(個表!AA8="","",個表!AA8) | AU10: =IF(AT10="","",IF(AND(AT10="○",AU$3="国体"),VLOOKUP($AM10,連盟使用!$AN$3:$AO$100,2,FALSE),IF(AND(AT10="○",AU$3="通常",AU$1="通常・OPEN"),VLOOKUP($AM10,連盟使用!$AF$3:$AG$100,2,FALSE),IF(AND(AT10="○",AU$3="通常"),VLOOKUP($AM10,連盟使用!$AD$3:$AE$100,2,FALSE),IF(AT10="△",10000,IF(AND(AT10="○",AU$3="OPEN"),VLOOKUP($AM10,連盟使用!$AF$3:$AG$100,2,FALSE),IF(AND(AT10="○",AU$3="Jr",AU$1="Jrふじてん"),VLOOKUP($AM10,連盟使用!$AP$3:$AQ$100,2,FALSE),IF(AND(AT10="○",AU$3="Jr"),VLOOKUP($AM10,連盟使用!$AH$3:$AI$100,2,FALSE),IF(AND(AT10="○",AU$3="MS",$AE10=1),VLOOKUP($AN10,連盟使用!$AJ$3:$AK$100,2,FALSE),VLOOKUP($AN10,連盟使用!$AL$3:$AM$100,2,FALSE)))))))))) | AW10: =IF(AV10="","",IF(AND(AV10="○",AW$3="国体"),VLOOKUP($AM10,連盟使用!$AN$3:$AO$100,2,FALSE),IF(AND(AV10="○",AW$3="通常",AW$1="通常・OPEN"),VLOOKUP($AM10,連盟使用!$AF$3:$AG$100,2,FALSE),IF(AND(AV10="○",AW$3="通常"),VLOOKUP($AM10,連盟使用!$AD$3:$AE$100,2,FALSE),IF(AV10="△",10000,IF(AND(AV10="○",AW$3="OPEN"),VLOOKUP($AM10,連盟使用!$AF$3:$AG$100,2,FALSE),IF(AND(AV10="○",AW$3="Jr",AW$1="Jrふじてん"),VLOOKUP($AM10,連盟使用!$AP$3:$AQ$100,2,FALSE),IF(AND(AV10="○",AW$3="Jr"),VLOOKUP($AM10,連盟使用!$AH$3:$AI$100,2,FALSE),IF(AND(AV10="○",AW$3="MS",$AE10=1),VLOOKUP($AN10,連盟使用!$AJ$3:$AK$100,2,FALSE),VLOOKUP($AN10,連盟使用!$AL$3:$AM$100,2,FALSE)))))))))) | AY10: =IF(AX10="","",IF(AND(AX10="○",AY$3="国体"),VLOOKUP($AM10,連盟使用!$AN$3:$AO$100,2,FALSE),IF(AND(AX10="○",AY$3="通常",AY$1="通常・OPEN"),VLOOKUP($AM10,連盟使用!$AF$3:$AG$100,2,FALSE),IF(AND(AX10="○",AY$3="通常"),VLOOKUP($AM10,連盟使用!$AD$3:$AE$100,2,FALSE),IF(AX10="△",10000,IF(AND(AX10="○",AY$3="OPEN"),VLOOKUP($AM10,連盟使用!$AF$3:$AG$100,2,FALSE),IF(AND(AX10="○",AY$3="Jr",AY$1="Jrふじてん"),VLOOKUP($AM10,連盟使用!$AP$3:$AQ$100,2,FALSE),IF(AND(AX10="○",AY$3="Jr"),VLOOKUP($AM10,連盟使用!$AH$3:$AI$100,2,FALSE),IF(AND(AX10="○",AY$3="MS",$AE10=1),VLOOKUP($AN10,連盟使用!$AJ$3:$AK$100,2,FALSE),VLOOKUP($AN10,連盟使用!$AL$3:$AM$100,2,FALSE)))))))))) | BA10: =IF(AZ10="","",IF(AND(AZ10="○",BA$3="国体"),VLOOKUP($AM10,連盟使用!$AN$3:$AO$100,2,FALSE),IF(AND(AZ10="○",BA$3="通常",BA$1="通常・OPEN"),VLOOKUP($AM10,連盟使用!$AF$3:$AG$100,2,FALSE),IF(AND(AZ10="○",BA$3="通常"),VLOOKUP($AM10,連盟使用!$AD$3:$AE$100,2,FALSE),IF(AZ10="△",10000,IF(AND(AZ10="○",BA$3="OPEN"),VLOOKUP($AM10,連盟使用!$AF$3:$AG$100,2,FALSE),IF(AND(AZ10="○",BA$3="Jr",BA$1="Jrふじてん"),VLOOKUP($AM10,連盟使用!$AP$3:$AQ$100,2,FALSE),IF(AND(AZ10="○",BA$3="Jr"),VLOOKUP($AM10,連盟使用!$AH$3:$AI$100,2,FALSE),IF(AND(AZ10="○",BA$3="MS",$AE10=1),VLOOKUP($AN10,連盟使用!$AJ$3:$AK$100,2,FALSE),VLOOKUP($AN10,連盟使用!$AL$3:$AM$100,2,FALSE)))))))))) | BC10: =IF(BB10="","",IF(AND(BB10="○",BC$3="国体"),VLOOKUP($AM10,連盟使用!$AN$3:$AO$100,2,FALSE),IF(AND(BB10="○",BC$3="通常",BC$1="通常・OPEN"),VLOOKUP($AM10,連盟使用!$AF$3:$AG$100,2,FALSE),IF(AND(BB10="○",BC$3="通常"),VLOOKUP($AM10,連盟使用!$AD$3:$AE$100,2,FALSE),IF(BB10="△",10000,IF(AND(BB10="○",BC$3="OPEN"),VLOOKUP($AM10,連盟使用!$AF$3:$AG$100,2,FALSE),IF(AND(BB10="○",BC$3="Jr",BC$1="Jrふじてん"),VLOOKUP($AM10,連盟使用!$AP$3:$AQ$100,2,FALSE),IF(AND(BB10="○",BC$3="Jr"),VLOOKUP($AM10,連盟使用!$AH$3:$AI$100,2,FALSE),IF(AND(BB10="○",BC$3="MS",$AE10=1),VLOOKUP($AN10,連盟使用!$AJ$3:$AK$100,2,FALSE),VLOOKUP($AN10,連盟使用!$AL$3:$AM$100,2,FALSE)))))))))) | BE10: =IF(BD10="","",IF(AND(BD10="○",BE$3="国体"),VLOOKUP($AM10,連盟使用!$AN$3:$AO$100,2,FALSE),IF(AND(BD10="○",BE$3="通常",BE$1="通常・OPEN"),VLOOKUP($AM10,連盟使用!$AF$3:$AG$100,2,FALSE),IF(AND(BD10="○",BE$3="通常"),VLOOKUP($AM10,連盟使用!$AD$3:$AE$100,2,FALSE),IF(BD10="△",10000,IF(AND(BD10="○",BE$3="OPEN"),VLOOKUP($AM10,連盟使用!$AF$3:$AG$100,2,FALSE),IF(AND(BD10="○",BE$3="Jr",BE$1="Jrふじてん"),VLOOKUP($AM10,連盟使用!$AP$3:$AQ$100,2,FALSE),IF(AND(BD10="○",BE$3="Jr"),VLOOKUP($AM10,連盟使用!$AH$3:$AI$100,2,FALSE),IF(AND(BD10="○",BE$3="MS",$AE10=1),VLOOKUP($AN10,連盟使用!$AJ$3:$AK$100,2,FALSE),VLOOKUP($AN10,連盟使用!$AL$3:$AM$100,2,FALSE)))))))))) | BG10: =IF(BF10="","",IF(AND(BF10="○",BG$3="国体"),VLOOKUP($AM10,連盟使用!$AN$3:$AO$100,2,FALSE),IF(AND(BF10="○",BG$3="通常",BG$1="通常・OPEN"),VLOOKUP($AM10,連盟使用!$AF$3:$AG$100,2,FALSE),IF(AND(BF10="○",BG$3="通常"),VLOOKUP($AM10,連盟使用!$AD$3:$AE$100,2,FALSE),IF(BF10="△",10000,IF(AND(BF10="○",BG$3="OPEN"),VLOOKUP($AM10,連盟使用!$AF$3:$AG$100,2,FALSE),IF(AND(BF10="○",BG$3="Jr",BG$1="Jrふじてん"),VLOOKUP($AM10,連盟使用!$AP$3:$AQ$100,2,FALSE),IF(AND(BF10="○",BG$3="Jr"),VLOOKUP($AM10,連盟使用!$AH$3:$AI$100,2,FALSE),IF(AND(BF10="○",BG$3="MS",$AE10=1),VLOOKUP($AN10,連盟使用!$AJ$3:$AK$100,2,FALSE),VLOOKUP($AN10,連盟使用!$AL$3:$AM$100,2,FALSE)))))))))) | BI10: =IF(BH10="","",IF(AND(BH10="○",BI$3="国体"),VLOOKUP($AM10,連盟使用!$AN$3:$AO$100,2,FALSE),IF(AND(BH10="○",BI$3="通常",BI$1="通常・OPEN"),VLOOKUP($AM10,連盟使用!$AF$3:$AG$100,2,FALSE),IF(AND(BH10="○",BI$3="通常"),VLOOKUP($AM10,連盟使用!$AD$3:$AE$100,2,FALSE),IF(BH10="△",10000,IF(AND(BH10="○",BI$3="OPEN"),VLOOKUP($AM10,連盟使用!$AF$3:$AG$100,2,FALSE),IF(AND(BH10="○",BI$3="Jr",BI$1="Jrふじてん"),VLOOKUP($AM10,連盟使用!$AP$3:$AQ$100,2,FALSE),IF(AND(BH10="○",BI$3="Jr"),VLOOKUP($AM10,連盟使用!$AH$3:$AI$100,2,FALSE),IF(AND(BH10="○",BI$3="MS",$AE10=1),VLOOKUP($AN10,連盟使用!$AJ$3:$AK$100,2,FALSE),VLOOKUP($AN10,連盟使用!$AL$3:$AM$100,2,FALSE)))))))))) | BK10: =IF(BJ10="","",IF(AND(BJ10="○",BK$3="国体"),VLOOKUP($AM10,連盟使用!$AN$3:$AO$100,2,FALSE),IF(AND(BJ10="○",BK$3="通常",BK$1="通常・OPEN"),VLOOKUP($AM10,連盟使用!$AF$3:$AG$100,2,FALSE),IF(AND(BJ10="○",BK$3="通常"),VLOOKUP($AM10,連盟使用!$AD$3:$AE$100,2,FALSE),IF(BJ10="△",10000,IF(AND(BJ10="○",BK$3="OPEN"),VLOOKUP($AM10,連盟使用!$AF$3:$AG$100,2,FALSE),IF(AND(BJ10="○",BK$3="Jr",BK$1="Jrふじてん"),VLOOKUP($AM10,連盟使用!$AP$3:$AQ$100,2,FALSE),IF(AND(BJ10="○",BK$3="Jr"),VLOOKUP($AM10,連盟使用!$AH$3:$AI$100,2,FALSE),IF(AND(BJ10="○",BK$3="MS",$AE10=1),VLOOKUP($AN10,連盟使用!$AJ$3:$AK$100,2,FALSE),VLOOKUP($AN10,連盟使用!$AL$3:$AM$100,2,FALSE)))))))))) | BM10: =IF(BL10="","",IF(AND(BL10="○",BM$3="国体"),VLOOKUP($AM10,連盟使用!$AN$3:$AO$100,2,FALSE),IF(AND(BL10="○",BM$3="通常",BM$1="通常・OPEN"),VLOOKUP($AM10,連盟使用!$AF$3:$AG$100,2,FALSE),IF(AND(BL10="○",BM$3="通常"),VLOOKUP($AM10,連盟使用!$AD$3:$AE$100,2,FALSE),IF(BL10="△",10000,IF(AND(BL10="○",BM$3="OPEN"),VLOOKUP($AM10,連盟使用!$AF$3:$AG$100,2,FALSE),IF(AND(BL10="○",BM$3="Jr",BM$1="Jrふじてん"),VLOOKUP($AM10,連盟使用!$AP$3:$AQ$100,2,FALSE),IF(AND(BL10="○",BM$3="Jr"),VLOOKUP($AM10,連盟使用!$AH$3:$AI$100,2,FALSE),IF(AND(BL10="○",BM$3="MS",$AE10=1),VLOOKUP($AN10,連盟使用!$AJ$3:$AK$100,2,FALSE),VLOOKUP($AN10,連盟使用!$AL$3:$AM$100,2,FALSE)))))))))) | BO10: =IF(BN10="","",IF(AND(BN10="○",BO$3="国体"),VLOOKUP($AM10,連盟使用!$AN$3:$AO$100,2,FALSE),IF(AND(BN10="○",BO$3="通常",BO$1="通常・OPEN"),VLOOKUP($AM10,連盟使用!$AF$3:$AG$100,2,FALSE),IF(AND(BN10="○",BO$3="通常"),VLOOKUP($AM10,連盟使用!$AD$3:$AE$100,2,FALSE),IF(BN10="△",10000,IF(AND(BN10="○",BO$3="OPEN"),VLOOKUP($AM10,連盟使用!$AF$3:$AG$100,2,FALSE),IF(AND(BN10="○",BO$3="Jr",BO$1="Jrふじてん"),VLOOKUP($AM10,連盟使用!$AP$3:$AQ$100,2,FALSE),IF(AND(BN10="○",BO$3="Jr"),VLOOKUP($AM10,連盟使用!$AH$3:$AI$100,2,FALSE),IF(AND(BN10="○",BO$3="MS",$AE10=1),VLOOKUP($AN10,連盟使用!$AJ$3:$AK$100,2,FALSE),VLOOKUP($AN10,連盟使用!$AL$3:$AM$100,2,FALSE)))))))))) | BQ10: =IF(BP10="","",IF(AND(BP10="○",BQ$3="国体"),VLOOKUP($AM10,連盟使用!$AN$3:$AO$100,2,FALSE),IF(AND(BP10="○",BQ$3="通常",BQ$1="通常・OPEN"),VLOOKUP($AM10,連盟使用!$AF$3:$AG$100,2,FALSE),IF(AND(BP10="○",BQ$3="通常"),VLOOKUP($AM10,連盟使用!$AD$3:$AE$100,2,FALSE),IF(BP10="△",10000,IF(AND(BP10="○",BQ$3="OPEN"),VLOOKUP($AM10,連盟使用!$AF$3:$AG$100,2,FALSE),IF(AND(BP10="○",BQ$3="Jr",BQ$1="Jrふじてん"),VLOOKUP($AM10,連盟使用!$AP$3:$AQ$100,2,FALSE),IF(AND(BP10="○",BQ$3="Jr"),VLOOKUP($AM10,連盟使用!$AH$3:$AI$100,2,FALSE),IF(AND(BP10="○",BQ$3="MS",$AE10=1),VLOOKUP($AN10,連盟使用!$AJ$3:$AK$100,2,FALSE),VLOOKUP($AN10,連盟使用!$AL$3:$AM$100,2,FALSE)))))))))) | BS10: =IF(BR10="","",IF(AND(BR10="○",BS$3="国体"),VLOOKUP($AM10,連盟使用!$AN$3:$AO$100,2,FALSE),IF(AND(BR10="○",BS$3="通常",BS$1="通常・OPEN"),VLOOKUP($AM10,連盟使用!$AF$3:$AG$100,2,FALSE),IF(AND(BR10="○",BS$3="通常"),VLOOKUP($AM10,連盟使用!$AD$3:$AE$100,2,FALSE),IF(BR10="△",10000,IF(AND(BR10="○",BS$3="OPEN"),VLOOKUP($AM10,連盟使用!$AF$3:$AG$100,2,FALSE),IF(AND(BR10="○",BS$3="Jr",BS$1="Jrふじてん"),VLOOKUP($AM10,連盟使用!$AP$3:$AQ$100,2,FALSE),IF(AND(BR10="○",BS$3="Jr"),VLOOKUP($AM10,連盟使用!$AH$3:$AI$100,2,FALSE),IF(AND(BR10="○",BS$3="MS",$AE10=1),VLOOKUP($AN10,連盟使用!$AJ$3:$AK$100,2,FALSE),VLOOKUP($AN10,連盟使用!$AL$3:$AM$100,2,FALSE)))))))))) | BU10: =IF(BT10="","",IF(AND(BT10="○",BU$3="国体"),VLOOKUP($AM10,連盟使用!$AN$3:$AO$100,2,FALSE),IF(AND(BT10="○",BU$3="通常",BU$1="通常・OPEN"),VLOOKUP($AM10,連盟使用!$AF$3:$AG$100,2,FALSE),IF(AND(BT10="○",BU$3="通常"),VLOOKUP($AM10,連盟使用!$AD$3:$AE$100,2,FALSE),IF(BT10="△",10000,IF(AND(BT10="○",BU$3="OPEN"),VLOOKUP($AM10,連盟使用!$AF$3:$AG$100,2,FALSE),IF(AND(BT10="○",BU$3="Jr",BU$1="Jrふじてん"),VLOOKUP($AM10,連盟使用!$AP$3:$AQ$100,2,FALSE),IF(AND(BT10="○",BU$3="Jr"),VLOOKUP($AM10,連盟使用!$AH$3:$AI$100,2,FALSE),IF(AND(BT10="○",BU$3="MS",$AE10=1),VLOOKUP($AN10,連盟使用!$AJ$3:$AK$100,2,FALSE),VLOOKUP($AN10,連盟使用!$AL$3:$AM$100,2,FALSE)))))))))) | BW10: =IF(BV10="","",IF(AND(BV10="○",BW$3="国体"),VLOOKUP($AM10,連盟使用!$AN$3:$AO$100,2,FALSE),IF(AND(BV10="○",BW$3="通常",BW$1="通常・OPEN"),VLOOKUP($AM10,連盟使用!$AF$3:$AG$100,2,FALSE),IF(AND(BV10="○",BW$3="通常"),VLOOKUP($AM10,連盟使用!$AD$3:$AE$100,2,FALSE),IF(BV10="△",10000,IF(AND(BV10="○",BW$3="OPEN"),VLOOKUP($AM10,連盟使用!$AF$3:$AG$100,2,FALSE),IF(AND(BV10="○",BW$3="Jr",BW$1="Jrふじてん"),VLOOKUP($AM10,連盟使用!$AP$3:$AQ$100,2,FALSE),IF(AND(BV10="○",BW$3="Jr"),VLOOKUP($AM10,連盟使用!$AH$3:$AI$100,2,FALSE),IF(AND(BV10="○",BW$3="MS",$AE10=1),VLOOKUP($AN10,連盟使用!$AJ$3:$AK$100,2,FALSE),VLOOKUP($AN10,連盟使用!$AL$3:$AM$100,2,FALSE)))))))))) | BY10: =IF(BX10="","",IF(AND(BX10="○",BY$3="国体"),VLOOKUP($AM10,連盟使用!$AN$3:$AO$100,2,FALSE),IF(AND(BX10="○",BY$3="通常",BY$1="通常・OPEN"),VLOOKUP($AM10,連盟使用!$AF$3:$AG$100,2,FALSE),IF(AND(BX10="○",BY$3="通常"),VLOOKUP($AM10,連盟使用!$AD$3:$AE$100,2,FALSE),IF(BX10="△",10000,IF(AND(BX10="○",BY$3="OPEN"),VLOOKUP($AM10,連盟使用!$AF$3:$AG$100,2,FALSE),IF(AND(BX10="○",BY$3="Jr",BY$1="Jrふじてん"),VLOOKUP($AM10,連盟使用!$AP$3:$AQ$100,2,FALSE),IF(AND(BX10="○",BY$3="Jr"),VLOOKUP($AM10,連盟使用!$AH$3:$AI$100,2,FALSE),IF(AND(BX10="○",BY$3="MS",$AE10=1),VLOOKUP($AN10,連盟使用!$AJ$3:$AK$100,2,FALSE),VLOOKUP($AN10,連盟使用!$AL$3:$AM$100,2,FALSE)))))))))) | CA10: =IF(BZ10="","",IF(AND(BZ10="○",CA$3="国体"),VLOOKUP($AM10,連盟使用!$AN$3:$AO$100,2,FALSE),IF(AND(BZ10="○",CA$3="通常",CA$1="通常・OPEN"),VLOOKUP($AM10,連盟使用!$AF$3:$AG$100,2,FALSE),IF(AND(BZ10="○",CA$3="通常"),VLOOKUP($AM10,連盟使用!$AD$3:$AE$100,2,FALSE),IF(BZ10="△",10000,IF(AND(BZ10="○",CA$3="OPEN"),VLOOKUP($AM10,連盟使用!$AF$3:$AG$100,2,FALSE),IF(AND(BZ10="○",CA$3="Jr",CA$1="Jrふじてん"),VLOOKUP($AM10,連盟使用!$AP$3:$AQ$100,2,FALSE),IF(AND(BZ10="○",CA$3="Jr"),VLOOKUP($AM10,連盟使用!$AH$3:$AI$100,2,FALSE),IF(AND(BZ10="○",CA$3="MS",$AE10=1),VLOOKUP($AN10,連盟使用!$AJ$3:$AK$100,2,FALSE),VLOOKUP($AN10,連盟使用!$AL$3:$AM$100,2,FALSE)))))))))) | CC10: =IF(CB10="","",IF(AND(CB10="○",CC$3="国体"),VLOOKUP($AM10,連盟使用!$AN$3:$AO$100,2,FALSE),IF(AND(CB10="○",CC$3="通常",CC$1="通常・OPEN"),VLOOKUP($AM10,連盟使用!$AF$3:$AG$100,2,FALSE),IF(AND(CB10="○",CC$3="通常"),VLOOKUP($AM10,連盟使用!$AD$3:$AE$100,2,FALSE),IF(CB10="△",10000,IF(AND(CB10="○",CC$3="OPEN"),VLOOKUP($AM10,連盟使用!$AF$3:$AG$100,2,FALSE),IF(AND(CB10="○",CC$3="Jr",CC$1="Jrふじてん"),VLOOKUP($AM10,連盟使用!$AP$3:$AQ$100,2,FALSE),IF(AND(CB10="○",CC$3="Jr"),VLOOKUP($AM10,連盟使用!$AH$3:$AI$100,2,FALSE),IF(AND(CB10="○",CC$3="MS",$AE10=1),VLOOKUP($AN10,連盟使用!$AJ$3:$AK$100,2,FALSE),VLOOKUP($AN10,連盟使用!$AL$3:$AM$100,2,FALSE)))))))))) | CE10: =IF(CD10="","",IF(AND(CD10="○",CE$3="国体"),VLOOKUP($AM10,連盟使用!$AN$3:$AO$100,2,FALSE),IF(AND(CD10="○",CE$3="通常",CE$1="通常・OPEN"),VLOOKUP($AM10,連盟使用!$AF$3:$AG$100,2,FALSE),IF(AND(CD10="○",CE$3="通常"),VLOOKUP($AM10,連盟使用!$AD$3:$AE$100,2,FALSE),IF(CD10="△",10000,IF(AND(CD10="○",CE$3="OPEN"),VLOOKUP($AM10,連盟使用!$AF$3:$AG$100,2,FALSE),IF(AND(CD10="○",CE$3="Jr",CE$1="Jrふじてん"),VLOOKUP($AM10,連盟使用!$AP$3:$AQ$100,2,FALSE),IF(AND(CD10="○",CE$3="Jr"),VLOOKUP($AM10,連盟使用!$AH$3:$AI$100,2,FALSE),IF(AND(CD10="○",CE$3="MS",$AE10=1),VLOOKUP($AN10,連盟使用!$AJ$3:$AK$100,2,FALSE),VLOOKUP($AN10,連盟使用!$AL$3:$AM$100,2,FALSE)))))))))) | CG10: =IF(CF10="","",IF(AND(CF10="○",CG$3="国体"),VLOOKUP($AM10,連盟使用!$AN$3:$AO$100,2,FALSE),IF(AND(CF10="○",CG$3="通常",CG$1="通常・OPEN"),VLOOKUP($AM10,連盟使用!$AF$3:$AG$100,2,FALSE),IF(AND(CF10="○",CG$3="通常"),VLOOKUP($AM10,連盟使用!$AD$3:$AE$100,2,FALSE),IF(CF10="△",10000,IF(AND(CF10="○",CG$3="OPEN"),VLOOKUP($AM10,連盟使用!$AF$3:$AG$100,2,FALSE),IF(AND(CF10="○",CG$3="Jr",CG$1="Jrふじてん"),VLOOKUP($AM10,連盟使用!$AP$3:$AQ$100,2,FALSE),IF(AND(CF10="○",CG$3="Jr"),VLOOKUP($AM10,連盟使用!$AH$3:$AI$100,2,FALSE),IF(AND(CF10="○",CG$3="MS",$AE10=1),VLOOKUP($AN10,連盟使用!$AJ$3:$AK$100,2,FALSE),VLOOKUP($AN10,連盟使用!$AL$3:$AM$100,2,FALSE)))))))))) | CH10: =SUM(AT10:CG10) -> 0
A11: =IF(個表!A9="","",個表!A9) -> 6 | B11: =IF(個表!B9="","",個表!B9) | E11: =IF(個表!J9="","",個表!J9) | F11: =IF(個表!K9="","",個表!K9) | G11: =IF(個表!L9="","",個表!L9) | L11: =IF(個表!M9="","",個表!M9) | M11: =IF(個表!N9="","",個表!N9) | N11: =IF(個表!O9="","",個表!O9) | O11: =IF(個表!P9="","",個表!P9) | P11: =IF(個表!Q9="","",個表!Q9) | Q11: =IF(個表!G9="","",個表!G9) | S11: =IF(個表!R9="","",個表!R9) | T11: =IF(個表!S9="","",個表!S9) | V11: =IF(個表!C9="","",個表!C9) | W11: =IF(個表!D9="","",個表!D9) | X11: =IF(個表!E9="","",個表!E9) | Y11: =IF(個表!F9="","",個表!F9) | AE11: =IF(個表!H9="","",個表!H9) | AI11: =IF(個表!T9="","",個表!T9) | AL11: =IF(個表!I9="","",個表!I9) | AM11: =IF(個表!U9="","",個表!U9) | AN11: =IF(個表!V9="","",個表!V9) | AO11: =IF(個表!W9="","",個表!W9) | AP11: =IF(個表!X9="","",個表!X9) | AQ11: =IF(個表!Y9="","",個表!Y9) | AR11: =IF(個表!Z9="","",個表!Z9) | AS11: =IF(個表!AA9="","",個表!AA9) | AU11: =IF(AT11="","",IF(AND(AT11="○",AU$3="国体"),VLOOKUP($AM11,連盟使用!$AN$3:$AO$100,2,FALSE),IF(AND(AT11="○",AU$3="通常",AU$1="通常・OPEN"),VLOOKUP($AM11,連盟使用!$AF$3:$AG$100,2,FALSE),IF(AND(AT11="○",AU$3="通常"),VLOOKUP($AM11,連盟使用!$AD$3:$AE$100,2,FALSE),IF(AT11="△",10000,IF(AND(AT11="○",AU$3="OPEN"),VLOOKUP($AM11,連盟使用!$AF$3:$AG$100,2,FALSE),IF(AND(AT11="○",AU$3="Jr",AU$1="Jrふじてん"),VLOOKUP($AM11,連盟使用!$AP$3:$AQ$100,2,FALSE),IF(AND(AT11="○",AU$3="Jr"),VLOOKUP($AM11,連盟使用!$AH$3:$AI$100,2,FALSE),IF(AND(AT11="○",AU$3="MS",$AE11=1),VLOOKUP($AN11,連盟使用!$AJ$3:$AK$100,2,FALSE),VLOOKUP($AN11,連盟使用!$AL$3:$AM$100,2,FALSE)))))))))) | AW11: =IF(AV11="","",IF(AND(AV11="○",AW$3="国体"),VLOOKUP($AM11,連盟使用!$AN$3:$AO$100,2,FALSE),IF(AND(AV11="○",AW$3="通常",AW$1="通常・OPEN"),VLOOKUP($AM11,連盟使用!$AF$3:$AG$100,2,FALSE),IF(AND(AV11="○",AW$3="通常"),VLOOKUP($AM11,連盟使用!$AD$3:$AE$100,2,FALSE),IF(AV11="△",10000,IF(AND(AV11="○",AW$3="OPEN"),VLOOKUP($AM11,連盟使用!$AF$3:$AG$100,2,FALSE),IF(AND(AV11="○",AW$3="Jr",AW$1="Jrふじてん"),VLOOKUP($AM11,連盟使用!$AP$3:$AQ$100,2,FALSE),IF(AND(AV11="○",AW$3="Jr"),VLOOKUP($AM11,連盟使用!$AH$3:$AI$100,2,FALSE),IF(AND(AV11="○",AW$3="MS",$AE11=1),VLOOKUP($AN11,連盟使用!$AJ$3:$AK$100,2,FALSE),VLOOKUP($AN11,連盟使用!$AL$3:$AM$100,2,FALSE)))))))))) | AY11: =IF(AX11="","",IF(AND(AX11="○",AY$3="国体"),VLOOKUP($AM11,連盟使用!$AN$3:$AO$100,2,FALSE),IF(AND(AX11="○",AY$3="通常",AY$1="通常・OPEN"),VLOOKUP($AM11,連盟使用!$AF$3:$AG$100,2,FALSE),IF(AND(AX11="○",AY$3="通常"),VLOOKUP($AM11,連盟使用!$AD$3:$AE$100,2,FALSE),IF(AX11="△",10000,IF(AND(AX11="○",AY$3="OPEN"),VLOOKUP($AM11,連盟使用!$AF$3:$AG$100,2,FALSE),IF(AND(AX11="○",AY$3="Jr",AY$1="Jrふじてん"),VLOOKUP($AM11,連盟使用!$AP$3:$AQ$100,2,FALSE),IF(AND(AX11="○",AY$3="Jr"),VLOOKUP($AM11,連盟使用!$AH$3:$AI$100,2,FALSE),IF(AND(AX11="○",AY$3="MS",$AE11=1),VLOOKUP($AN11,連盟使用!$AJ$3:$AK$100,2,FALSE),VLOOKUP($AN11,連盟使用!$AL$3:$AM$100,2,FALSE)))))))))) | BA11: =IF(AZ11="","",IF(AND(AZ11="○",BA$3="国体"),VLOOKUP($AM11,連盟使用!$AN$3:$AO$100,2,FALSE),IF(AND(AZ11="○",BA$3="通常",BA$1="通常・OPEN"),VLOOKUP($AM11,連盟使用!$AF$3:$AG$100,2,FALSE),IF(AND(AZ11="○",BA$3="通常"),VLOOKUP($AM11,連盟使用!$AD$3:$AE$100,2,FALSE),IF(AZ11="△",10000,IF(AND(AZ11="○",BA$3="OPEN"),VLOOKUP($AM11,連盟使用!$AF$3:$AG$100,2,FALSE),IF(AND(AZ11="○",BA$3="Jr",BA$1="Jrふじてん"),VLOOKUP($AM11,連盟使用!$AP$3:$AQ$100,2,FALSE),IF(AND(AZ11="○",BA$3="Jr"),VLOOKUP($AM11,連盟使用!$AH$3:$AI$100,2,FALSE),IF(AND(AZ11="○",BA$3="MS",$AE11=1),VLOOKUP($AN11,連盟使用!$AJ$3:$AK$100,2,FALSE),VLOOKUP($AN11,連盟使用!$AL$3:$AM$100,2,FALSE)))))))))) | BC11: =IF(BB11="","",IF(AND(BB11="○",BC$3="国体"),VLOOKUP($AM11,連盟使用!$AN$3:$AO$100,2,FALSE),IF(AND(BB11="○",BC$3="通常",BC$1="通常・OPEN"),VLOOKUP($AM11,連盟使用!$AF$3:$AG$100,2,FALSE),IF(AND(BB11="○",BC$3="通常"),VLOOKUP($AM11,連盟使用!$AD$3:$AE$100,2,FALSE),IF(BB11="△",10000,IF(AND(BB11="○",BC$3="OPEN"),VLOOKUP($AM11,連盟使用!$AF$3:$AG$100,2,FALSE),IF(AND(BB11="○",BC$3="Jr",BC$1="Jrふじてん"),VLOOKUP($AM11,連盟使用!$AP$3:$AQ$100,2,FALSE),IF(AND(BB11="○",BC$3="Jr"),VLOOKUP($AM11,連盟使用!$AH$3:$AI$100,2,FALSE),IF(AND(BB11="○",BC$3="MS",$AE11=1),VLOOKUP($AN11,連盟使用!$AJ$3:$AK$100,2,FALSE),VLOOKUP($AN11,連盟使用!$AL$3:$AM$100,2,FALSE)))))))))) | BE11: =IF(BD11="","",IF(AND(BD11="○",BE$3="国体"),VLOOKUP($AM11,連盟使用!$AN$3:$AO$100,2,FALSE),IF(AND(BD11="○",BE$3="通常",BE$1="通常・OPEN"),VLOOKUP($AM11,連盟使用!$AF$3:$AG$100,2,FALSE),IF(AND(BD11="○",BE$3="通常"),VLOOKUP($AM11,連盟使用!$AD$3:$AE$100,2,FALSE),IF(BD11="△",10000,IF(AND(BD11="○",BE$3="OPEN"),VLOOKUP($AM11,連盟使用!$AF$3:$AG$100,2,FALSE),IF(AND(BD11="○",BE$3="Jr",BE$1="Jrふじてん"),VLOOKUP($AM11,連盟使用!$AP$3:$AQ$100,2,FALSE),IF(AND(BD11="○",BE$3="Jr"),VLOOKUP($AM11,連盟使用!$AH$3:$AI$100,2,FALSE),IF(AND(BD11="○",BE$3="MS",$AE11=1),VLOOKUP($AN11,連盟使用!$AJ$3:$AK$100,2,FALSE),VLOOKUP($AN11,連盟使用!$AL$3:$AM$100,2,FALSE)))))))))) | BG11: =IF(BF11="","",IF(AND(BF11="○",BG$3="国体"),VLOOKUP($AM11,連盟使用!$AN$3:$AO$100,2,FALSE),IF(AND(BF11="○",BG$3="通常",BG$1="通常・OPEN"),VLOOKUP($AM11,連盟使用!$AF$3:$AG$100,2,FALSE),IF(AND(BF11="○",BG$3="通常"),VLOOKUP($AM11,連盟使用!$AD$3:$AE$100,2,FALSE),IF(BF11="△",10000,IF(AND(BF11="○",BG$3="OPEN"),VLOOKUP($AM11,連盟使用!$AF$3:$AG$100,2,FALSE),IF(AND(BF11="○",BG$3="Jr",BG$1="Jrふじてん"),VLOOKUP($AM11,連盟使用!$AP$3:$AQ$100,2,FALSE),IF(AND(BF11="○",BG$3="Jr"),VLOOKUP($AM11,連盟使用!$AH$3:$AI$100,2,FALSE),IF(AND(BF11="○",BG$3="MS",$AE11=1),VLOOKUP($AN11,連盟使用!$AJ$3:$AK$100,2,FALSE),VLOOKUP($AN11,連盟使用!$AL$3:$AM$100,2,FALSE)))))))))) | BI11: =IF(BH11="","",IF(AND(BH11="○",BI$3="国体"),VLOOKUP($AM11,連盟使用!$AN$3:$AO$100,2,FALSE),IF(AND(BH11="○",BI$3="通常",BI$1="通常・OPEN"),VLOOKUP($AM11,連盟使用!$AF$3:$AG$100,2,FALSE),IF(AND(BH11="○",BI$3="通常"),VLOOKUP($AM11,連盟使用!$AD$3:$AE$100,2,FALSE),IF(BH11="△",10000,IF(AND(BH11="○",BI$3="OPEN"),VLOOKUP($AM11,連盟使用!$AF$3:$AG$100,2,FALSE),IF(AND(BH11="○",BI$3="Jr",BI$1="Jrふじてん"),VLOOKUP($AM11,連盟使用!$AP$3:$AQ$100,2,FALSE),IF(AND(BH11="○",BI$3="Jr"),VLOOKUP($AM11,連盟使用!$AH$3:$AI$100,2,FALSE),IF(AND(BH11="○",BI$3="MS",$AE11=1),VLOOKUP($AN11,連盟使用!$AJ$3:$AK$100,2,FALSE),VLOOKUP($AN11,連盟使用!$AL$3:$AM$100,2,FALSE)))))))))) | BK11: =IF(BJ11="","",IF(AND(BJ11="○",BK$3="国体"),VLOOKUP($AM11,連盟使用!$AN$3:$AO$100,2,FALSE),IF(AND(BJ11="○",BK$3="通常",BK$1="通常・OPEN"),VLOOKUP($AM11,連盟使用!$AF$3:$AG$100,2,FALSE),IF(AND(BJ11="○",BK$3="通常"),VLOOKUP($AM11,連盟使用!$AD$3:$AE$100,2,FALSE),IF(BJ11="△",10000,IF(AND(BJ11="○",BK$3="OPEN"),VLOOKUP($AM11,連盟使用!$AF$3:$AG$100,2,FALSE),IF(AND(BJ11="○",BK$3="Jr",BK$1="Jrふじてん"),VLOOKUP($AM11,連盟使用!$AP$3:$AQ$100,2,FALSE),IF(AND(BJ11="○",BK$3="Jr"),VLOOKUP($AM11,連盟使用!$AH$3:$AI$100,2,FALSE),IF(AND(BJ11="○",BK$3="MS",$AE11=1),VLOOKUP($AN11,連盟使用!$AJ$3:$AK$100,2,FALSE),VLOOKUP($AN11,連盟使用!$AL$3:$AM$100,2,FALSE)))))))))) | BM11: =IF(BL11="","",IF(AND(BL11="○",BM$3="国体"),VLOOKUP($AM11,連盟使用!$AN$3:$AO$100,2,FALSE),IF(AND(BL11="○",BM$3="通常",BM$1="通常・OPEN"),VLOOKUP($AM11,連盟使用!$AF$3:$AG$100,2,FALSE),IF(AND(BL11="○",BM$3="通常"),VLOOKUP($AM11,連盟使用!$AD$3:$AE$100,2,FALSE),IF(BL11="△",10000,IF(AND(BL11="○",BM$3="OPEN"),VLOOKUP($AM11,連盟使用!$AF$3:$AG$100,2,FALSE),IF(AND(BL11="○",BM$3="Jr",BM$1="Jrふじてん"),VLOOKUP($AM11,連盟使用!$AP$3:$AQ$100,2,FALSE),IF(AND(BL11="○",BM$3="Jr"),VLOOKUP($AM11,連盟使用!$AH$3:$AI$100,2,FALSE),IF(AND(BL11="○",BM$3="MS",$AE11=1),VLOOKUP($AN11,連盟使用!$AJ$3:$AK$100,2,FALSE),VLOOKUP($AN11,連盟使用!$AL$3:$AM$100,2,FALSE)))))))))) | BO11: =IF(BN11="","",IF(AND(BN11="○",BO$3="国体"),VLOOKUP($AM11,連盟使用!$AN$3:$AO$100,2,FALSE),IF(AND(BN11="○",BO$3="通常",BO$1="通常・OPEN"),VLOOKUP($AM11,連盟使用!$AF$3:$AG$100,2,FALSE),IF(AND(BN11="○",BO$3="通常"),VLOOKUP($AM11,連盟使用!$AD$3:$AE$100,2,FALSE),IF(BN11="△",10000,IF(AND(BN11="○",BO$3="OPEN"),VLOOKUP($AM11,連盟使用!$AF$3:$AG$100,2,FALSE),IF(AND(BN11="○",BO$3="Jr",BO$1="Jrふじてん"),VLOOKUP($AM11,連盟使用!$AP$3:$AQ$100,2,FALSE),IF(AND(BN11="○",BO$3="Jr"),VLOOKUP($AM11,連盟使用!$AH$3:$AI$100,2,FALSE),IF(AND(BN11="○",BO$3="MS",$AE11=1),VLOOKUP($AN11,連盟使用!$AJ$3:$AK$100,2,FALSE),VLOOKUP($AN11,連盟使用!$AL$3:$AM$100,2,FALSE)))))))))) | BQ11: =IF(BP11="","",IF(AND(BP11="○",BQ$3="国体"),VLOOKUP($AM11,連盟使用!$AN$3:$AO$100,2,FALSE),IF(AND(BP11="○",BQ$3="通常",BQ$1="通常・OPEN"),VLOOKUP($AM11,連盟使用!$AF$3:$AG$100,2,FALSE),IF(AND(BP11="○",BQ$3="通常"),VLOOKUP($AM11,連盟使用!$AD$3:$AE$100,2,FALSE),IF(BP11="△",10000,IF(AND(BP11="○",BQ$3="OPEN"),VLOOKUP($AM11,連盟使用!$AF$3:$AG$100,2,FALSE),IF(AND(BP11="○",BQ$3="Jr",BQ$1="Jrふじてん"),VLOOKUP($AM11,連盟使用!$AP$3:$AQ$100,2,FALSE),IF(AND(BP11="○",BQ$3="Jr"),VLOOKUP($AM11,連盟使用!$AH$3:$AI$100,2,FALSE),IF(AND(BP11="○",BQ$3="MS",$AE11=1),VLOOKUP($AN11,連盟使用!$AJ$3:$AK$100,2,FALSE),VLOOKUP($AN11,連盟使用!$AL$3:$AM$100,2,FALSE)))))))))) | BS11: =IF(BR11="","",IF(AND(BR11="○",BS$3="国体"),VLOOKUP($AM11,連盟使用!$AN$3:$AO$100,2,FALSE),IF(AND(BR11="○",BS$3="通常",BS$1="通常・OPEN"),VLOOKUP($AM11,連盟使用!$AF$3:$AG$100,2,FALSE),IF(AND(BR11="○",BS$3="通常"),VLOOKUP($AM11,連盟使用!$AD$3:$AE$100,2,FALSE),IF(BR11="△",10000,IF(AND(BR11="○",BS$3="OPEN"),VLOOKUP($AM11,連盟使用!$AF$3:$AG$100,2,FALSE),IF(AND(BR11="○",BS$3="Jr",BS$1="Jrふじてん"),VLOOKUP($AM11,連盟使用!$AP$3:$AQ$100,2,FALSE),IF(AND(BR11="○",BS$3="Jr"),VLOOKUP($AM11,連盟使用!$AH$3:$AI$100,2,FALSE),IF(AND(BR11="○",BS$3="MS",$AE11=1),VLOOKUP($AN11,連盟使用!$AJ$3:$AK$100,2,FALSE),VLOOKUP($AN11,連盟使用!$AL$3:$AM$100,2,FALSE)))))))))) | BU11: =IF(BT11="","",IF(AND(BT11="○",BU$3="国体"),VLOOKUP($AM11,連盟使用!$AN$3:$AO$100,2,FALSE),IF(AND(BT11="○",BU$3="通常",BU$1="通常・OPEN"),VLOOKUP($AM11,連盟使用!$AF$3:$AG$100,2,FALSE),IF(AND(BT11="○",BU$3="通常"),VLOOKUP($AM11,連盟使用!$AD$3:$AE$100,2,FALSE),IF(BT11="△",10000,IF(AND(BT11="○",BU$3="OPEN"),VLOOKUP($AM11,連盟使用!$AF$3:$AG$100,2,FALSE),IF(AND(BT11="○",BU$3="Jr",BU$1="Jrふじてん"),VLOOKUP($AM11,連盟使用!$AP$3:$AQ$100,2,FALSE),IF(AND(BT11="○",BU$3="Jr"),VLOOKUP($AM11,連盟使用!$AH$3:$AI$100,2,FALSE),IF(AND(BT11="○",BU$3="MS",$AE11=1),VLOOKUP($AN11,連盟使用!$AJ$3:$AK$100,2,FALSE),VLOOKUP($AN11,連盟使用!$AL$3:$AM$100,2,FALSE)))))))))) | BW11: =IF(BV11="","",IF(AND(BV11="○",BW$3="国体"),VLOOKUP($AM11,連盟使用!$AN$3:$AO$100,2,FALSE),IF(AND(BV11="○",BW$3="通常",BW$1="通常・OPEN"),VLOOKUP($AM11,連盟使用!$AF$3:$AG$100,2,FALSE),IF(AND(BV11="○",BW$3="通常"),VLOOKUP($AM11,連盟使用!$AD$3:$AE$100,2,FALSE),IF(BV11="△",10000,IF(AND(BV11="○",BW$3="OPEN"),VLOOKUP($AM11,連盟使用!$AF$3:$AG$100,2,FALSE),IF(AND(BV11="○",BW$3="Jr",BW$1="Jrふじてん"),VLOOKUP($AM11,連盟使用!$AP$3:$AQ$100,2,FALSE),IF(AND(BV11="○",BW$3="Jr"),VLOOKUP($AM11,連盟使用!$AH$3:$AI$100,2,FALSE),IF(AND(BV11="○",BW$3="MS",$AE11=1),VLOOKUP($AN11,連盟使用!$AJ$3:$AK$100,2,FALSE),VLOOKUP($AN11,連盟使用!$AL$3:$AM$100,2,FALSE)))))))))) | BY11: =IF(BX11="","",IF(AND(BX11="○",BY$3="国体"),VLOOKUP($AM11,連盟使用!$AN$3:$AO$100,2,FALSE),IF(AND(BX11="○",BY$3="通常",BY$1="通常・OPEN"),VLOOKUP($AM11,連盟使用!$AF$3:$AG$100,2,FALSE),IF(AND(BX11="○",BY$3="通常"),VLOOKUP($AM11,連盟使用!$AD$3:$AE$100,2,FALSE),IF(BX11="△",10000,IF(AND(BX11="○",BY$3="OPEN"),VLOOKUP($AM11,連盟使用!$AF$3:$AG$100,2,FALSE),IF(AND(BX11="○",BY$3="Jr",BY$1="Jrふじてん"),VLOOKUP($AM11,連盟使用!$AP$3:$AQ$100,2,FALSE),IF(AND(BX11="○",BY$3="Jr"),VLOOKUP($AM11,連盟使用!$AH$3:$AI$100,2,FALSE),IF(AND(BX11="○",BY$3="MS",$AE11=1),VLOOKUP($AN11,連盟使用!$AJ$3:$AK$100,2,FALSE),VLOOKUP($AN11,連盟使用!$AL$3:$AM$100,2,FALSE)))))))))) | CA11: =IF(BZ11="","",IF(AND(BZ11="○",CA$3="国体"),VLOOKUP($AM11,連盟使用!$AN$3:$AO$100,2,FALSE),IF(AND(BZ11="○",CA$3="通常",CA$1="通常・OPEN"),VLOOKUP($AM11,連盟使用!$AF$3:$AG$100,2,FALSE),IF(AND(BZ11="○",CA$3="通常"),VLOOKUP($AM11,連盟使用!$AD$3:$AE$100,2,FALSE),IF(BZ11="△",10000,IF(AND(BZ11="○",CA$3="OPEN"),VLOOKUP($AM11,連盟使用!$AF$3:$AG$100,2,FALSE),IF(AND(BZ11="○",CA$3="Jr",CA$1="Jrふじてん"),VLOOKUP($AM11,連盟使用!$AP$3:$AQ$100,2,FALSE),IF(AND(BZ11="○",CA$3="Jr"),VLOOKUP($AM11,連盟使用!$AH$3:$AI$100,2,FALSE),IF(AND(BZ11="○",CA$3="MS",$AE11=1),VLOOKUP($AN11,連盟使用!$AJ$3:$AK$100,2,FALSE),VLOOKUP($AN11,連盟使用!$AL$3:$AM$100,2,FALSE)))))))))) | CC11: =IF(CB11="","",IF(AND(CB11="○",CC$3="国体"),VLOOKUP($AM11,連盟使用!$AN$3:$AO$100,2,FALSE),IF(AND(CB11="○",CC$3="通常",CC$1="通常・OPEN"),VLOOKUP($AM11,連盟使用!$AF$3:$AG$100,2,FALSE),IF(AND(CB11="○",CC$3="通常"),VLOOKUP($AM11,連盟使用!$AD$3:$AE$100,2,FALSE),IF(CB11="△",10000,IF(AND(CB11="○",CC$3="OPEN"),VLOOKUP($AM11,連盟使用!$AF$3:$AG$100,2,FALSE),IF(AND(CB11="○",CC$3="Jr",CC$1="Jrふじてん"),VLOOKUP($AM11,連盟使用!$AP$3:$AQ$100,2,FALSE),IF(AND(CB11="○",CC$3="Jr"),VLOOKUP($AM11,連盟使用!$AH$3:$AI$100,2,FALSE),IF(AND(CB11="○",CC$3="MS",$AE11=1),VLOOKUP($AN11,連盟使用!$AJ$3:$AK$100,2,FALSE),VLOOKUP($AN11,連盟使用!$AL$3:$AM$100,2,FALSE)))))))))) | CE11: =IF(CD11="","",IF(AND(CD11="○",CE$3="国体"),VLOOKUP($AM11,連盟使用!$AN$3:$AO$100,2,FALSE),IF(AND(CD11="○",CE$3="通常",CE$1="通常・OPEN"),VLOOKUP($AM11,連盟使用!$AF$3:$AG$100,2,FALSE),IF(AND(CD11="○",CE$3="通常"),VLOOKUP($AM11,連盟使用!$AD$3:$AE$100,2,FALSE),IF(CD11="△",10000,IF(AND(CD11="○",CE$3="OPEN"),VLOOKUP($AM11,連盟使用!$AF$3:$AG$100,2,FALSE),IF(AND(CD11="○",CE$3="Jr",CE$1="Jrふじてん"),VLOOKUP($AM11,連盟使用!$AP$3:$AQ$100,2,FALSE),IF(AND(CD11="○",CE$3="Jr"),VLOOKUP($AM11,連盟使用!$AH$3:$AI$100,2,FALSE),IF(AND(CD11="○",CE$3="MS",$AE11=1),VLOOKUP($AN11,連盟使用!$AJ$3:$AK$100,2,FALSE),VLOOKUP($AN11,連盟使用!$AL$3:$AM$100,2,FALSE)))))))))) | CG11: =IF(CF11="","",IF(AND(CF11="○",CG$3="国体"),VLOOKUP($AM11,連盟使用!$AN$3:$AO$100,2,FALSE),IF(AND(CF11="○",CG$3="通常",CG$1="通常・OPEN"),VLOOKUP($AM11,連盟使用!$AF$3:$AG$100,2,FALSE),IF(AND(CF11="○",CG$3="通常"),VLOOKUP($AM11,連盟使用!$AD$3:$AE$100,2,FALSE),IF(CF11="△",10000,IF(AND(CF11="○",CG$3="OPEN"),VLOOKUP($AM11,連盟使用!$AF$3:$AG$100,2,FALSE),IF(AND(CF11="○",CG$3="Jr",CG$1="Jrふじてん"),VLOOKUP($AM11,連盟使用!$AP$3:$AQ$100,2,FALSE),IF(AND(CF11="○",CG$3="Jr"),VLOOKUP($AM11,連盟使用!$AH$3:$AI$100,2,FALSE),IF(AND(CF11="○",CG$3="MS",$AE11=1),VLOOKUP($AN11,連盟使用!$AJ$3:$AK$100,2,FALSE),VLOOKUP($AN11,連盟使用!$AL$3:$AM$100,2,FALSE)))))))))) | CH11: =SUM(AT11:CG11) -> 0
A12: =IF(個表!A10="","",個表!A10) -> 7 | B12: =IF(個表!B10="","",個表!B10) | E12: =IF(個表!J10="","",個表!J10) | F12: =IF(個表!K10="","",個表!K10) | G12: =IF(個表!L10="","",個表!L10) | L12: =IF(個表!M10="","",個表!M10) | M12: =IF(個表!N10="","",個表!N10) | N12: =IF(個表!O10="","",個表!O10) | O12: =IF(個表!P10="","",個表!P10) | P12: =IF(個表!Q10="","",個表!Q10) | Q12: =IF(個表!G10="","",個表!G10) | S12: =IF(個表!R10="","",個表!R10) | T12: =IF(個表!S10="","",個表!S10) | V12: =IF(個表!C10="","",個表!C10) | W12: =IF(個表!D10="","",個表!D10) | X12: =IF(個表!E10="","",個表!E10) | Y12: =IF(個表!F10="","",個表!F10) | AE12: =IF(個表!H10="","",個表!H10) | AI12: =IF(個表!T10="","",個表!T10) | AL12: =IF(個表!I10="","",個表!I10) | AM12: =IF(個表!U10="","",個表!U10) | AN12: =IF(個表!V10="","",個表!V10) | AO12: =IF(個表!W10="","",個表!W10) | AP12: =IF(個表!X10="","",個表!X10) | AQ12: =IF(個表!Y10="","",個表!Y10) | AR12: =IF(個表!Z10="","",個表!Z10) | AS12: =IF(個表!AA10="","",個表!AA10) | AU12: =IF(AT12="","",IF(AND(AT12="○",AU$3="国体"),VLOOKUP($AM12,連盟使用!$AN$3:$AO$100,2,FALSE),IF(AND(AT12="○",AU$3="通常",AU$1="通常・OPEN"),VLOOKUP($AM12,連盟使用!$AF$3:$AG$100,2,FALSE),IF(AND(AT12="○",AU$3="通常"),VLOOKUP($AM12,連盟使用!$AD$3:$AE$100,2,FALSE),IF(AT12="△",10000,IF(AND(AT12="○",AU$3="OPEN"),VLOOKUP($AM12,連盟使用!$AF$3:$AG$100,2,FALSE),IF(AND(AT12="○",AU$3="Jr",AU$1="Jrふじてん"),VLOOKUP($AM12,連盟使用!$AP$3:$AQ$100,2,FALSE),IF(AND(AT12="○",AU$3="Jr"),VLOOKUP($AM12,連盟使用!$AH$3:$AI$100,2,FALSE),IF(AND(AT12="○",AU$3="MS",$AE12=1),VLOOKUP($AN12,連盟使用!$AJ$3:$AK$100,2,FALSE),VLOOKUP($AN12,連盟使用!$AL$3:$AM$100,2,FALSE)))))))))) | AW12: =IF(AV12="","",IF(AND(AV12="○",AW$3="国体"),VLOOKUP($AM12,連盟使用!$AN$3:$AO$100,2,FALSE),IF(AND(AV12="○",AW$3="通常",AW$1="通常・OPEN"),VLOOKUP($AM12,連盟使用!$AF$3:$AG$100,2,FALSE),IF(AND(AV12="○",AW$3="通常"),VLOOKUP($AM12,連盟使用!$AD$3:$AE$100,2,FALSE),IF(AV12="△",10000,IF(AND(AV12="○",AW$3="OPEN"),VLOOKUP($AM12,連盟使用!$AF$3:$AG$100,2,FALSE),IF(AND(AV12="○",AW$3="Jr",AW$1="Jrふじてん"),VLOOKUP($AM12,連盟使用!$AP$3:$AQ$100,2,FALSE),IF(AND(AV12="○",AW$3="Jr"),VLOOKUP($AM12,連盟使用!$AH$3:$AI$100,2,FALSE),IF(AND(AV12="○",AW$3="MS",$AE12=1),VLOOKUP($AN12,連盟使用!$AJ$3:$AK$100,2,FALSE),VLOOKUP($AN12,連盟使用!$AL$3:$AM$100,2,FALSE)))))))))) | AY12: =IF(AX12="","",IF(AND(AX12="○",AY$3="国体"),VLOOKUP($AM12,連盟使用!$AN$3:$AO$100,2,FALSE),IF(AND(AX12="○",AY$3="通常",AY$1="通常・OPEN"),VLOOKUP($AM12,連盟使用!$AF$3:$AG$100,2,FALSE),IF(AND(AX12="○",AY$3="通常"),VLOOKUP($AM12,連盟使用!$AD$3:$AE$100,2,FALSE),IF(AX12="△",10000,IF(AND(AX12="○",AY$3="OPEN"),VLOOKUP($AM12,連盟使用!$AF$3:$AG$100,2,FALSE),IF(AND(AX12="○",AY$3="Jr",AY$1="Jrふじてん"),VLOOKUP($AM12,連盟使用!$AP$3:$AQ$100,2,FALSE),IF(AND(AX12="○",AY$3="Jr"),VLOOKUP($AM12,連盟使用!$AH$3:$AI$100,2,FALSE),IF(AND(AX12="○",AY$3="MS",$AE12=1),VLOOKUP($AN12,連盟使用!$AJ$3:$AK$100,2,FALSE),VLOOKUP($AN12,連盟使用!$AL$3:$AM$100,2,FALSE)))))))))) | BA12: =IF(AZ12="","",IF(AND(AZ12="○",BA$3="国体"),VLOOKUP($AM12,連盟使用!$AN$3:$AO$100,2,FALSE),IF(AND(AZ12="○",BA$3="通常",BA$1="通常・OPEN"),VLOOKUP($AM12,連盟使用!$AF$3:$AG$100,2,FALSE),IF(AND(AZ12="○",BA$3="通常"),VLOOKUP($AM12,連盟使用!$AD$3:$AE$100,2,FALSE),IF(AZ12="△",10000,IF(AND(AZ12="○",BA$3="OPEN"),VLOOKUP($AM12,連盟使用!$AF$3:$AG$100,2,FALSE),IF(AND(AZ12="○",BA$3="Jr",BA$1="Jrふじてん"),VLOOKUP($AM12,連盟使用!$AP$3:$AQ$100,2,FALSE),IF(AND(AZ12="○",BA$3="Jr"),VLOOKUP($AM12,連盟使用!$AH$3:$AI$100,2,FALSE),IF(AND(AZ12="○",BA$3="MS",$AE12=1),VLOOKUP($AN12,連盟使用!$AJ$3:$AK$100,2,FALSE),VLOOKUP($AN12,連盟使用!$AL$3:$AM$100,2,FALSE)))))))))) | BC12: =IF(BB12="","",IF(AND(BB12="○",BC$3="国体"),VLOOKUP($AM12,連盟使用!$AN$3:$AO$100,2,FALSE),IF(AND(BB12="○",BC$3="通常",BC$1="通常・OPEN"),VLOOKUP($AM12,連盟使用!$AF$3:$AG$100,2,FALSE),IF(AND(BB12="○",BC$3="通常"),VLOOKUP($AM12,連盟使用!$AD$3:$AE$100,2,FALSE),IF(BB12="△",10000,IF(AND(BB12="○",BC$3="OPEN"),VLOOKUP($AM12,連盟使用!$AF$3:$AG$100,2,FALSE),IF(AND(BB12="○",BC$3="Jr",BC$1="Jrふじてん"),VLOOKUP($AM12,連盟使用!$AP$3:$AQ$100,2,FALSE),IF(AND(BB12="○",BC$3="Jr"),VLOOKUP($AM12,連盟使用!$AH$3:$AI$100,2,FALSE),IF(AND(BB12="○",BC$3="MS",$AE12=1),VLOOKUP($AN12,連盟使用!$AJ$3:$AK$100,2,FALSE),VLOOKUP($AN12,連盟使用!$AL$3:$AM$100,2,FALSE)))))))))) | BE12: =IF(BD12="","",IF(AND(BD12="○",BE$3="国体"),VLOOKUP($AM12,連盟使用!$AN$3:$AO$100,2,FALSE),IF(AND(BD12="○",BE$3="通常",BE$1="通常・OPEN"),VLOOKUP($AM12,連盟使用!$AF$3:$AG$100,2,FALSE),IF(AND(BD12="○",BE$3="通常"),VLOOKUP($AM12,連盟使用!$AD$3:$AE$100,2,FALSE),IF(BD12="△",10000,IF(AND(BD12="○",BE$3="OPEN"),VLOOKUP($AM12,連盟使用!$AF$3:$AG$100,2,FALSE),IF(AND(BD12="○",BE$3="Jr",BE$1="Jrふじてん"),VLOOKUP($AM12,連盟使用!$AP$3:$AQ$100,2,FALSE),IF(AND(BD12="○",BE$3="Jr"),VLOOKUP($AM12,連盟使用!$AH$3:$AI$100,2,FALSE),IF(AND(BD12="○",BE$3="MS",$AE12=1),VLOOKUP($AN12,連盟使用!$AJ$3:$AK$100,2,FALSE),VLOOKUP($AN12,連盟使用!$AL$3:$AM$100,2,FALSE)))))))))) | BG12: =IF(BF12="","",IF(AND(BF12="○",BG$3="国体"),VLOOKUP($AM12,連盟使用!$AN$3:$AO$100,2,FALSE),IF(AND(BF12="○",BG$3="通常",BG$1="通常・OPEN"),VLOOKUP($AM12,連盟使用!$AF$3:$AG$100,2,FALSE),IF(AND(BF12="○",BG$3="通常"),VLOOKUP($AM12,連盟使用!$AD$3:$AE$100,2,FALSE),IF(BF12="△",10000,IF(AND(BF12="○",BG$3="OPEN"),VLOOKUP($AM12,連盟使用!$AF$3:$AG$100,2,FALSE),IF(AND(BF12="○",BG$3="Jr",BG$1="Jrふじてん"),VLOOKUP($AM12,連盟使用!$AP$3:$AQ$100,2,FALSE),IF(AND(BF12="○",BG$3="Jr"),VLOOKUP($AM12,連盟使用!$AH$3:$AI$100,2,FALSE),IF(AND(BF12="○",BG$3="MS",$AE12=1),VLOOKUP($AN12,連盟使用!$AJ$3:$AK$100,2,FALSE),VLOOKUP($AN12,連盟使用!$AL$3:$AM$100,2,FALSE)))))))))) | BI12: =IF(BH12="","",IF(AND(BH12="○",BI$3="国体"),VLOOKUP($AM12,連盟使用!$AN$3:$AO$100,2,FALSE),IF(AND(BH12="○",BI$3="通常",BI$1="通常・OPEN"),VLOOKUP($AM12,連盟使用!$AF$3:$AG$100,2,FALSE),IF(AND(BH12="○",BI$3="通常"),VLOOKUP($AM12,連盟使用!$AD$3:$AE$100,2,FALSE),IF(BH12="△",10000,IF(AND(BH12="○",BI$3="OPEN"),VLOOKUP($AM12,連盟使用!$AF$3:$AG$100,2,FALSE),IF(AND(BH12="○",BI$3="Jr",BI$1="Jrふじてん"),VLOOKUP($AM12,連盟使用!$AP$3:$AQ$100,2,FALSE),IF(AND(BH12="○",BI$3="Jr"),VLOOKUP($AM12,連盟使用!$AH$3:$AI$100,2,FALSE),IF(AND(BH12="○",BI$3="MS",$AE12=1),VLOOKUP($AN12,連盟使用!$AJ$3:$AK$100,2,FALSE),VLOOKUP($AN12,連盟使用!$AL$3:$AM$100,2,FALSE)))))))))) | BK12: =IF(BJ12="","",IF(AND(BJ12="○",BK$3="国体"),VLOOKUP($AM12,連盟使用!$AN$3:$AO$100,2,FALSE),IF(AND(BJ12="○",BK$3="通常",BK$1="通常・OPEN"),VLOOKUP($AM12,連盟使用!$AF$3:$AG$100,2,FALSE),IF(AND(BJ12="○",BK$3="通常"),VLOOKUP($AM12,連盟使用!$AD$3:$AE$100,2,FALSE),IF(BJ12="△",10000,IF(AND(BJ12="○",BK$3="OPEN"),VLOOKUP($AM12,連盟使用!$AF$3:$AG$100,2,FALSE),IF(AND(BJ12="○",BK$3="Jr",BK$1="Jrふじてん"),VLOOKUP($AM12,連盟使用!$AP$3:$AQ$100,2,FALSE),IF(AND(BJ12="○",BK$3="Jr"),VLOOKUP($AM12,連盟使用!$AH$3:$AI$100,2,FALSE),IF(AND(BJ12="○",BK$3="MS",$AE12=1),VLOOKUP($AN12,連盟使用!$AJ$3:$AK$100,2,FALSE),VLOOKUP($AN12,連盟使用!$AL$3:$AM$100,2,FALSE)))))))))) | BM12: =IF(BL12="","",IF(AND(BL12="○",BM$3="国体"),VLOOKUP($AM12,連盟使用!$AN$3:$AO$100,2,FALSE),IF(AND(BL12="○",BM$3="通常",BM$1="通常・OPEN"),VLOOKUP($AM12,連盟使用!$AF$3:$AG$100,2,FALSE),IF(AND(BL12="○",BM$3="通常"),VLOOKUP($AM12,連盟使用!$AD$3:$AE$100,2,FALSE),IF(BL12="△",10000,IF(AND(BL12="○",BM$3="OPEN"),VLOOKUP($AM12,連盟使用!$AF$3:$AG$100,2,FALSE),IF(AND(BL12="○",BM$3="Jr",BM$1="Jrふじてん"),VLOOKUP($AM12,連盟使用!$AP$3:$AQ$100,2,FALSE),IF(AND(BL12="○",BM$3="Jr"),VLOOKUP($AM12,連盟使用!$AH$3:$AI$100,2,FALSE),IF(AND(BL12="○",BM$3="MS",$AE12=1),VLOOKUP($AN12,連盟使用!$AJ$3:$AK$100,2,FALSE),VLOOKUP($AN12,連盟使用!$AL$3:$AM$100,2,FALSE)))))))))) | BO12: =IF(BN12="","",IF(AND(BN12="○",BO$3="国体"),VLOOKUP($AM12,連盟使用!$AN$3:$AO$100,2,FALSE),IF(AND(BN12="○",BO$3="通常",BO$1="通常・OPEN"),VLOOKUP($AM12,連盟使用!$AF$3:$AG$100,2,FALSE),IF(AND(BN12="○",BO$3="通常"),VLOOKUP($AM12,連盟使用!$AD$3:$AE$100,2,FALSE),IF(BN12="△",10000,IF(AND(BN12="○",BO$3="OPEN"),VLOOKUP($AM12,連盟使用!$AF$3:$AG$100,2,FALSE),IF(AND(BN12="○",BO$3="Jr",BO$1="Jrふじてん"),VLOOKUP($AM12,連盟使用!$AP$3:$AQ$100,2,FALSE),IF(AND(BN12="○",BO$3="Jr"),VLOOKUP($AM12,連盟使用!$AH$3:$AI$100,2,FALSE),IF(AND(BN12="○",BO$3="MS",$AE12=1),VLOOKUP($AN12,連盟使用!$AJ$3:$AK$100,2,FALSE),VLOOKUP($AN12,連盟使用!$AL$3:$AM$100,2,FALSE)))))))))) | BQ12: =IF(BP12="","",IF(AND(BP12="○",BQ$3="国体"),VLOOKUP($AM12,連盟使用!$AN$3:$AO$100,2,FALSE),IF(AND(BP12="○",BQ$3="通常",BQ$1="通常・OPEN"),VLOOKUP($AM12,連盟使用!$AF$3:$AG$100,2,FALSE),IF(AND(BP12="○",BQ$3="通常"),VLOOKUP($AM12,連盟使用!$AD$3:$AE$100,2,FALSE),IF(BP12="△",10000,IF(AND(BP12="○",BQ$3="OPEN"),VLOOKUP($AM12,連盟使用!$AF$3:$AG$100,2,FALSE),IF(AND(BP12="○",BQ$3="Jr",BQ$1="Jrふじてん"),VLOOKUP($AM12,連盟使用!$AP$3:$AQ$100,2,FALSE),IF(AND(BP12="○",BQ$3="Jr"),VLOOKUP($AM12,連盟使用!$AH$3:$AI$100,2,FALSE),IF(AND(BP12="○",BQ$3="MS",$AE12=1),VLOOKUP($AN12,連盟使用!$AJ$3:$AK$100,2,FALSE),VLOOKUP($AN12,連盟使用!$AL$3:$AM$100,2,FALSE)))))))))) | BS12: =IF(BR12="","",IF(AND(BR12="○",BS$3="国体"),VLOOKUP($AM12,連盟使用!$AN$3:$AO$100,2,FALSE),IF(AND(BR12="○",BS$3="通常",BS$1="通常・OPEN"),VLOOKUP($AM12,連盟使用!$AF$3:$AG$100,2,FALSE),IF(AND(BR12="○",BS$3="通常"),VLOOKUP($AM12,連盟使用!$AD$3:$AE$100,2,FALSE),IF(BR12="△",10000,IF(AND(BR12="○",BS$3="OPEN"),VLOOKUP($AM12,連盟使用!$AF$3:$AG$100,2,FALSE),IF(AND(BR12="○",BS$3="Jr",BS$1="Jrふじてん"),VLOOKUP($AM12,連盟使用!$AP$3:$AQ$100,2,FALSE),IF(AND(BR12="○",BS$3="Jr"),VLOOKUP($AM12,連盟使用!$AH$3:$AI$100,2,FALSE),IF(AND(BR12="○",BS$3="MS",$AE12=1),VLOOKUP($AN12,連盟使用!$AJ$3:$AK$100,2,FALSE),VLOOKUP($AN12,連盟使用!$AL$3:$AM$100,2,FALSE)))))))))) | BU12: =IF(BT12="","",IF(AND(BT12="○",BU$3="国体"),VLOOKUP($AM12,連盟使用!$AN$3:$AO$100,2,FALSE),IF(AND(BT12="○",BU$3="通常",BU$1="通常・OPEN"),VLOOKUP($AM12,連盟使用!$AF$3:$AG$100,2,FALSE),IF(AND(BT12="○",BU$3="通常"),VLOOKUP($AM12,連盟使用!$AD$3:$AE$100,2,FALSE),IF(BT12="△",10000,IF(AND(BT12="○",BU$3="OPEN"),VLOOKUP($AM12,連盟使用!$AF$3:$AG$100,2,FALSE),IF(AND(BT12="○",BU$3="Jr",BU$1="Jrふじてん"),VLOOKUP($AM12,連盟使用!$AP$3:$AQ$100,2,FALSE),IF(AND(BT12="○",BU$3="Jr"),VLOOKUP($AM12,連盟使用!$AH$3:$AI$100,2,FALSE),IF(AND(BT12="○",BU$3="MS",$AE12=1),VLOOKUP($AN12,連盟使用!$AJ$3:$AK$100,2,FALSE),VLOOKUP($AN12,連盟使用!$AL$3:$AM$100,2,FALSE)))))))))) | BW12: =IF(BV12="","",IF(AND(BV12="○",BW$3="国体"),VLOOKUP($AM12,連盟使用!$AN$3:$AO$100,2,FALSE),IF(AND(BV12="○",BW$3="通常",BW$1="通常・OPEN"),VLOOKUP($AM12,連盟使用!$AF$3:$AG$100,2,FALSE),IF(AND(BV12="○",BW$3="通常"),VLOOKUP($AM12,連盟使用!$AD$3:$AE$100,2,FALSE),IF(BV12="△",10000,IF(AND(BV12="○",BW$3="OPEN"),VLOOKUP($AM12,連盟使用!$AF$3:$AG$100,2,FALSE),IF(AND(BV12="○",BW$3="Jr",BW$1="Jrふじてん"),VLOOKUP($AM12,連盟使用!$AP$3:$AQ$100,2,FALSE),IF(AND(BV12="○",BW$3="Jr"),VLOOKUP($AM12,連盟使用!$AH$3:$AI$100,2,FALSE),IF(AND(BV12="○",BW$3="MS",$AE12=1),VLOOKUP($AN12,連盟使用!$AJ$3:$AK$100,2,FALSE),VLOOKUP($AN12,連盟使用!$AL$3:$AM$100,2,FALSE)))))))))) | BY12: =IF(BX12="","",IF(AND(BX12="○",BY$3="国体"),VLOOKUP($AM12,連盟使用!$AN$3:$AO$100,2,FALSE),IF(AND(BX12="○",BY$3="通常",BY$1="通常・OPEN"),VLOOKUP($AM12,連盟使用!$AF$3:$AG$100,2,FALSE),IF(AND(BX12="○",BY$3="通常"),VLOOKUP($AM12,連盟使用!$AD$3:$AE$100,2,FALSE),IF(BX12="△",10000,IF(AND(BX12="○",BY$3="OPEN"),VLOOKUP($AM12,連盟使用!$AF$3:$AG$100,2,FALSE),IF(AND(BX12="○",BY$3="Jr",BY$1="Jrふじてん"),VLOOKUP($AM12,連盟使用!$AP$3:$AQ$100,2,FALSE),IF(AND(BX12="○",BY$3="Jr"),VLOOKUP($AM12,連盟使用!$AH$3:$AI$100,2,FALSE),IF(AND(BX12="○",BY$3="MS",$AE12=1),VLOOKUP($AN12,連盟使用!$AJ$3:$AK$100,2,FALSE),VLOOKUP($AN12,連盟使用!$AL$3:$AM$100,2,FALSE)))))))))) | CA12: =IF(BZ12="","",IF(AND(BZ12="○",CA$3="国体"),VLOOKUP($AM12,連盟使用!$AN$3:$AO$100,2,FALSE),IF(AND(BZ12="○",CA$3="通常",CA$1="通常・OPEN"),VLOOKUP($AM12,連盟使用!$AF$3:$AG$100,2,FALSE),IF(AND(BZ12="○",CA$3="通常"),VLOOKUP($AM12,連盟使用!$AD$3:$AE$100,2,FALSE),IF(BZ12="△",10000,IF(AND(BZ12="○",CA$3="OPEN"),VLOOKUP($AM12,連盟使用!$AF$3:$AG$100,2,FALSE),IF(AND(BZ12="○",CA$3="Jr",CA$1="Jrふじてん"),VLOOKUP($AM12,連盟使用!$AP$3:$AQ$100,2,FALSE),IF(AND(BZ12="○",CA$3="Jr"),VLOOKUP($AM12,連盟使用!$AH$3:$AI$100,2,FALSE),IF(AND(BZ12="○",CA$3="MS",$AE12=1),VLOOKUP($AN12,連盟使用!$AJ$3:$AK$100,2,FALSE),VLOOKUP($AN12,連盟使用!$AL$3:$AM$100,2,FALSE)))))))))) | CC12: =IF(CB12="","",IF(AND(CB12="○",CC$3="国体"),VLOOKUP($AM12,連盟使用!$AN$3:$AO$100,2,FALSE),IF(AND(CB12="○",CC$3="通常",CC$1="通常・OPEN"),VLOOKUP($AM12,連盟使用!$AF$3:$AG$100,2,FALSE),IF(AND(CB12="○",CC$3="通常"),VLOOKUP($AM12,連盟使用!$AD$3:$AE$100,2,FALSE),IF(CB12="△",10000,IF(AND(CB12="○",CC$3="OPEN"),VLOOKUP($AM12,連盟使用!$AF$3:$AG$100,2,FALSE),IF(AND(CB12="○",CC$3="Jr",CC$1="Jrふじてん"),VLOOKUP($AM12,連盟使用!$AP$3:$AQ$100,2,FALSE),IF(AND(CB12="○",CC$3="Jr"),VLOOKUP($AM12,連盟使用!$AH$3:$AI$100,2,FALSE),IF(AND(CB12="○",CC$3="MS",$AE12=1),VLOOKUP($AN12,連盟使用!$AJ$3:$AK$100,2,FALSE),VLOOKUP($AN12,連盟使用!$AL$3:$AM$100,2,FALSE)))))))))) | CE12: =IF(CD12="","",IF(AND(CD12="○",CE$3="国体"),VLOOKUP($AM12,連盟使用!$AN$3:$AO$100,2,FALSE),IF(AND(CD12="○",CE$3="通常",CE$1="通常・OPEN"),VLOOKUP($AM12,連盟使用!$AF$3:$AG$100,2,FALSE),IF(AND(CD12="○",CE$3="通常"),VLOOKUP($AM12,連盟使用!$AD$3:$AE$100,2,FALSE),IF(CD12="△",10000,IF(AND(CD12="○",CE$3="OPEN"),VLOOKUP($AM12,連盟使用!$AF$3:$AG$100,2,FALSE),IF(AND(CD12="○",CE$3="Jr",CE$1="Jrふじてん"),VLOOKUP($AM12,連盟使用!$AP$3:$AQ$100,2,FALSE),IF(AND(CD12="○",CE$3="Jr"),VLOOKUP($AM12,連盟使用!$AH$3:$AI$100,2,FALSE),IF(AND(CD12="○",CE$3="MS",$AE12=1),VLOOKUP($AN12,連盟使用!$AJ$3:$AK$100,2,FALSE),VLOOKUP($AN12,連盟使用!$AL$3:$AM$100,2,FALSE)))))))))) | CG12: =IF(CF12="","",IF(AND(CF12="○",CG$3="国体"),VLOOKUP($AM12,連盟使用!$AN$3:$AO$100,2,FALSE),IF(AND(CF12="○",CG$3="通常",CG$1="通常・OPEN"),VLOOKUP($AM12,連盟使用!$AF$3:$AG$100,2,FALSE),IF(AND(CF12="○",CG$3="通常"),VLOOKUP($AM12,連盟使用!$AD$3:$AE$100,2,FALSE),IF(CF12="△",10000,IF(AND(CF12="○",CG$3="OPEN"),VLOOKUP($AM12,連盟使用!$AF$3:$AG$100,2,FALSE),IF(AND(CF12="○",CG$3="Jr",CG$1="Jrふじてん"),VLOOKUP($AM12,連盟使用!$AP$3:$AQ$100,2,FALSE),IF(AND(CF12="○",CG$3="Jr"),VLOOKUP($AM12,連盟使用!$AH$3:$AI$100,2,FALSE),IF(AND(CF12="○",CG$3="MS",$AE12=1),VLOOKUP($AN12,連盟使用!$AJ$3:$AK$100,2,FALSE),VLOOKUP($AN12,連盟使用!$AL$3:$AM$100,2,FALSE)))))))))) | CH12: =SUM(AT12:CG12) -> 0
A13: =IF(個表!A11="","",個表!A11) -> 8 | B13: =IF(個表!B11="","",個表!B11) | E13: =IF(個表!J11="","",個表!J11) | F13: =IF(個表!K11="","",個表!K11) | G13: =IF(個表!L11="","",個表!L11) | L13: =IF(個表!M11="","",個表!M11) | M13: =IF(個表!N11="","",個表!N11) | N13: =IF(個表!O11="","",個表!O11) | O13: =IF(個表!P11="","",個表!P11) | P13: =IF(個表!Q11="","",個表!Q11) | Q13: =IF(個表!G11="","",個表!G11) | S13: =IF(個表!R11="","",個表!R11) | T13: =IF(個表!S11="","",個表!S11) | V13: =IF(個表!C11="","",個表!C11) | W13: =IF(個表!D11="","",個表!D11) | X13: =IF(個表!E11="","",個表!E11) | Y13: =IF(個表!F11="","",個表!F11) | AE13: =IF(個表!H11="","",個表!H11) | AI13: =IF(個表!T11="","",個表!T11) | AL13: =IF(個表!I11="","",個表!I11) | AM13: =IF(個表!U11="","",個表!U11) | AN13: =IF(個表!V11="","",個表!V11) | AO13: =IF(個表!W11="","",個表!W11) | AP13: =IF(個表!X11="","",個表!X11) | AQ13: =IF(個表!Y11="","",個表!Y11) | AR13: =IF(個表!Z11="","",個表!Z11) | AS13: =IF(個表!AA11="","",個表!AA11) | AU13: =IF(AT13="","",IF(AND(AT13="○",AU$3="国体"),VLOOKUP($AM13,連盟使用!$AN$3:$AO$100,2,FALSE),IF(AND(AT13="○",AU$3="通常",AU$1="通常・OPEN"),VLOOKUP($AM13,連盟使用!$AF$3:$AG$100,2,FALSE),IF(AND(AT13="○",AU$3="通常"),VLOOKUP($AM13,連盟使用!$AD$3:$AE$100,2,FALSE),IF(AT13="△",10000,IF(AND(AT13="○",AU$3="OPEN"),VLOOKUP($AM13,連盟使用!$AF$3:$AG$100,2,FALSE),IF(AND(AT13="○",AU$3="Jr",AU$1="Jrふじてん"),VLOOKUP($AM13,連盟使用!$AP$3:$AQ$100,2,FALSE),IF(AND(AT13="○",AU$3="Jr"),VLOOKUP($AM13,連盟使用!$AH$3:$AI$100,2,FALSE),IF(AND(AT13="○",AU$3="MS",$AE13=1),VLOOKUP($AN13,連盟使用!$AJ$3:$AK$100,2,FALSE),VLOOKUP($AN13,連盟使用!$AL$3:$AM$100,2,FALSE)))))))))) | AW13: =IF(AV13="","",IF(AND(AV13="○",AW$3="国体"),VLOOKUP($AM13,連盟使用!$AN$3:$AO$100,2,FALSE),IF(AND(AV13="○",AW$3="通常",AW$1="通常・OPEN"),VLOOKUP($AM13,連盟使用!$AF$3:$AG$100,2,FALSE),IF(AND(AV13="○",AW$3="通常"),VLOOKUP($AM13,連盟使用!$AD$3:$AE$100,2,FALSE),IF(AV13="△",10000,IF(AND(AV13="○",AW$3="OPEN"),VLOOKUP($AM13,連盟使用!$AF$3:$AG$100,2,FALSE),IF(AND(AV13="○",AW$3="Jr",AW$1="Jrふじてん"),VLOOKUP($AM13,連盟使用!$AP$3:$AQ$100,2,FALSE),IF(AND(AV13="○",AW$3="Jr"),VLOOKUP($AM13,連盟使用!$AH$3:$AI$100,2,FALSE),IF(AND(AV13="○",AW$3="MS",$AE13=1),VLOOKUP($AN13,連盟使用!$AJ$3:$AK$100,2,FALSE),VLOOKUP($AN13,連盟使用!$AL$3:$AM$100,2,FALSE)))))))))) | AY13: =IF(AX13="","",IF(AND(AX13="○",AY$3="国体"),VLOOKUP($AM13,連盟使用!$AN$3:$AO$100,2,FALSE),IF(AND(AX13="○",AY$3="通常",AY$1="通常・OPEN"),VLOOKUP($AM13,連盟使用!$AF$3:$AG$100,2,FALSE),IF(AND(AX13="○",AY$3="通常"),VLOOKUP($AM13,連盟使用!$AD$3:$AE$100,2,FALSE),IF(AX13="△",10000,IF(AND(AX13="○",AY$3="OPEN"),VLOOKUP($AM13,連盟使用!$AF$3:$AG$100,2,FALSE),IF(AND(AX13="○",AY$3="Jr",AY$1="Jrふじてん"),VLOOKUP($AM13,連盟使用!$AP$3:$AQ$100,2,FALSE),IF(AND(AX13="○",AY$3="Jr"),VLOOKUP($AM13,連盟使用!$AH$3:$AI$100,2,FALSE),IF(AND(AX13="○",AY$3="MS",$AE13=1),VLOOKUP($AN13,連盟使用!$AJ$3:$AK$100,2,FALSE),VLOOKUP($AN13,連盟使用!$AL$3:$AM$100,2,FALSE)))))))))) | BA13: =IF(AZ13="","",IF(AND(AZ13="○",BA$3="国体"),VLOOKUP($AM13,連盟使用!$AN$3:$AO$100,2,FALSE),IF(AND(AZ13="○",BA$3="通常",BA$1="通常・OPEN"),VLOOKUP($AM13,連盟使用!$AF$3:$AG$100,2,FALSE),IF(AND(AZ13="○",BA$3="通常"),VLOOKUP($AM13,連盟使用!$AD$3:$AE$100,2,FALSE),IF(AZ13="△",10000,IF(AND(AZ13="○",BA$3="OPEN"),VLOOKUP($AM13,連盟使用!$AF$3:$AG$100,2,FALSE),IF(AND(AZ13="○",BA$3="Jr",BA$1="Jrふじてん"),VLOOKUP($AM13,連盟使用!$AP$3:$AQ$100,2,FALSE),IF(AND(AZ13="○",BA$3="Jr"),VLOOKUP($AM13,連盟使用!$AH$3:$AI$100,2,FALSE),IF(AND(AZ13="○",BA$3="MS",$AE13=1),VLOOKUP($AN13,連盟使用!$AJ$3:$AK$100,2,FALSE),VLOOKUP($AN13,連盟使用!$AL$3:$AM$100,2,FALSE)))))))))) | BC13: =IF(BB13="","",IF(AND(BB13="○",BC$3="国体"),VLOOKUP($AM13,連盟使用!$AN$3:$AO$100,2,FALSE),IF(AND(BB13="○",BC$3="通常",BC$1="通常・OPEN"),VLOOKUP($AM13,連盟使用!$AF$3:$AG$100,2,FALSE),IF(AND(BB13="○",BC$3="通常"),VLOOKUP($AM13,連盟使用!$AD$3:$AE$100,2,FALSE),IF(BB13="△",10000,IF(AND(BB13="○",BC$3="OPEN"),VLOOKUP($AM13,連盟使用!$AF$3:$AG$100,2,FALSE),IF(AND(BB13="○",BC$3="Jr",BC$1="Jrふじてん"),VLOOKUP($AM13,連盟使用!$AP$3:$AQ$100,2,FALSE),IF(AND(BB13="○",BC$3="Jr"),VLOOKUP($AM13,連盟使用!$AH$3:$AI$100,2,FALSE),IF(AND(BB13="○",BC$3="MS",$AE13=1),VLOOKUP($AN13,連盟使用!$AJ$3:$AK$100,2,FALSE),VLOOKUP($AN13,連盟使用!$AL$3:$AM$100,2,FALSE)))))))))) | BE13: =IF(BD13="","",IF(AND(BD13="○",BE$3="国体"),VLOOKUP($AM13,連盟使用!$AN$3:$AO$100,2,FALSE),IF(AND(BD13="○",BE$3="通常",BE$1="通常・OPEN"),VLOOKUP($AM13,連盟使用!$AF$3:$AG$100,2,FALSE),IF(AND(BD13="○",BE$3="通常"),VLOOKUP($AM13,連盟使用!$AD$3:$AE$100,2,FALSE),IF(BD13="△",10000,IF(AND(BD13="○",BE$3="OPEN"),VLOOKUP($AM13,連盟使用!$AF$3:$AG$100,2,FALSE),IF(AND(BD13="○",BE$3="Jr",BE$1="Jrふじてん"),VLOOKUP($AM13,連盟使用!$AP$3:$AQ$100,2,FALSE),IF(AND(BD13="○",BE$3="Jr"),VLOOKUP($AM13,連盟使用!$AH$3:$AI$100,2,FALSE),IF(AND(BD13="○",BE$3="MS",$AE13=1),VLOOKUP($AN13,連盟使用!$AJ$3:$AK$100,2,FALSE),VLOOKUP($AN13,連盟使用!$AL$3:$AM$100,2,FALSE)))))))))) | BG13: =IF(BF13="","",IF(AND(BF13="○",BG$3="国体"),VLOOKUP($AM13,連盟使用!$AN$3:$AO$100,2,FALSE),IF(AND(BF13="○",BG$3="通常",BG$1="通常・OPEN"),VLOOKUP($AM13,連盟使用!$AF$3:$AG$100,2,FALSE),IF(AND(BF13="○",BG$3="通常"),VLOOKUP($AM13,連盟使用!$AD$3:$AE$100,2,FALSE),IF(BF13="△",10000,IF(AND(BF13="○",BG$3="OPEN"),VLOOKUP($AM13,連盟使用!$AF$3:$AG$100,2,FALSE),IF(AND(BF13="○",BG$3="Jr",BG$1="Jrふじてん"),VLOOKUP($AM13,連盟使用!$AP$3:$AQ$100,2,FALSE),IF(AND(BF13="○",BG$3="Jr"),VLOOKUP($AM13,連盟使用!$AH$3:$AI$100,2,FALSE),IF(AND(BF13="○",BG$3="MS",$AE13=1),VLOOKUP($AN13,連盟使用!$AJ$3:$AK$100,2,FALSE),VLOOKUP($AN13,連盟使用!$AL$3:$AM$100,2,FALSE)))))))))) | BI13: =IF(BH13="","",IF(AND(BH13="○",BI$3="国体"),VLOOKUP($AM13,連盟使用!$AN$3:$AO$100,2,FALSE),IF(AND(BH13="○",BI$3="通常",BI$1="通常・OPEN"),VLOOKUP($AM13,連盟使用!$AF$3:$AG$100,2,FALSE),IF(AND(BH13="○",BI$3="通常"),VLOOKUP($AM13,連盟使用!$AD$3:$AE$100,2,FALSE),IF(BH13="△",10000,IF(AND(BH13="○",BI$3="OPEN"),VLOOKUP($AM13,連盟使用!$AF$3:$AG$100,2,FALSE),IF(AND(BH13="○",BI$3="Jr",BI$1="Jrふじてん"),VLOOKUP($AM13,連盟使用!$AP$3:$AQ$100,2,FALSE),IF(AND(BH13="○",BI$3="Jr"),VLOOKUP($AM13,連盟使用!$AH$3:$AI$100,2,FALSE),IF(AND(BH13="○",BI$3="MS",$AE13=1),VLOOKUP($AN13,連盟使用!$AJ$3:$AK$100,2,FALSE),VLOOKUP($AN13,連盟使用!$AL$3:$AM$100,2,FALSE)))))))))) | BK13: =IF(BJ13="","",IF(AND(BJ13="○",BK$3="国体"),VLOOKUP($AM13,連盟使用!$AN$3:$AO$100,2,FALSE),IF(AND(BJ13="○",BK$3="通常",BK$1="通常・OPEN"),VLOOKUP($AM13,連盟使用!$AF$3:$AG$100,2,FALSE),IF(AND(BJ13="○",BK$3="通常"),VLOOKUP($AM13,連盟使用!$AD$3:$AE$100,2,FALSE),IF(BJ13="△",10000,IF(AND(BJ13="○",BK$3="OPEN"),VLOOKUP($AM13,連盟使用!$AF$3:$AG$100,2,FALSE),IF(AND(BJ13="○",BK$3="Jr",BK$1="Jrふじてん"),VLOOKUP($AM13,連盟使用!$AP$3:$AQ$100,2,FALSE),IF(AND(BJ13="○",BK$3="Jr"),VLOOKUP($AM13,連盟使用!$AH$3:$AI$100,2,FALSE),IF(AND(BJ13="○",BK$3="MS",$AE13=1),VLOOKUP($AN13,連盟使用!$AJ$3:$AK$100,2,FALSE),VLOOKUP($AN13,連盟使用!$AL$3:$AM$100,2,FALSE)))))))))) | BM13: =IF(BL13="","",IF(AND(BL13="○",BM$3="国体"),VLOOKUP($AM13,連盟使用!$AN$3:$AO$100,2,FALSE),IF(AND(BL13="○",BM$3="通常",BM$1="通常・OPEN"),VLOOKUP($AM13,連盟使用!$AF$3:$AG$100,2,FALSE),IF(AND(BL13="○",BM$3="通常"),VLOOKUP($AM13,連盟使用!$AD$3:$AE$100,2,FALSE),IF(BL13="△",10000,IF(AND(BL13="○",BM$3="OPEN"),VLOOKUP($AM13,連盟使用!$AF$3:$AG$100,2,FALSE),IF(AND(BL13="○",BM$3="Jr",BM$1="Jrふじてん"),VLOOKUP($AM13,連盟使用!$AP$3:$AQ$100,2,FALSE),IF(AND(BL13="○",BM$3="Jr"),VLOOKUP($AM13,連盟使用!$AH$3:$AI$100,2,FALSE),IF(AND(BL13="○",BM$3="MS",$AE13=1),VLOOKUP($AN13,連盟使用!$AJ$3:$AK$100,2,FALSE),VLOOKUP($AN13,連盟使用!$AL$3:$AM$100,2,FALSE)))))))))) | BO13: =IF(BN13="","",IF(AND(BN13="○",BO$3="国体"),VLOOKUP($AM13,連盟使用!$AN$3:$AO$100,2,FALSE),IF(AND(BN13="○",BO$3="通常",BO$1="通常・OPEN"),VLOOKUP($AM13,連盟使用!$AF$3:$AG$100,2,FALSE),IF(AND(BN13="○",BO$3="通常"),VLOOKUP($AM13,連盟使用!$AD$3:$AE$100,2,FALSE),IF(BN13="△",10000,IF(AND(BN13="○",BO$3="OPEN"),VLOOKUP($AM13,連盟使用!$AF$3:$AG$100,2,FALSE),IF(AND(BN13="○",BO$3="Jr",BO$1="Jrふじてん"),VLOOKUP($AM13,連盟使用!$AP$3:$AQ$100,2,FALSE),IF(AND(BN13="○",BO$3="Jr"),VLOOKUP($AM13,連盟使用!$AH$3:$AI$100,2,FALSE),IF(AND(BN13="○",BO$3="MS",$AE13=1),VLOOKUP($AN13,連盟使用!$AJ$3:$AK$100,2,FALSE),VLOOKUP($AN13,連盟使用!$AL$3:$AM$100,2,FALSE)))))))))) | BQ13: =IF(BP13="","",IF(AND(BP13="○",BQ$3="国体"),VLOOKUP($AM13,連盟使用!$AN$3:$AO$100,2,FALSE),IF(AND(BP13="○",BQ$3="通常",BQ$1="通常・OPEN"),VLOOKUP($AM13,連盟使用!$AF$3:$AG$100,2,FALSE),IF(AND(BP13="○",BQ$3="通常"),VLOOKUP($AM13,連盟使用!$AD$3:$AE$100,2,FALSE),IF(BP13="△",10000,IF(AND(BP13="○",BQ$3="OPEN"),VLOOKUP($AM13,連盟使用!$AF$3:$AG$100,2,FALSE),IF(AND(BP13="○",BQ$3="Jr",BQ$1="Jrふじてん"),VLOOKUP($AM13,連盟使用!$AP$3:$AQ$100,2,FALSE),IF(AND(BP13="○",BQ$3="Jr"),VLOOKUP($AM13,連盟使用!$AH$3:$AI$100,2,FALSE),IF(AND(BP13="○",BQ$3="MS",$AE13=1),VLOOKUP($AN13,連盟使用!$AJ$3:$AK$100,2,FALSE),VLOOKUP($AN13,連盟使用!$AL$3:$AM$100,2,FALSE)))))))))) | BS13: =IF(BR13="","",IF(AND(BR13="○",BS$3="国体"),VLOOKUP($AM13,連盟使用!$AN$3:$AO$100,2,FALSE),IF(AND(BR13="○",BS$3="通常",BS$1="通常・OPEN"),VLOOKUP($AM13,連盟使用!$AF$3:$AG$100,2,FALSE),IF(AND(BR13="○",BS$3="通常"),VLOOKUP($AM13,連盟使用!$AD$3:$AE$100,2,FALSE),IF(BR13="△",10000,IF(AND(BR13="○",BS$3="OPEN"),VLOOKUP($AM13,連盟使用!$AF$3:$AG$100,2,FALSE),IF(AND(BR13="○",BS$3="Jr",BS$1="Jrふじてん"),VLOOKUP($AM13,連盟使用!$AP$3:$AQ$100,2,FALSE),IF(AND(BR13="○",BS$3="Jr"),VLOOKUP($AM13,連盟使用!$AH$3:$AI$100,2,FALSE),IF(AND(BR13="○",BS$3="MS",$AE13=1),VLOOKUP($AN13,連盟使用!$AJ$3:$AK$100,2,FALSE),VLOOKUP($AN13,連盟使用!$AL$3:$AM$100,2,FALSE)))))))))) | BU13: =IF(BT13="","",IF(AND(BT13="○",BU$3="国体"),VLOOKUP($AM13,連盟使用!$AN$3:$AO$100,2,FALSE),IF(AND(BT13="○",BU$3="通常",BU$1="通常・OPEN"),VLOOKUP($AM13,連盟使用!$AF$3:$AG$100,2,FALSE),IF(AND(BT13="○",BU$3="通常"),VLOOKUP($AM13,連盟使用!$AD$3:$AE$100,2,FALSE),IF(BT13="△",10000,IF(AND(BT13="○",BU$3="OPEN"),VLOOKUP($AM13,連盟使用!$AF$3:$AG$100,2,FALSE),IF(AND(BT13="○",BU$3="Jr",BU$1="Jrふじてん"),VLOOKUP($AM13,連盟使用!$AP$3:$AQ$100,2,FALSE),IF(AND(BT13="○",BU$3="Jr"),VLOOKUP($AM13,連盟使用!$AH$3:$AI$100,2,FALSE),IF(AND(BT13="○",BU$3="MS",$AE13=1),VLOOKUP($AN13,連盟使用!$AJ$3:$AK$100,2,FALSE),VLOOKUP($AN13,連盟使用!$AL$3:$AM$100,2,FALSE)))))))))) | BW13: =IF(BV13="","",IF(AND(BV13="○",BW$3="国体"),VLOOKUP($AM13,連盟使用!$AN$3:$AO$100,2,FALSE),IF(AND(BV13="○",BW$3="通常",BW$1="通常・OPEN"),VLOOKUP($AM13,連盟使用!$AF$3:$AG$100,2,FALSE),IF(AND(BV13="○",BW$3="通常"),VLOOKUP($AM13,連盟使用!$AD$3:$AE$100,2,FALSE),IF(BV13="△",10000,IF(AND(BV13="○",BW$3="OPEN"),VLOOKUP($AM13,連盟使用!$AF$3:$AG$100,2,FALSE),IF(AND(BV13="○",BW$3="Jr",BW$1="Jrふじてん"),VLOOKUP($AM13,連盟使用!$AP$3:$AQ$100,2,FALSE),IF(AND(BV13="○",BW$3="Jr"),VLOOKUP($AM13,連盟使用!$AH$3:$AI$100,2,FALSE),IF(AND(BV13="○",BW$3="MS",$AE13=1),VLOOKUP($AN13,連盟使用!$AJ$3:$AK$100,2,FALSE),VLOOKUP($AN13,連盟使用!$AL$3:$AM$100,2,FALSE)))))))))) | BY13: =IF(BX13="","",IF(AND(BX13="○",BY$3="国体"),VLOOKUP($AM13,連盟使用!$AN$3:$AO$100,2,FALSE),IF(AND(BX13="○",BY$3="通常",BY$1="通常・OPEN"),VLOOKUP($AM13,連盟使用!$AF$3:$AG$100,2,FALSE),IF(AND(BX13="○",BY$3="通常"),VLOOKUP($AM13,連盟使用!$AD$3:$AE$100,2,FALSE),IF(BX13="△",10000,IF(AND(BX13="○",BY$3="OPEN"),VLOOKUP($AM13,連盟使用!$AF$3:$AG$100,2,FALSE),IF(AND(BX13="○",BY$3="Jr",BY$1="Jrふじてん"),VLOOKUP($AM13,連盟使用!$AP$3:$AQ$100,2,FALSE),IF(AND(BX13="○",BY$3="Jr"),VLOOKUP($AM13,連盟使用!$AH$3:$AI$100,2,FALSE),IF(AND(BX13="○",BY$3="MS",$AE13=1),VLOOKUP($AN13,連盟使用!$AJ$3:$AK$100,2,FALSE),VLOOKUP($AN13,連盟使用!$AL$3:$AM$100,2,FALSE)))))))))) | CA13: =IF(BZ13="","",IF(AND(BZ13="○",CA$3="国体"),VLOOKUP($AM13,連盟使用!$AN$3:$AO$100,2,FALSE),IF(AND(BZ13="○",CA$3="通常",CA$1="通常・OPEN"),VLOOKUP($AM13,連盟使用!$AF$3:$AG$100,2,FALSE),IF(AND(BZ13="○",CA$3="通常"),VLOOKUP($AM13,連盟使用!$AD$3:$AE$100,2,FALSE),IF(BZ13="△",10000,IF(AND(BZ13="○",CA$3="OPEN"),VLOOKUP($AM13,連盟使用!$AF$3:$AG$100,2,FALSE),IF(AND(BZ13="○",CA$3="Jr",CA$1="Jrふじてん"),VLOOKUP($AM13,連盟使用!$AP$3:$AQ$100,2,FALSE),IF(AND(BZ13="○",CA$3="Jr"),VLOOKUP($AM13,連盟使用!$AH$3:$AI$100,2,FALSE),IF(AND(BZ13="○",CA$3="MS",$AE13=1),VLOOKUP($AN13,連盟使用!$AJ$3:$AK$100,2,FALSE),VLOOKUP($AN13,連盟使用!$AL$3:$AM$100,2,FALSE)))))))))) | CC13: =IF(CB13="","",IF(AND(CB13="○",CC$3="国体"),VLOOKUP($AM13,連盟使用!$AN$3:$AO$100,2,FALSE),IF(AND(CB13="○",CC$3="通常",CC$1="通常・OPEN"),VLOOKUP($AM13,連盟使用!$AF$3:$AG$100,2,FALSE),IF(AND(CB13="○",CC$3="通常"),VLOOKUP($AM13,連盟使用!$AD$3:$AE$100,2,FALSE),IF(CB13="△",10000,IF(AND(CB13="○",CC$3="OPEN"),VLOOKUP($AM13,連盟使用!$AF$3:$AG$100,2,FALSE),IF(AND(CB13="○",CC$3="Jr",CC$1="Jrふじてん"),VLOOKUP($AM13,連盟使用!$AP$3:$AQ$100,2,FALSE),IF(AND(CB13="○",CC$3="Jr"),VLOOKUP($AM13,連盟使用!$AH$3:$AI$100,2,FALSE),IF(AND(CB13="○",CC$3="MS",$AE13=1),VLOOKUP($AN13,連盟使用!$AJ$3:$AK$100,2,FALSE),VLOOKUP($AN13,連盟使用!$AL$3:$AM$100,2,FALSE)))))))))) | CE13: =IF(CD13="","",IF(AND(CD13="○",CE$3="国体"),VLOOKUP($AM13,連盟使用!$AN$3:$AO$100,2,FALSE),IF(AND(CD13="○",CE$3="通常",CE$1="通常・OPEN"),VLOOKUP($AM13,連盟使用!$AF$3:$AG$100,2,FALSE),IF(AND(CD13="○",CE$3="通常"),VLOOKUP($AM13,連盟使用!$AD$3:$AE$100,2,FALSE),IF(CD13="△",10000,IF(AND(CD13="○",CE$3="OPEN"),VLOOKUP($AM13,連盟使用!$AF$3:$AG$100,2,FALSE),IF(AND(CD13="○",CE$3="Jr",CE$1="Jrふじてん"),VLOOKUP($AM13,連盟使用!$AP$3:$AQ$100,2,FALSE),IF(AND(CD13="○",CE$3="Jr"),VLOOKUP($AM13,連盟使用!$AH$3:$AI$100,2,FALSE),IF(AND(CD13="○",CE$3="MS",$AE13=1),VLOOKUP($AN13,連盟使用!$AJ$3:$AK$100,2,FALSE),VLOOKUP($AN13,連盟使用!$AL$3:$AM$100,2,FALSE)))))))))) | CG13: =IF(CF13="","",IF(AND(CF13="○",CG$3="国体"),VLOOKUP($AM13,連盟使用!$AN$3:$AO$100,2,FALSE),IF(AND(CF13="○",CG$3="通常",CG$1="通常・OPEN"),VLOOKUP($AM13,連盟使用!$AF$3:$AG$100,2,FALSE),IF(AND(CF13="○",CG$3="通常"),VLOOKUP($AM13,連盟使用!$AD$3:$AE$100,2,FALSE),IF(CF13="△",10000,IF(AND(CF13="○",CG$3="OPEN"),VLOOKUP($AM13,連盟使用!$AF$3:$AG$100,2,FALSE),IF(AND(CF13="○",CG$3="Jr",CG$1="Jrふじてん"),VLOOKUP($AM13,連盟使用!$AP$3:$AQ$100,2,FALSE),IF(AND(CF13="○",CG$3="Jr"),VLOOKUP($AM13,連盟使用!$AH$3:$AI$100,2,FALSE),IF(AND(CF13="○",CG$3="MS",$AE13=1),VLOOKUP($AN13,連盟使用!$AJ$3:$AK$100,2,FALSE),VLOOKUP($AN13,連盟使用!$AL$3:$AM$100,2,FALSE)))))))))) | CH13: =SUM(AT13:CG13) -> 0
A14: =IF(個表!A12="","",個表!A12) -> 9 | B14: =IF(個表!B12="","",個表!B12) | E14: =IF(個表!J12="","",個表!J12) | F14: =IF(個表!K12="","",個表!K12) | G14: =IF(個表!L12="","",個表!L12) | L14: =IF(個表!M12="","",個表!M12) | M14: =IF(個表!N12="","",個表!N12) | N14: =IF(個表!O12="","",個表!O12) | O14: =IF(個表!P12="","",個表!P12) | P14: =IF(個表!Q12="","",個表!Q12) | Q14: =IF(個表!G12="","",個表!G12) | S14: =IF(個表!R12="","",個表!R12) | T14: =IF(個表!S12="","",個表!S12) | V14: =IF(個表!C12="","",個表!C12) | W14: =IF(個表!D12="","",個表!D12) | X14: =IF(個表!E12="","",個表!E12) | Y14: =IF(個表!F12="","",個表!F12) | AE14: =IF(個表!H12="","",個表!H12) | AI14: =IF(個表!T12="","",個表!T12) | AL14: =IF(個表!I12="","",個表!I12) | AM14: =IF(個表!U12="","",個表!U12) | AN14: =IF(個表!V12="","",個表!V12) | AO14: =IF(個表!W12="","",個表!W12) | AP14: =IF(個表!X12="","",個表!X12) | AQ14: =IF(個表!Y12="","",個表!Y12) | AR14: =IF(個表!Z12="","",個表!Z12) | AS14: =IF(個表!AA12="","",個表!AA12) | AU14: =IF(AT14="","",IF(AND(AT14="○",AU$3="国体"),VLOOKUP($AM14,連盟使用!$AN$3:$AO$100,2,FALSE),IF(AND(AT14="○",AU$3="通常",AU$1="通常・OPEN"),VLOOKUP($AM14,連盟使用!$AF$3:$AG$100,2,FALSE),IF(AND(AT14="○",AU$3="通常"),VLOOKUP($AM14,連盟使用!$AD$3:$AE$100,2,FALSE),IF(AT14="△",10000,IF(AND(AT14="○",AU$3="OPEN"),VLOOKUP($AM14,連盟使用!$AF$3:$AG$100,2,FALSE),IF(AND(AT14="○",AU$3="Jr",AU$1="Jrふじてん"),VLOOKUP($AM14,連盟使用!$AP$3:$AQ$100,2,FALSE),IF(AND(AT14="○",AU$3="Jr"),VLOOKUP($AM14,連盟使用!$AH$3:$AI$100,2,FALSE),IF(AND(AT14="○",AU$3="MS",$AE14=1),VLOOKUP($AN14,連盟使用!$AJ$3:$AK$100,2,FALSE),VLOOKUP($AN14,連盟使用!$AL$3:$AM$100,2,FALSE)))))))))) | AW14: =IF(AV14="","",IF(AND(AV14="○",AW$3="国体"),VLOOKUP($AM14,連盟使用!$AN$3:$AO$100,2,FALSE),IF(AND(AV14="○",AW$3="通常",AW$1="通常・OPEN"),VLOOKUP($AM14,連盟使用!$AF$3:$AG$100,2,FALSE),IF(AND(AV14="○",AW$3="通常"),VLOOKUP($AM14,連盟使用!$AD$3:$AE$100,2,FALSE),IF(AV14="△",10000,IF(AND(AV14="○",AW$3="OPEN"),VLOOKUP($AM14,連盟使用!$AF$3:$AG$100,2,FALSE),IF(AND(AV14="○",AW$3="Jr",AW$1="Jrふじてん"),VLOOKUP($AM14,連盟使用!$AP$3:$AQ$100,2,FALSE),IF(AND(AV14="○",AW$3="Jr"),VLOOKUP($AM14,連盟使用!$AH$3:$AI$100,2,FALSE),IF(AND(AV14="○",AW$3="MS",$AE14=1),VLOOKUP($AN14,連盟使用!$AJ$3:$AK$100,2,FALSE),VLOOKUP($AN14,連盟使用!$AL$3:$AM$100,2,FALSE)))))))))) | AY14: =IF(AX14="","",IF(AND(AX14="○",AY$3="国体"),VLOOKUP($AM14,連盟使用!$AN$3:$AO$100,2,FALSE),IF(AND(AX14="○",AY$3="通常",AY$1="通常・OPEN"),VLOOKUP($AM14,連盟使用!$AF$3:$AG$100,2,FALSE),IF(AND(AX14="○",AY$3="通常"),VLOOKUP($AM14,連盟使用!$AD$3:$AE$100,2,FALSE),IF(AX14="△",10000,IF(AND(AX14="○",AY$3="OPEN"),VLOOKUP($AM14,連盟使用!$AF$3:$AG$100,2,FALSE),IF(AND(AX14="○",AY$3="Jr",AY$1="Jrふじてん"),VLOOKUP($AM14,連盟使用!$AP$3:$AQ$100,2,FALSE),IF(AND(AX14="○",AY$3="Jr"),VLOOKUP($AM14,連盟使用!$AH$3:$AI$100,2,FALSE),IF(AND(AX14="○",AY$3="MS",$AE14=1),VLOOKUP($AN14,連盟使用!$AJ$3:$AK$100,2,FALSE),VLOOKUP($AN14,連盟使用!$AL$3:$AM$100,2,FALSE)))))))))) | BA14: =IF(AZ14="","",IF(AND(AZ14="○",BA$3="国体"),VLOOKUP($AM14,連盟使用!$AN$3:$AO$100,2,FALSE),IF(AND(AZ14="○",BA$3="通常",BA$1="通常・OPEN"),VLOOKUP($AM14,連盟使用!$AF$3:$AG$100,2,FALSE),IF(AND(AZ14="○",BA$3="通常"),VLOOKUP($AM14,連盟使用!$AD$3:$AE$100,2,FALSE),IF(AZ14="△",10000,IF(AND(AZ14="○",BA$3="OPEN"),VLOOKUP($AM14,連盟使用!$AF$3:$AG$100,2,FALSE),IF(AND(AZ14="○",BA$3="Jr",BA$1="Jrふじてん"),VLOOKUP($AM14,連盟使用!$AP$3:$AQ$100,2,FALSE),IF(AND(AZ14="○",BA$3="Jr"),VLOOKUP($AM14,連盟使用!$AH$3:$AI$100,2,FALSE),IF(AND(AZ14="○",BA$3="MS",$AE14=1),VLOOKUP($AN14,連盟使用!$AJ$3:$AK$100,2,FALSE),VLOOKUP($AN14,連盟使用!$AL$3:$AM$100,2,FALSE)))))))))) | BC14: =IF(BB14="","",IF(AND(BB14="○",BC$3="国体"),VLOOKUP($AM14,連盟使用!$AN$3:$AO$100,2,FALSE),IF(AND(BB14="○",BC$3="通常",BC$1="通常・OPEN"),VLOOKUP($AM14,連盟使用!$AF$3:$AG$100,2,FALSE),IF(AND(BB14="○",BC$3="通常"),VLOOKUP($AM14,連盟使用!$AD$3:$AE$100,2,FALSE),IF(BB14="△",10000,IF(AND(BB14="○",BC$3="OPEN"),VLOOKUP($AM14,連盟使用!$AF$3:$AG$100,2,FALSE),IF(AND(BB14="○",BC$3="Jr",BC$1="Jrふじてん"),VLOOKUP($AM14,連盟使用!$AP$3:$AQ$100,2,FALSE),IF(AND(BB14="○",BC$3="Jr"),VLOOKUP($AM14,連盟使用!$AH$3:$AI$100,2,FALSE),IF(AND(BB14="○",BC$3="MS",$AE14=1),VLOOKUP($AN14,連盟使用!$AJ$3:$AK$100,2,FALSE),VLOOKUP($AN14,連盟使用!$AL$3:$AM$100,2,FALSE)))))))))) | BE14: =IF(BD14="","",IF(AND(BD14="○",BE$3="国体"),VLOOKUP($AM14,連盟使用!$AN$3:$AO$100,2,FALSE),IF(AND(BD14="○",BE$3="通常",BE$1="通常・OPEN"),VLOOKUP($AM14,連盟使用!$AF$3:$AG$100,2,FALSE),IF(AND(BD14="○",BE$3="通常"),VLOOKUP($AM14,連盟使用!$AD$3:$AE$100,2,FALSE),IF(BD14="△",10000,IF(AND(BD14="○",BE$3="OPEN"),VLOOKUP($AM14,連盟使用!$AF$3:$AG$100,2,FALSE),IF(AND(BD14="○",BE$3="Jr",BE$1="Jrふじてん"),VLOOKUP($AM14,連盟使用!$AP$3:$AQ$100,2,FALSE),IF(AND(BD14="○",BE$3="Jr"),VLOOKUP($AM14,連盟使用!$AH$3:$AI$100,2,FALSE),IF(AND(BD14="○",BE$3="MS",$AE14=1),VLOOKUP($AN14,連盟使用!$AJ$3:$AK$100,2,FALSE),VLOOKUP($AN14,連盟使用!$AL$3:$AM$100,2,FALSE)))))))))) | BG14: =IF(BF14="","",IF(AND(BF14="○",BG$3="国体"),VLOOKUP($AM14,連盟使用!$AN$3:$AO$100,2,FALSE),IF(AND(BF14="○",BG$3="通常",BG$1="通常・OPEN"),VLOOKUP($AM14,連盟使用!$AF$3:$AG$100,2,FALSE),IF(AND(BF14="○",BG$3="通常"),VLOOKUP($AM14,連盟使用!$AD$3:$AE$100,2,FALSE),IF(BF14="△",10000,IF(AND(BF14="○",BG$3="OPEN"),VLOOKUP($AM14,連盟使用!$AF$3:$AG$100,2,FALSE),IF(AND(BF14="○",BG$3="Jr",BG$1="Jrふじてん"),VLOOKUP($AM14,連盟使用!$AP$3:$AQ$100,2,FALSE),IF(AND(BF14="○",BG$3="Jr"),VLOOKUP($AM14,連盟使用!$AH$3:$AI$100,2,FALSE),IF(AND(BF14="○",BG$3="MS",$AE14=1),VLOOKUP($AN14,連盟使用!$AJ$3:$AK$100,2,FALSE),VLOOKUP($AN14,連盟使用!$AL$3:$AM$100,2,FALSE)))))))))) | BI14: =IF(BH14="","",IF(AND(BH14="○",BI$3="国体"),VLOOKUP($AM14,連盟使用!$AN$3:$AO$100,2,FALSE),IF(AND(BH14="○",BI$3="通常",BI$1="通常・OPEN"),VLOOKUP($AM14,連盟使用!$AF$3:$AG$100,2,FALSE),IF(AND(BH14="○",BI$3="通常"),VLOOKUP($AM14,連盟使用!$AD$3:$AE$100,2,FALSE),IF(BH14="△",10000,IF(AND(BH14="○",BI$3="OPEN"),VLOOKUP($AM14,連盟使用!$AF$3:$AG$100,2,FALSE),IF(AND(BH14="○",BI$3="Jr",BI$1="Jrふじてん"),VLOOKUP($AM14,連盟使用!$AP$3:$AQ$100,2,FALSE),IF(AND(BH14="○",BI$3="Jr"),VLOOKUP($AM14,連盟使用!$AH$3:$AI$100,2,FALSE),IF(AND(BH14="○",BI$3="MS",$AE14=1),VLOOKUP($AN14,連盟使用!$AJ$3:$AK$100,2,FALSE),VLOOKUP($AN14,連盟使用!$AL$3:$AM$100,2,FALSE)))))))))) | BK14: =IF(BJ14="","",IF(AND(BJ14="○",BK$3="国体"),VLOOKUP($AM14,連盟使用!$AN$3:$AO$100,2,FALSE),IF(AND(BJ14="○",BK$3="通常",BK$1="通常・OPEN"),VLOOKUP($AM14,連盟使用!$AF$3:$AG$100,2,FALSE),IF(AND(BJ14="○",BK$3="通常"),VLOOKUP($AM14,連盟使用!$AD$3:$AE$100,2,FALSE),IF(BJ14="△",10000,IF(AND(BJ14="○",BK$3="OPEN"),VLOOKUP($AM14,連盟使用!$AF$3:$AG$100,2,FALSE),IF(AND(BJ14="○",BK$3="Jr",BK$1="Jrふじてん"),VLOOKUP($AM14,連盟使用!$AP$3:$AQ$100,2,FALSE),IF(AND(BJ14="○",BK$3="Jr"),VLOOKUP($AM14,連盟使用!$AH$3:$AI$100,2,FALSE),IF(AND(BJ14="○",BK$3="MS",$AE14=1),VLOOKUP($AN14,連盟使用!$AJ$3:$AK$100,2,FALSE),VLOOKUP($AN14,連盟使用!$AL$3:$AM$100,2,FALSE)))))))))) | BM14: =IF(BL14="","",IF(AND(BL14="○",BM$3="国体"),VLOOKUP($AM14,連盟使用!$AN$3:$AO$100,2,FALSE),IF(AND(BL14="○",BM$3="通常",BM$1="通常・OPEN"),VLOOKUP($AM14,連盟使用!$AF$3:$AG$100,2,FALSE),IF(AND(BL14="○",BM$3="通常"),VLOOKUP($AM14,連盟使用!$AD$3:$AE$100,2,FALSE),IF(BL14="△",10000,IF(AND(BL14="○",BM$3="OPEN"),VLOOKUP($AM14,連盟使用!$AF$3:$AG$100,2,FALSE),IF(AND(BL14="○",BM$3="Jr",BM$1="Jrふじてん"),VLOOKUP($AM14,連盟使用!$AP$3:$AQ$100,2,FALSE),IF(AND(BL14="○",BM$3="Jr"),VLOOKUP($AM14,連盟使用!$AH$3:$AI$100,2,FALSE),IF(AND(BL14="○",BM$3="MS",$AE14=1),VLOOKUP($AN14,連盟使用!$AJ$3:$AK$100,2,FALSE),VLOOKUP($AN14,連盟使用!$AL$3:$AM$100,2,FALSE)))))))))) | BO14: =IF(BN14="","",IF(AND(BN14="○",BO$3="国体"),VLOOKUP($AM14,連盟使用!$AN$3:$AO$100,2,FALSE),IF(AND(BN14="○",BO$3="通常",BO$1="通常・OPEN"),VLOOKUP($AM14,連盟使用!$AF$3:$AG$100,2,FALSE),IF(AND(BN14="○",BO$3="通常"),VLOOKUP($AM14,連盟使用!$AD$3:$AE$100,2,FALSE),IF(BN14="△",10000,IF(AND(BN14="○",BO$3="OPEN"),VLOOKUP($AM14,連盟使用!$AF$3:$AG$100,2,FALSE),IF(AND(BN14="○",BO$3="Jr",BO$1="Jrふじてん"),VLOOKUP($AM14,連盟使用!$AP$3:$AQ$100,2,FALSE),IF(AND(BN14="○",BO$3="Jr"),VLOOKUP($AM14,連盟使用!$AH$3:$AI$100,2,FALSE),IF(AND(BN14="○",BO$3="MS",$AE14=1),VLOOKUP($AN14,連盟使用!$AJ$3:$AK$100,2,FALSE),VLOOKUP($AN14,連盟使用!$AL$3:$AM$100,2,FALSE)))))))))) | BQ14: =IF(BP14="","",IF(AND(BP14="○",BQ$3="国体"),VLOOKUP($AM14,連盟使用!$AN$3:$AO$100,2,FALSE),IF(AND(BP14="○",BQ$3="通常",BQ$1="通常・OPEN"),VLOOKUP($AM14,連盟使用!$AF$3:$AG$100,2,FALSE),IF(AND(BP14="○",BQ$3="通常"),VLOOKUP($AM14,連盟使用!$AD$3:$AE$100,2,FALSE),IF(BP14="△",10000,IF(AND(BP14="○",BQ$3="OPEN"),VLOOKUP($AM14,連盟使用!$AF$3:$AG$100,2,FALSE),IF(AND(BP14="○",BQ$3="Jr",BQ$1="Jrふじてん"),VLOOKUP($AM14,連盟使用!$AP$3:$AQ$100,2,FALSE),IF(AND(BP14="○",BQ$3="Jr"),VLOOKUP($AM14,連盟使用!$AH$3:$AI$100,2,FALSE),IF(AND(BP14="○",BQ$3="MS",$AE14=1),VLOOKUP($AN14,連盟使用!$AJ$3:$AK$100,2,FALSE),VLOOKUP($AN14,連盟使用!$AL$3:$AM$100,2,FALSE)))))))))) | BS14: =IF(BR14="","",IF(AND(BR14="○",BS$3="国体"),VLOOKUP($AM14,連盟使用!$AN$3:$AO$100,2,FALSE),IF(AND(BR14="○",BS$3="通常",BS$1="通常・OPEN"),VLOOKUP($AM14,連盟使用!$AF$3:$AG$100,2,FALSE),IF(AND(BR14="○",BS$3="通常"),VLOOKUP($AM14,連盟使用!$AD$3:$AE$100,2,FALSE),IF(BR14="△",10000,IF(AND(BR14="○",BS$3="OPEN"),VLOOKUP($AM14,連盟使用!$AF$3:$AG$100,2,FALSE),IF(AND(BR14="○",BS$3="Jr",BS$1="Jrふじてん"),VLOOKUP($AM14,連盟使用!$AP$3:$AQ$100,2,FALSE),IF(AND(BR14="○",BS$3="Jr"),VLOOKUP($AM14,連盟使用!$AH$3:$AI$100,2,FALSE),IF(AND(BR14="○",BS$3="MS",$AE14=1),VLOOKUP($AN14,連盟使用!$AJ$3:$AK$100,2,FALSE),VLOOKUP($AN14,連盟使用!$AL$3:$AM$100,2,FALSE)))))))))) | BU14: =IF(BT14="","",IF(AND(BT14="○",BU$3="国体"),VLOOKUP($AM14,連盟使用!$AN$3:$AO$100,2,FALSE),IF(AND(BT14="○",BU$3="通常",BU$1="通常・OPEN"),VLOOKUP($AM14,連盟使用!$AF$3:$AG$100,2,FALSE),IF(AND(BT14="○",BU$3="通常"),VLOOKUP($AM14,連盟使用!$AD$3:$AE$100,2,FALSE),IF(BT14="△",10000,IF(AND(BT14="○",BU$3="OPEN"),VLOOKUP($AM14,連盟使用!$AF$3:$AG$100,2,FALSE),IF(AND(BT14="○",BU$3="Jr",BU$1="Jrふじてん"),VLOOKUP($AM14,連盟使用!$AP$3:$AQ$100,2,FALSE),IF(AND(BT14="○",BU$3="Jr"),VLOOKUP($AM14,連盟使用!$AH$3:$AI$100,2,FALSE),IF(AND(BT14="○",BU$3="MS",$AE14=1),VLOOKUP($AN14,連盟使用!$AJ$3:$AK$100,2,FALSE),VLOOKUP($AN14,連盟使用!$AL$3:$AM$100,2,FALSE)))))))))) | BW14: =IF(BV14="","",IF(AND(BV14="○",BW$3="国体"),VLOOKUP($AM14,連盟使用!$AN$3:$AO$100,2,FALSE),IF(AND(BV14="○",BW$3="通常",BW$1="通常・OPEN"),VLOOKUP($AM14,連盟使用!$AF$3:$AG$100,2,FALSE),IF(AND(BV14="○",BW$3="通常"),VLOOKUP($AM14,連盟使用!$AD$3:$AE$100,2,FALSE),IF(BV14="△",10000,IF(AND(BV14="○",BW$3="OPEN"),VLOOKUP($AM14,連盟使用!$AF$3:$AG$100,2,FALSE),IF(AND(BV14="○",BW$3="Jr",BW$1="Jrふじてん"),VLOOKUP($AM14,連盟使用!$AP$3:$AQ$100,2,FALSE),IF(AND(BV14="○",BW$3="Jr"),VLOOKUP($AM14,連盟使用!$AH$3:$AI$100,2,FALSE),IF(AND(BV14="○",BW$3="MS",$AE14=1),VLOOKUP($AN14,連盟使用!$AJ$3:$AK$100,2,FALSE),VLOOKUP($AN14,連盟使用!$AL$3:$AM$100,2,FALSE)))))))))) | BY14: =IF(BX14="","",IF(AND(BX14="○",BY$3="国体"),VLOOKUP($AM14,連盟使用!$AN$3:$AO$100,2,FALSE),IF(AND(BX14="○",BY$3="通常",BY$1="通常・OPEN"),VLOOKUP($AM14,連盟使用!$AF$3:$AG$100,2,FALSE),IF(AND(BX14="○",BY$3="通常"),VLOOKUP($AM14,連盟使用!$AD$3:$AE$100,2,FALSE),IF(BX14="△",10000,IF(AND(BX14="○",BY$3="OPEN"),VLOOKUP($AM14,連盟使用!$AF$3:$AG$100,2,FALSE),IF(AND(BX14="○",BY$3="Jr",BY$1="Jrふじてん"),VLOOKUP($AM14,連盟使用!$AP$3:$AQ$100,2,FALSE),IF(AND(BX14="○",BY$3="Jr"),VLOOKUP($AM14,連盟使用!$AH$3:$AI$100,2,FALSE),IF(AND(BX14="○",BY$3="MS",$AE14=1),VLOOKUP($AN14,連盟使用!$AJ$3:$AK$100,2,FALSE),VLOOKUP($AN14,連盟使用!$AL$3:$AM$100,2,FALSE)))))))))) | CA14: =IF(BZ14="","",IF(AND(BZ14="○",CA$3="国体"),VLOOKUP($AM14,連盟使用!$AN$3:$AO$100,2,FALSE),IF(AND(BZ14="○",CA$3="通常",CA$1="通常・OPEN"),VLOOKUP($AM14,連盟使用!$AF$3:$AG$100,2,FALSE),IF(AND(BZ14="○",CA$3="通常"),VLOOKUP($AM14,連盟使用!$AD$3:$AE$100,2,FALSE),IF(BZ14="△",10000,IF(AND(BZ14="○",CA$3="OPEN"),VLOOKUP($AM14,連盟使用!$AF$3:$AG$100,2,FALSE),IF(AND(BZ14="○",CA$3="Jr",CA$1="Jrふじてん"),VLOOKUP($AM14,連盟使用!$AP$3:$AQ$100,2,FALSE),IF(AND(BZ14="○",CA$3="Jr"),VLOOKUP($AM14,連盟使用!$AH$3:$AI$100,2,FALSE),IF(AND(BZ14="○",CA$3="MS",$AE14=1),VLOOKUP($AN14,連盟使用!$AJ$3:$AK$100,2,FALSE),VLOOKUP($AN14,連盟使用!$AL$3:$AM$100,2,FALSE)))))))))) | CC14: =IF(CB14="","",IF(AND(CB14="○",CC$3="国体"),VLOOKUP($AM14,連盟使用!$AN$3:$AO$100,2,FALSE),IF(AND(CB14="○",CC$3="通常",CC$1="通常・OPEN"),VLOOKUP($AM14,連盟使用!$AF$3:$AG$100,2,FALSE),IF(AND(CB14="○",CC$3="通常"),VLOOKUP($AM14,連盟使用!$AD$3:$AE$100,2,FALSE),IF(CB14="△",10000,IF(AND(CB14="○",CC$3="OPEN"),VLOOKUP($AM14,連盟使用!$AF$3:$AG$100,2,FALSE),IF(AND(CB14="○",CC$3="Jr",CC$1="Jrふじてん"),VLOOKUP($AM14,連盟使用!$AP$3:$AQ$100,2,FALSE),IF(AND(CB14="○",CC$3="Jr"),VLOOKUP($AM14,連盟使用!$AH$3:$AI$100,2,FALSE),IF(AND(CB14="○",CC$3="MS",$AE14=1),VLOOKUP($AN14,連盟使用!$AJ$3:$AK$100,2,FALSE),VLOOKUP($AN14,連盟使用!$AL$3:$AM$100,2,FALSE)))))))))) | CE14: =IF(CD14="","",IF(AND(CD14="○",CE$3="国体"),VLOOKUP($AM14,連盟使用!$AN$3:$AO$100,2,FALSE),IF(AND(CD14="○",CE$3="通常",CE$1="通常・OPEN"),VLOOKUP($AM14,連盟使用!$AF$3:$AG$100,2,FALSE),IF(AND(CD14="○",CE$3="通常"),VLOOKUP($AM14,連盟使用!$AD$3:$AE$100,2,FALSE),IF(CD14="△",10000,IF(AND(CD14="○",CE$3="OPEN"),VLOOKUP($AM14,連盟使用!$AF$3:$AG$100,2,FALSE),IF(AND(CD14="○",CE$3="Jr",CE$1="Jrふじてん"),VLOOKUP($AM14,連盟使用!$AP$3:$AQ$100,2,FALSE),IF(AND(CD14="○",CE$3="Jr"),VLOOKUP($AM14,連盟使用!$AH$3:$AI$100,2,FALSE),IF(AND(CD14="○",CE$3="MS",$AE14=1),VLOOKUP($AN14,連盟使用!$AJ$3:$AK$100,2,FALSE),VLOOKUP($AN14,連盟使用!$AL$3:$AM$100,2,FALSE)))))))))) | CG14: =IF(CF14="","",IF(AND(CF14="○",CG$3="国体"),VLOOKUP($AM14,連盟使用!$AN$3:$AO$100,2,FALSE),IF(AND(CF14="○",CG$3="通常",CG$1="通常・OPEN"),VLOOKUP($AM14,連盟使用!$AF$3:$AG$100,2,FALSE),IF(AND(CF14="○",CG$3="通常"),VLOOKUP($AM14,連盟使用!$AD$3:$AE$100,2,FALSE),IF(CF14="△",10000,IF(AND(CF14="○",CG$3="OPEN"),VLOOKUP($AM14,連盟使用!$AF$3:$AG$100,2,FALSE),IF(AND(CF14="○",CG$3="Jr",CG$1="Jrふじてん"),VLOOKUP($AM14,連盟使用!$AP$3:$AQ$100,2,FALSE),IF(AND(CF14="○",CG$3="Jr"),VLOOKUP($AM14,連盟使用!$AH$3:$AI$100,2,FALSE),IF(AND(CF14="○",CG$3="MS",$AE14=1),VLOOKUP($AN14,連盟使用!$AJ$3:$AK$100,2,FALSE),VLOOKUP($AN14,連盟使用!$AL$3:$AM$100,2,FALSE)))))))))) | CH14: =SUM(AT14:CG14) -> 0
A15: =IF(個表!A13="","",個表!A13) -> 10 | B15: =IF(個表!B13="","",個表!B13) | E15: =IF(個表!J13="","",個表!J13) | F15: =IF(個表!K13="","",個表!K13) | G15: =IF(個表!L13="","",個表!L13) | L15: =IF(個表!M13="","",個表!M13) | M15: =IF(個表!N13="","",個表!N13) | N15: =IF(個表!O13="","",個表!O13) | O15: =IF(個表!P13="","",個表!P13) | P15: =IF(個表!Q13="","",個表!Q13) | Q15: =IF(個表!G13="","",個表!G13) | S15: =IF(個表!R13="","",個表!R13) | T15: =IF(個表!S13="","",個表!S13) | V15: =IF(個表!C13="","",個表!C13) | W15: =IF(個表!D13="","",個表!D13) | X15: =IF(個表!E13="","",個表!E13) | Y15: =IF(個表!F13="","",個表!F13) | AE15: =IF(個表!H13="","",個表!H13) | AI15: =IF(個表!T13="","",個表!T13) | AL15: =IF(個表!I13="","",個表!I13) | AM15: =IF(個表!U13="","",個表!U13) | AN15: =IF(個表!V13="","",個表!V13) | AO15: =IF(個表!W13="","",個表!W13) | AP15: =IF(個表!X13="","",個表!X13) | AQ15: =IF(個表!Y13="","",個表!Y13) | AR15: =IF(個表!Z13="","",個表!Z13) | AS15: =IF(個表!AA13="","",個表!AA13) | AU15: =IF(AT15="","",IF(AND(AT15="○",AU$3="国体"),VLOOKUP($AM15,連盟使用!$AN$3:$AO$100,2,FALSE),IF(AND(AT15="○",AU$3="通常",AU$1="通常・OPEN"),VLOOKUP($AM15,連盟使用!$AF$3:$AG$100,2,FALSE),IF(AND(AT15="○",AU$3="通常"),VLOOKUP($AM15,連盟使用!$AD$3:$AE$100,2,FALSE),IF(AT15="△",10000,IF(AND(AT15="○",AU$3="OPEN"),VLOOKUP($AM15,連盟使用!$AF$3:$AG$100,2,FALSE),IF(AND(AT15="○",AU$3="Jr",AU$1="Jrふじてん"),VLOOKUP($AM15,連盟使用!$AP$3:$AQ$100,2,FALSE),IF(AND(AT15="○",AU$3="Jr"),VLOOKUP($AM15,連盟使用!$AH$3:$AI$100,2,FALSE),IF(AND(AT15="○",AU$3="MS",$AE15=1),VLOOKUP($AN15,連盟使用!$AJ$3:$AK$100,2,FALSE),VLOOKUP($AN15,連盟使用!$AL$3:$AM$100,2,FALSE)))))))))) | AW15: =IF(AV15="","",IF(AND(AV15="○",AW$3="国体"),VLOOKUP($AM15,連盟使用!$AN$3:$AO$100,2,FALSE),IF(AND(AV15="○",AW$3="通常",AW$1="通常・OPEN"),VLOOKUP($AM15,連盟使用!$AF$3:$AG$100,2,FALSE),IF(AND(AV15="○",AW$3="通常"),VLOOKUP($AM15,連盟使用!$AD$3:$AE$100,2,FALSE),IF(AV15="△",10000,IF(AND(AV15="○",AW$3="OPEN"),VLOOKUP($AM15,連盟使用!$AF$3:$AG$100,2,FALSE),IF(AND(AV15="○",AW$3="Jr",AW$1="Jrふじてん"),VLOOKUP($AM15,連盟使用!$AP$3:$AQ$100,2,FALSE),IF(AND(AV15="○",AW$3="Jr"),VLOOKUP($AM15,連盟使用!$AH$3:$AI$100,2,FALSE),IF(AND(AV15="○",AW$3="MS",$AE15=1),VLOOKUP($AN15,連盟使用!$AJ$3:$AK$100,2,FALSE),VLOOKUP($AN15,連盟使用!$AL$3:$AM$100,2,FALSE)))))))))) | AY15: =IF(AX15="","",IF(AND(AX15="○",AY$3="国体"),VLOOKUP($AM15,連盟使用!$AN$3:$AO$100,2,FALSE),IF(AND(AX15="○",AY$3="通常",AY$1="通常・OPEN"),VLOOKUP($AM15,連盟使用!$AF$3:$AG$100,2,FALSE),IF(AND(AX15="○",AY$3="通常"),VLOOKUP($AM15,連盟使用!$AD$3:$AE$100,2,FALSE),IF(AX15="△",10000,IF(AND(AX15="○",AY$3="OPEN"),VLOOKUP($AM15,連盟使用!$AF$3:$AG$100,2,FALSE),IF(AND(AX15="○",AY$3="Jr",AY$1="Jrふじてん"),VLOOKUP($AM15,連盟使用!$AP$3:$AQ$100,2,FALSE),IF(AND(AX15="○",AY$3="Jr"),VLOOKUP($AM15,連盟使用!$AH$3:$AI$100,2,FALSE),IF(AND(AX15="○",AY$3="MS",$AE15=1),VLOOKUP($AN15,連盟使用!$AJ$3:$AK$100,2,FALSE),VLOOKUP($AN15,連盟使用!$AL$3:$AM$100,2,FALSE)))))))))) | BA15: =IF(AZ15="","",IF(AND(AZ15="○",BA$3="国体"),VLOOKUP($AM15,連盟使用!$AN$3:$AO$100,2,FALSE),IF(AND(AZ15="○",BA$3="通常",BA$1="通常・OPEN"),VLOOKUP($AM15,連盟使用!$AF$3:$AG$100,2,FALSE),IF(AND(AZ15="○",BA$3="通常"),VLOOKUP($AM15,連盟使用!$AD$3:$AE$100,2,FALSE),IF(AZ15="△",10000,IF(AND(AZ15="○",BA$3="OPEN"),VLOOKUP($AM15,連盟使用!$AF$3:$AG$100,2,FALSE),IF(AND(AZ15="○",BA$3="Jr",BA$1="Jrふじてん"),VLOOKUP($AM15,連盟使用!$AP$3:$AQ$100,2,FALSE),IF(AND(AZ15="○",BA$3="Jr"),VLOOKUP($AM15,連盟使用!$AH$3:$AI$100,2,FALSE),IF(AND(AZ15="○",BA$3="MS",$AE15=1),VLOOKUP($AN15,連盟使用!$AJ$3:$AK$100,2,FALSE),VLOOKUP($AN15,連盟使用!$AL$3:$AM$100,2,FALSE)))))))))) | BC15: =IF(BB15="","",IF(AND(BB15="○",BC$3="国体"),VLOOKUP($AM15,連盟使用!$AN$3:$AO$100,2,FALSE),IF(AND(BB15="○",BC$3="通常",BC$1="通常・OPEN"),VLOOKUP($AM15,連盟使用!$AF$3:$AG$100,2,FALSE),IF(AND(BB15="○",BC$3="通常"),VLOOKUP($AM15,連盟使用!$AD$3:$AE$100,2,FALSE),IF(BB15="△",10000,IF(AND(BB15="○",BC$3="OPEN"),VLOOKUP($AM15,連盟使用!$AF$3:$AG$100,2,FALSE),IF(AND(BB15="○",BC$3="Jr",BC$1="Jrふじてん"),VLOOKUP($AM15,連盟使用!$AP$3:$AQ$100,2,FALSE),IF(AND(BB15="○",BC$3="Jr"),VLOOKUP($AM15,連盟使用!$AH$3:$AI$100,2,FALSE),IF(AND(BB15="○",BC$3="MS",$AE15=1),VLOOKUP($AN15,連盟使用!$AJ$3:$AK$100,2,FALSE),VLOOKUP($AN15,連盟使用!$AL$3:$AM$100,2,FALSE)))))))))) | BE15: =IF(BD15="","",IF(AND(BD15="○",BE$3="国体"),VLOOKUP($AM15,連盟使用!$AN$3:$AO$100,2,FALSE),IF(AND(BD15="○",BE$3="通常",BE$1="通常・OPEN"),VLOOKUP($AM15,連盟使用!$AF$3:$AG$100,2,FALSE),IF(AND(BD15="○",BE$3="通常"),VLOOKUP($AM15,連盟使用!$AD$3:$AE$100,2,FALSE),IF(BD15="△",10000,IF(AND(BD15="○",BE$3="OPEN"),VLOOKUP($AM15,連盟使用!$AF$3:$AG$100,2,FALSE),IF(AND(BD15="○",BE$3="Jr",BE$1="Jrふじてん"),VLOOKUP($AM15,連盟使用!$AP$3:$AQ$100,2,FALSE),IF(AND(BD15="○",BE$3="Jr"),VLOOKUP($AM15,連盟使用!$AH$3:$AI$100,2,FALSE),IF(AND(BD15="○",BE$3="MS",$AE15=1),VLOOKUP($AN15,連盟使用!$AJ$3:$AK$100,2,FALSE),VLOOKUP($AN15,連盟使用!$AL$3:$AM$100,2,FALSE)))))))))) | BG15: =IF(BF15="","",IF(AND(BF15="○",BG$3="国体"),VLOOKUP($AM15,連盟使用!$AN$3:$AO$100,2,FALSE),IF(AND(BF15="○",BG$3="通常",BG$1="通常・OPEN"),VLOOKUP($AM15,連盟使用!$AF$3:$AG$100,2,FALSE),IF(AND(BF15="○",BG$3="通常"),VLOOKUP($AM15,連盟使用!$AD$3:$AE$100,2,FALSE),IF(BF15="△",10000,IF(AND(BF15="○",BG$3="OPEN"),VLOOKUP($AM15,連盟使用!$AF$3:$AG$100,2,FALSE),IF(AND(BF15="○",BG$3="Jr",BG$1="Jrふじてん"),VLOOKUP($AM15,連盟使用!$AP$3:$AQ$100,2,FALSE),IF(AND(BF15="○",BG$3="Jr"),VLOOKUP($AM15,連盟使用!$AH$3:$AI$100,2,FALSE),IF(AND(BF15="○",BG$3="MS",$AE15=1),VLOOKUP($AN15,連盟使用!$AJ$3:$AK$100,2,FALSE),VLOOKUP($AN15,連盟使用!$AL$3:$AM$100,2,FALSE)))))))))) | BI15: =IF(BH15="","",IF(AND(BH15="○",BI$3="国体"),VLOOKUP($AM15,連盟使用!$AN$3:$AO$100,2,FALSE),IF(AND(BH15="○",BI$3="通常",BI$1="通常・OPEN"),VLOOKUP($AM15,連盟使用!$AF$3:$AG$100,2,FALSE),IF(AND(BH15="○",BI$3="通常"),VLOOKUP($AM15,連盟使用!$AD$3:$AE$100,2,FALSE),IF(BH15="△",10000,IF(AND(BH15="○",BI$3="OPEN"),VLOOKUP($AM15,連盟使用!$AF$3:$AG$100,2,FALSE),IF(AND(BH15="○",BI$3="Jr",BI$1="Jrふじてん"),VLOOKUP($AM15,連盟使用!$AP$3:$AQ$100,2,FALSE),IF(AND(BH15="○",BI$3="Jr"),VLOOKUP($AM15,連盟使用!$AH$3:$AI$100,2,FALSE),IF(AND(BH15="○",BI$3="MS",$AE15=1),VLOOKUP($AN15,連盟使用!$AJ$3:$AK$100,2,FALSE),VLOOKUP($AN15,連盟使用!$AL$3:$AM$100,2,FALSE)))))))))) | BK15: =IF(BJ15="","",IF(AND(BJ15="○",BK$3="国体"),VLOOKUP($AM15,連盟使用!$AN$3:$AO$100,2,FALSE),IF(AND(BJ15="○",BK$3="通常",BK$1="通常・OPEN"),VLOOKUP($AM15,連盟使用!$AF$3:$AG$100,2,FALSE),IF(AND(BJ15="○",BK$3="通常"),VLOOKUP($AM15,連盟使用!$AD$3:$AE$100,2,FALSE),IF(BJ15="△",10000,IF(AND(BJ15="○",BK$3="OPEN"),VLOOKUP($AM15,連盟使用!$AF$3:$AG$100,2,FALSE),IF(AND(BJ15="○",BK$3="Jr",BK$1="Jrふじてん"),VLOOKUP($AM15,連盟使用!$AP$3:$AQ$100,2,FALSE),IF(AND(BJ15="○",BK$3="Jr"),VLOOKUP($AM15,連盟使用!$AH$3:$AI$100,2,FALSE),IF(AND(BJ15="○",BK$3="MS",$AE15=1),VLOOKUP($AN15,連盟使用!$AJ$3:$AK$100,2,FALSE),VLOOKUP($AN15,連盟使用!$AL$3:$AM$100,2,FALSE)))))))))) | BM15: =IF(BL15="","",IF(AND(BL15="○",BM$3="国体"),VLOOKUP($AM15,連盟使用!$AN$3:$AO$100,2,FALSE),IF(AND(BL15="○",BM$3="通常",BM$1="通常・OPEN"),VLOOKUP($AM15,連盟使用!$AF$3:$AG$100,2,FALSE),IF(AND(BL15="○",BM$3="通常"),VLOOKUP($AM15,連盟使用!$AD$3:$AE$100,2,FALSE),IF(BL15="△",10000,IF(AND(BL15="○",BM$3="OPEN"),VLOOKUP($AM15,連盟使用!$AF$3:$AG$100,2,FALSE),IF(AND(BL15="○",BM$3="Jr",BM$1="Jrふじてん"),VLOOKUP($AM15,連盟使用!$AP$3:$AQ$100,2,FALSE),IF(AND(BL15="○",BM$3="Jr"),VLOOKUP($AM15,連盟使用!$AH$3:$AI$100,2,FALSE),IF(AND(BL15="○",BM$3="MS",$AE15=1),VLOOKUP($AN15,連盟使用!$AJ$3:$AK$100,2,FALSE),VLOOKUP($AN15,連盟使用!$AL$3:$AM$100,2,FALSE)))))))))) | BO15: =IF(BN15="","",IF(AND(BN15="○",BO$3="国体"),VLOOKUP($AM15,連盟使用!$AN$3:$AO$100,2,FALSE),IF(AND(BN15="○",BO$3="通常",BO$1="通常・OPEN"),VLOOKUP($AM15,連盟使用!$AF$3:$AG$100,2,FALSE),IF(AND(BN15="○",BO$3="通常"),VLOOKUP($AM15,連盟使用!$AD$3:$AE$100,2,FALSE),IF(BN15="△",10000,IF(AND(BN15="○",BO$3="OPEN"),VLOOKUP($AM15,連盟使用!$AF$3:$AG$100,2,FALSE),IF(AND(BN15="○",BO$3="Jr",BO$1="Jrふじてん"),VLOOKUP($AM15,連盟使用!$AP$3:$AQ$100,2,FALSE),IF(AND(BN15="○",BO$3="Jr"),VLOOKUP($AM15,連盟使用!$AH$3:$AI$100,2,FALSE),IF(AND(BN15="○",BO$3="MS",$AE15=1),VLOOKUP($AN15,連盟使用!$AJ$3:$AK$100,2,FALSE),VLOOKUP($AN15,連盟使用!$AL$3:$AM$100,2,FALSE)))))))))) | BQ15: =IF(BP15="","",IF(AND(BP15="○",BQ$3="国体"),VLOOKUP($AM15,連盟使用!$AN$3:$AO$100,2,FALSE),IF(AND(BP15="○",BQ$3="通常",BQ$1="通常・OPEN"),VLOOKUP($AM15,連盟使用!$AF$3:$AG$100,2,FALSE),IF(AND(BP15="○",BQ$3="通常"),VLOOKUP($AM15,連盟使用!$AD$3:$AE$100,2,FALSE),IF(BP15="△",10000,IF(AND(BP15="○",BQ$3="OPEN"),VLOOKUP($AM15,連盟使用!$AF$3:$AG$100,2,FALSE),IF(AND(BP15="○",BQ$3="Jr",BQ$1="Jrふじてん"),VLOOKUP($AM15,連盟使用!$AP$3:$AQ$100,2,FALSE),IF(AND(BP15="○",BQ$3="Jr"),VLOOKUP($AM15,連盟使用!$AH$3:$AI$100,2,FALSE),IF(AND(BP15="○",BQ$3="MS",$AE15=1),VLOOKUP($AN15,連盟使用!$AJ$3:$AK$100,2,FALSE),VLOOKUP($AN15,連盟使用!$AL$3:$AM$100,2,FALSE)))))))))) | BS15: =IF(BR15="","",IF(AND(BR15="○",BS$3="国体"),VLOOKUP($AM15,連盟使用!$AN$3:$AO$100,2,FALSE),IF(AND(BR15="○",BS$3="通常",BS$1="通常・OPEN"),VLOOKUP($AM15,連盟使用!$AF$3:$AG$100,2,FALSE),IF(AND(BR15="○",BS$3="通常"),VLOOKUP($AM15,連盟使用!$AD$3:$AE$100,2,FALSE),IF(BR15="△",10000,IF(AND(BR15="○",BS$3="OPEN"),VLOOKUP($AM15,連盟使用!$AF$3:$AG$100,2,FALSE),IF(AND(BR15="○",BS$3="Jr",BS$1="Jrふじてん"),VLOOKUP($AM15,連盟使用!$AP$3:$AQ$100,2,FALSE),IF(AND(BR15="○",BS$3="Jr"),VLOOKUP($AM15,連盟使用!$AH$3:$AI$100,2,FALSE),IF(AND(BR15="○",BS$3="MS",$AE15=1),VLOOKUP($AN15,連盟使用!$AJ$3:$AK$100,2,FALSE),VLOOKUP($AN15,連盟使用!$AL$3:$AM$100,2,FALSE)))))))))) | BU15: =IF(BT15="","",IF(AND(BT15="○",BU$3="国体"),VLOOKUP($AM15,連盟使用!$AN$3:$AO$100,2,FALSE),IF(AND(BT15="○",BU$3="通常",BU$1="通常・OPEN"),VLOOKUP($AM15,連盟使用!$AF$3:$AG$100,2,FALSE),IF(AND(BT15="○",BU$3="通常"),VLOOKUP($AM15,連盟使用!$AD$3:$AE$100,2,FALSE),IF(BT15="△",10000,IF(AND(BT15="○",BU$3="OPEN"),VLOOKUP($AM15,連盟使用!$AF$3:$AG$100,2,FALSE),IF(AND(BT15="○",BU$3="Jr",BU$1="Jrふじてん"),VLOOKUP($AM15,連盟使用!$AP$3:$AQ$100,2,FALSE),IF(AND(BT15="○",BU$3="Jr"),VLOOKUP($AM15,連盟使用!$AH$3:$AI$100,2,FALSE),IF(AND(BT15="○",BU$3="MS",$AE15=1),VLOOKUP($AN15,連盟使用!$AJ$3:$AK$100,2,FALSE),VLOOKUP($AN15,連盟使用!$AL$3:$AM$100,2,FALSE)))))))))) | BW15: =IF(BV15="","",IF(AND(BV15="○",BW$3="国体"),VLOOKUP($AM15,連盟使用!$AN$3:$AO$100,2,FALSE),IF(AND(BV15="○",BW$3="通常",BW$1="通常・OPEN"),VLOOKUP($AM15,連盟使用!$AF$3:$AG$100,2,FALSE),IF(AND(BV15="○",BW$3="通常"),VLOOKUP($AM15,連盟使用!$AD$3:$AE$100,2,FALSE),IF(BV15="△",10000,IF(AND(BV15="○",BW$3="OPEN"),VLOOKUP($AM15,連盟使用!$AF$3:$AG$100,2,FALSE),IF(AND(BV15="○",BW$3="Jr",BW$1="Jrふじてん"),VLOOKUP($AM15,連盟使用!$AP$3:$AQ$100,2,FALSE),IF(AND(BV15="○",BW$3="Jr"),VLOOKUP($AM15,連盟使用!$AH$3:$AI$100,2,FALSE),IF(AND(BV15="○",BW$3="MS",$AE15=1),VLOOKUP($AN15,連盟使用!$AJ$3:$AK$100,2,FALSE),VLOOKUP($AN15,連盟使用!$AL$3:$AM$100,2,FALSE)))))))))) | BY15: =IF(BX15="","",IF(AND(BX15="○",BY$3="国体"),VLOOKUP($AM15,連盟使用!$AN$3:$AO$100,2,FALSE),IF(AND(BX15="○",BY$3="通常",BY$1="通常・OPEN"),VLOOKUP($AM15,連盟使用!$AF$3:$AG$100,2,FALSE),IF(AND(BX15="○",BY$3="通常"),VLOOKUP($AM15,連盟使用!$AD$3:$AE$100,2,FALSE),IF(BX15="△",10000,IF(AND(BX15="○",BY$3="OPEN"),VLOOKUP($AM15,連盟使用!$AF$3:$AG$100,2,FALSE),IF(AND(BX15="○",BY$3="Jr",BY$1="Jrふじてん"),VLOOKUP($AM15,連盟使用!$AP$3:$AQ$100,2,FALSE),IF(AND(BX15="○",BY$3="Jr"),VLOOKUP($AM15,連盟使用!$AH$3:$AI$100,2,FALSE),IF(AND(BX15="○",BY$3="MS",$AE15=1),VLOOKUP($AN15,連盟使用!$AJ$3:$AK$100,2,FALSE),VLOOKUP($AN15,連盟使用!$AL$3:$AM$100,2,FALSE)))))))))) | CA15: =IF(BZ15="","",IF(AND(BZ15="○",CA$3="国体"),VLOOKUP($AM15,連盟使用!$AN$3:$AO$100,2,FALSE),IF(AND(BZ15="○",CA$3="通常",CA$1="通常・OPEN"),VLOOKUP($AM15,連盟使用!$AF$3:$AG$100,2,FALSE),IF(AND(BZ15="○",CA$3="通常"),VLOOKUP($AM15,連盟使用!$AD$3:$AE$100,2,FALSE),IF(BZ15="△",10000,IF(AND(BZ15="○",CA$3="OPEN"),VLOOKUP($AM15,連盟使用!$AF$3:$AG$100,2,FALSE),IF(AND(BZ15="○",CA$3="Jr",CA$1="Jrふじてん"),VLOOKUP($AM15,連盟使用!$AP$3:$AQ$100,2,FALSE),IF(AND(BZ15="○",CA$3="Jr"),VLOOKUP($AM15,連盟使用!$AH$3:$AI$100,2,FALSE),IF(AND(BZ15="○",CA$3="MS",$AE15=1),VLOOKUP($AN15,連盟使用!$AJ$3:$AK$100,2,FALSE),VLOOKUP($AN15,連盟使用!$AL$3:$AM$100,2,FALSE)))))))))) | CC15: =IF(CB15="","",IF(AND(CB15="○",CC$3="国体"),VLOOKUP($AM15,連盟使用!$AN$3:$AO$100,2,FALSE),IF(AND(CB15="○",CC$3="通常",CC$1="通常・OPEN"),VLOOKUP($AM15,連盟使用!$AF$3:$AG$100,2,FALSE),IF(AND(CB15="○",CC$3="通常"),VLOOKUP($AM15,連盟使用!$AD$3:$AE$100,2,FALSE),IF(CB15="△",10000,IF(AND(CB15="○",CC$3="OPEN"),VLOOKUP($AM15,連盟使用!$AF$3:$AG$100,2,FALSE),IF(AND(CB15="○",CC$3="Jr",CC$1="Jrふじてん"),VLOOKUP($AM15,連盟使用!$AP$3:$AQ$100,2,FALSE),IF(AND(CB15="○",CC$3="Jr"),VLOOKUP($AM15,連盟使用!$AH$3:$AI$100,2,FALSE),IF(AND(CB15="○",CC$3="MS",$AE15=1),VLOOKUP($AN15,連盟使用!$AJ$3:$AK$100,2,FALSE),VLOOKUP($AN15,連盟使用!$AL$3:$AM$100,2,FALSE)))))))))) | CE15: =IF(CD15="","",IF(AND(CD15="○",CE$3="国体"),VLOOKUP($AM15,連盟使用!$AN$3:$AO$100,2,FALSE),IF(AND(CD15="○",CE$3="通常",CE$1="通常・OPEN"),VLOOKUP($AM15,連盟使用!$AF$3:$AG$100,2,FALSE),IF(AND(CD15="○",CE$3="通常"),VLOOKUP($AM15,連盟使用!$AD$3:$AE$100,2,FALSE),IF(CD15="△",10000,IF(AND(CD15="○",CE$3="OPEN"),VLOOKUP($AM15,連盟使用!$AF$3:$AG$100,2,FALSE),IF(AND(CD15="○",CE$3="Jr",CE$1="Jrふじてん"),VLOOKUP($AM15,連盟使用!$AP$3:$AQ$100,2,FALSE),IF(AND(CD15="○",CE$3="Jr"),VLOOKUP($AM15,連盟使用!$AH$3:$AI$100,2,FALSE),IF(AND(CD15="○",CE$3="MS",$AE15=1),VLOOKUP($AN15,連盟使用!$AJ$3:$AK$100,2,FALSE),VLOOKUP($AN15,連盟使用!$AL$3:$AM$100,2,FALSE)))))))))) | CG15: =IF(CF15="","",IF(AND(CF15="○",CG$3="国体"),VLOOKUP($AM15,連盟使用!$AN$3:$AO$100,2,FALSE),IF(AND(CF15="○",CG$3="通常",CG$1="通常・OPEN"),VLOOKUP($AM15,連盟使用!$AF$3:$AG$100,2,FALSE),IF(AND(CF15="○",CG$3="通常"),VLOOKUP($AM15,連盟使用!$AD$3:$AE$100,2,FALSE),IF(CF15="△",10000,IF(AND(CF15="○",CG$3="OPEN"),VLOOKUP($AM15,連盟使用!$AF$3:$AG$100,2,FALSE),IF(AND(CF15="○",CG$3="Jr",CG$1="Jrふじてん"),VLOOKUP($AM15,連盟使用!$AP$3:$AQ$100,2,FALSE),IF(AND(CF15="○",CG$3="Jr"),VLOOKUP($AM15,連盟使用!$AH$3:$AI$100,2,FALSE),IF(AND(CF15="○",CG$3="MS",$AE15=1),VLOOKUP($AN15,連盟使用!$AJ$3:$AK$100,2,FALSE),VLOOKUP($AN15,連盟使用!$AL$3:$AM$100,2,FALSE)))))))))) | CH15: =SUM(AT15:CG15) -> 0
A16: =IF(個表!A14="","",個表!A14) -> 11 | B16: =IF(個表!B14="","",個表!B14) | E16: =IF(個表!J14="","",個表!J14) | F16: =IF(個表!K14="","",個表!K14) | G16: =IF(個表!L14="","",個表!L14) | L16: =IF(個表!M14="","",個表!M14) | M16: =IF(個表!N14="","",個表!N14) | N16: =IF(個表!O14="","",個表!O14) | O16: =IF(個表!P14="","",個表!P14) | P16: =IF(個表!Q14="","",個表!Q14) | Q16: =IF(個表!G14="","",個表!G14) | S16: =IF(個表!R14="","",個表!R14) | T16: =IF(個表!S14="","",個表!S14) | V16: =IF(個表!C14="","",個表!C14) | W16: =IF(個表!D14="","",個表!D14) | X16: =IF(個表!E14="","",個表!E14) | Y16: =IF(個表!F14="","",個表!F14) | AE16: =IF(個表!H14="","",個表!H14) | AI16: =IF(個表!T14="","",個表!T14) | AL16: =IF(個表!I14="","",個表!I14) | AM16: =IF(個表!U14="","",個表!U14) | AN16: =IF(個表!V14="","",個表!V14) | AO16: =IF(個表!W14="","",個表!W14) | AP16: =IF(個表!X14="","",個表!X14) | AQ16: =IF(個表!Y14="","",個表!Y14) | AR16: =IF(個表!Z14="","",個表!Z14) | AS16: =IF(個表!AA14="","",個表!AA14) | AU16: =IF(AT16="","",IF(AND(AT16="○",AU$3="国体"),VLOOKUP($AM16,連盟使用!$AN$3:$AO$100,2,FALSE),IF(AND(AT16="○",AU$3="通常",AU$1="通常・OPEN"),VLOOKUP($AM16,連盟使用!$AF$3:$AG$100,2,FALSE),IF(AND(AT16="○",AU$3="通常"),VLOOKUP($AM16,連盟使用!$AD$3:$AE$100,2,FALSE),IF(AT16="△",10000,IF(AND(AT16="○",AU$3="OPEN"),VLOOKUP($AM16,連盟使用!$AF$3:$AG$100,2,FALSE),IF(AND(AT16="○",AU$3="Jr",AU$1="Jrふじてん"),VLOOKUP($AM16,連盟使用!$AP$3:$AQ$100,2,FALSE),IF(AND(AT16="○",AU$3="Jr"),VLOOKUP($AM16,連盟使用!$AH$3:$AI$100,2,FALSE),IF(AND(AT16="○",AU$3="MS",$AE16=1),VLOOKUP($AN16,連盟使用!$AJ$3:$AK$100,2,FALSE),VLOOKUP($AN16,連盟使用!$AL$3:$AM$100,2,FALSE)))))))))) | AW16: =IF(AV16="","",IF(AND(AV16="○",AW$3="国体"),VLOOKUP($AM16,連盟使用!$AN$3:$AO$100,2,FALSE),IF(AND(AV16="○",AW$3="通常",AW$1="通常・OPEN"),VLOOKUP($AM16,連盟使用!$AF$3:$AG$100,2,FALSE),IF(AND(AV16="○",AW$3="通常"),VLOOKUP($AM16,連盟使用!$AD$3:$AE$100,2,FALSE),IF(AV16="△",10000,IF(AND(AV16="○",AW$3="OPEN"),VLOOKUP($AM16,連盟使用!$AF$3:$AG$100,2,FALSE),IF(AND(AV16="○",AW$3="Jr",AW$1="Jrふじてん"),VLOOKUP($AM16,連盟使用!$AP$3:$AQ$100,2,FALSE),IF(AND(AV16="○",AW$3="Jr"),VLOOKUP($AM16,連盟使用!$AH$3:$AI$100,2,FALSE),IF(AND(AV16="○",AW$3="MS",$AE16=1),VLOOKUP($AN16,連盟使用!$AJ$3:$AK$100,2,FALSE),VLOOKUP($AN16,連盟使用!$AL$3:$AM$100,2,FALSE)))))))))) | AY16: =IF(AX16="","",IF(AND(AX16="○",AY$3="国体"),VLOOKUP($AM16,連盟使用!$AN$3:$AO$100,2,FALSE),IF(AND(AX16="○",AY$3="通常",AY$1="通常・OPEN"),VLOOKUP($AM16,連盟使用!$AF$3:$AG$100,2,FALSE),IF(AND(AX16="○",AY$3="通常"),VLOOKUP($AM16,連盟使用!$AD$3:$AE$100,2,FALSE),IF(AX16="△",10000,IF(AND(AX16="○",AY$3="OPEN"),VLOOKUP($AM16,連盟使用!$AF$3:$AG$100,2,FALSE),IF(AND(AX16="○",AY$3="Jr",AY$1="Jrふじてん"),VLOOKUP($AM16,連盟使用!$AP$3:$AQ$100,2,FALSE),IF(AND(AX16="○",AY$3="Jr"),VLOOKUP($AM16,連盟使用!$AH$3:$AI$100,2,FALSE),IF(AND(AX16="○",AY$3="MS",$AE16=1),VLOOKUP($AN16,連盟使用!$AJ$3:$AK$100,2,FALSE),VLOOKUP($AN16,連盟使用!$AL$3:$AM$100,2,FALSE)))))))))) | BA16: =IF(AZ16="","",IF(AND(AZ16="○",BA$3="国体"),VLOOKUP($AM16,連盟使用!$AN$3:$AO$100,2,FALSE),IF(AND(AZ16="○",BA$3="通常",BA$1="通常・OPEN"),VLOOKUP($AM16,連盟使用!$AF$3:$AG$100,2,FALSE),IF(AND(AZ16="○",BA$3="通常"),VLOOKUP($AM16,連盟使用!$AD$3:$AE$100,2,FALSE),IF(AZ16="△",10000,IF(AND(AZ16="○",BA$3="OPEN"),VLOOKUP($AM16,連盟使用!$AF$3:$AG$100,2,FALSE),IF(AND(AZ16="○",BA$3="Jr",BA$1="Jrふじてん"),VLOOKUP($AM16,連盟使用!$AP$3:$AQ$100,2,FALSE),IF(AND(AZ16="○",BA$3="Jr"),VLOOKUP($AM16,連盟使用!$AH$3:$AI$100,2,FALSE),IF(AND(AZ16="○",BA$3="MS",$AE16=1),VLOOKUP($AN16,連盟使用!$AJ$3:$AK$100,2,FALSE),VLOOKUP($AN16,連盟使用!$AL$3:$AM$100,2,FALSE)))))))))) | BC16: =IF(BB16="","",IF(AND(BB16="○",BC$3="国体"),VLOOKUP($AM16,連盟使用!$AN$3:$AO$100,2,FALSE),IF(AND(BB16="○",BC$3="通常",BC$1="通常・OPEN"),VLOOKUP($AM16,連盟使用!$AF$3:$AG$100,2,FALSE),IF(AND(BB16="○",BC$3="通常"),VLOOKUP($AM16,連盟使用!$AD$3:$AE$100,2,FALSE),IF(BB16="△",10000,IF(AND(BB16="○",BC$3="OPEN"),VLOOKUP($AM16,連盟使用!$AF$3:$AG$100,2,FALSE),IF(AND(BB16="○",BC$3="Jr",BC$1="Jrふじてん"),VLOOKUP($AM16,連盟使用!$AP$3:$AQ$100,2,FALSE),IF(AND(BB16="○",BC$3="Jr"),VLOOKUP($AM16,連盟使用!$AH$3:$AI$100,2,FALSE),IF(AND(BB16="○",BC$3="MS",$AE16=1),VLOOKUP($AN16,連盟使用!$AJ$3:$AK$100,2,FALSE),VLOOKUP($AN16,連盟使用!$AL$3:$AM$100,2,FALSE)))))))))) | BE16: =IF(BD16="","",IF(AND(BD16="○",BE$3="国体"),VLOOKUP($AM16,連盟使用!$AN$3:$AO$100,2,FALSE),IF(AND(BD16="○",BE$3="通常",BE$1="通常・OPEN"),VLOOKUP($AM16,連盟使用!$AF$3:$AG$100,2,FALSE),IF(AND(BD16="○",BE$3="通常"),VLOOKUP($AM16,連盟使用!$AD$3:$AE$100,2,FALSE),IF(BD16="△",10000,IF(AND(BD16="○",BE$3="OPEN"),VLOOKUP($AM16,連盟使用!$AF$3:$AG$100,2,FALSE),IF(AND(BD16="○",BE$3="Jr",BE$1="Jrふじてん"),VLOOKUP($AM16,連盟使用!$AP$3:$AQ$100,2,FALSE),IF(AND(BD16="○",BE$3="Jr"),VLOOKUP($AM16,連盟使用!$AH$3:$AI$100,2,FALSE),IF(AND(BD16="○",BE$3="MS",$AE16=1),VLOOKUP($AN16,連盟使用!$AJ$3:$AK$100,2,FALSE),VLOOKUP($AN16,連盟使用!$AL$3:$AM$100,2,FALSE)))))))))) | BG16: =IF(BF16="","",IF(AND(BF16="○",BG$3="国体"),VLOOKUP($AM16,連盟使用!$AN$3:$AO$100,2,FALSE),IF(AND(BF16="○",BG$3="通常",BG$1="通常・OPEN"),VLOOKUP($AM16,連盟使用!$AF$3:$AG$100,2,FALSE),IF(AND(BF16="○",BG$3="通常"),VLOOKUP($AM16,連盟使用!$AD$3:$AE$100,2,FALSE),IF(BF16="△",10000,IF(AND(BF16="○",BG$3="OPEN"),VLOOKUP($AM16,連盟使用!$AF$3:$AG$100,2,FALSE),IF(AND(BF16="○",BG$3="Jr",BG$1="Jrふじてん"),VLOOKUP($AM16,連盟使用!$AP$3:$AQ$100,2,FALSE),IF(AND(BF16="○",BG$3="Jr"),VLOOKUP($AM16,連盟使用!$AH$3:$AI$100,2,FALSE),IF(AND(BF16="○",BG$3="MS",$AE16=1),VLOOKUP($AN16,連盟使用!$AJ$3:$AK$100,2,FALSE),VLOOKUP($AN16,連盟使用!$AL$3:$AM$100,2,FALSE)))))))))) | BI16: =IF(BH16="","",IF(AND(BH16="○",BI$3="国体"),VLOOKUP($AM16,連盟使用!$AN$3:$AO$100,2,FALSE),IF(AND(BH16="○",BI$3="通常",BI$1="通常・OPEN"),VLOOKUP($AM16,連盟使用!$AF$3:$AG$100,2,FALSE),IF(AND(BH16="○",BI$3="通常"),VLOOKUP($AM16,連盟使用!$AD$3:$AE$100,2,FALSE),IF(BH16="△",10000,IF(AND(BH16="○",BI$3="OPEN"),VLOOKUP($AM16,連盟使用!$AF$3:$AG$100,2,FALSE),IF(AND(BH16="○",BI$3="Jr",BI$1="Jrふじてん"),VLOOKUP($AM16,連盟使用!$AP$3:$AQ$100,2,FALSE),IF(AND(BH16="○",BI$3="Jr"),VLOOKUP($AM16,連盟使用!$AH$3:$AI$100,2,FALSE),IF(AND(BH16="○",BI$3="MS",$AE16=1),VLOOKUP($AN16,連盟使用!$AJ$3:$AK$100,2,FALSE),VLOOKUP($AN16,連盟使用!$AL$3:$AM$100,2,FALSE)))))))))) | BK16: =IF(BJ16="","",IF(AND(BJ16="○",BK$3="国体"),VLOOKUP($AM16,連盟使用!$AN$3:$AO$100,2,FALSE),IF(AND(BJ16="○",BK$3="通常",BK$1="通常・OPEN"),VLOOKUP($AM16,連盟使用!$AF$3:$AG$100,2,FALSE),IF(AND(BJ16="○",BK$3="通常"),VLOOKUP($AM16,連盟使用!$AD$3:$AE$100,2,FALSE),IF(BJ16="△",10000,IF(AND(BJ16="○",BK$3="OPEN"),VLOOKUP($AM16,連盟使用!$AF$3:$AG$100,2,FALSE),IF(AND(BJ16="○",BK$3="Jr",BK$1="Jrふじてん"),VLOOKUP($AM16,連盟使用!$AP$3:$AQ$100,2,FALSE),IF(AND(BJ16="○",BK$3="Jr"),VLOOKUP($AM16,連盟使用!$AH$3:$AI$100,2,FALSE),IF(AND(BJ16="○",BK$3="MS",$AE16=1),VLOOKUP($AN16,連盟使用!$AJ$3:$AK$100,2,FALSE),VLOOKUP($AN16,連盟使用!$AL$3:$AM$100,2,FALSE)))))))))) | BM16: =IF(BL16="","",IF(AND(BL16="○",BM$3="国体"),VLOOKUP($AM16,連盟使用!$AN$3:$AO$100,2,FALSE),IF(AND(BL16="○",BM$3="通常",BM$1="通常・OPEN"),VLOOKUP($AM16,連盟使用!$AF$3:$AG$100,2,FALSE),IF(AND(BL16="○",BM$3="通常"),VLOOKUP($AM16,連盟使用!$AD$3:$AE$100,2,FALSE),IF(BL16="△",10000,IF(AND(BL16="○",BM$3="OPEN"),VLOOKUP($AM16,連盟使用!$AF$3:$AG$100,2,FALSE),IF(AND(BL16="○",BM$3="Jr",BM$1="Jrふじてん"),VLOOKUP($AM16,連盟使用!$AP$3:$AQ$100,2,FALSE),IF(AND(BL16="○",BM$3="Jr"),VLOOKUP($AM16,連盟使用!$AH$3:$AI$100,2,FALSE),IF(AND(BL16="○",BM$3="MS",$AE16=1),VLOOKUP($AN16,連盟使用!$AJ$3:$AK$100,2,FALSE),VLOOKUP($AN16,連盟使用!$AL$3:$AM$100,2,FALSE)))))))))) | BO16: =IF(BN16="","",IF(AND(BN16="○",BO$3="国体"),VLOOKUP($AM16,連盟使用!$AN$3:$AO$100,2,FALSE),IF(AND(BN16="○",BO$3="通常",BO$1="通常・OPEN"),VLOOKUP($AM16,連盟使用!$AF$3:$AG$100,2,FALSE),IF(AND(BN16="○",BO$3="通常"),VLOOKUP($AM16,連盟使用!$AD$3:$AE$100,2,FALSE),IF(BN16="△",10000,IF(AND(BN16="○",BO$3="OPEN"),VLOOKUP($AM16,連盟使用!$AF$3:$AG$100,2,FALSE),IF(AND(BN16="○",BO$3="Jr",BO$1="Jrふじてん"),VLOOKUP($AM16,連盟使用!$AP$3:$AQ$100,2,FALSE),IF(AND(BN16="○",BO$3="Jr"),VLOOKUP($AM16,連盟使用!$AH$3:$AI$100,2,FALSE),IF(AND(BN16="○",BO$3="MS",$AE16=1),VLOOKUP($AN16,連盟使用!$AJ$3:$AK$100,2,FALSE),VLOOKUP($AN16,連盟使用!$AL$3:$AM$100,2,FALSE)))))))))) | BQ16: =IF(BP16="","",IF(AND(BP16="○",BQ$3="国体"),VLOOKUP($AM16,連盟使用!$AN$3:$AO$100,2,FALSE),IF(AND(BP16="○",BQ$3="通常",BQ$1="通常・OPEN"),VLOOKUP($AM16,連盟使用!$AF$3:$AG$100,2,FALSE),IF(AND(BP16="○",BQ$3="通常"),VLOOKUP($AM16,連盟使用!$AD$3:$AE$100,2,FALSE),IF(BP16="△",10000,IF(AND(BP16="○",BQ$3="OPEN"),VLOOKUP($AM16,連盟使用!$AF$3:$AG$100,2,FALSE),IF(AND(BP16="○",BQ$3="Jr",BQ$1="Jrふじてん"),VLOOKUP($AM16,連盟使用!$AP$3:$AQ$100,2,FALSE),IF(AND(BP16="○",BQ$3="Jr"),VLOOKUP($AM16,連盟使用!$AH$3:$AI$100,2,FALSE),IF(AND(BP16="○",BQ$3="MS",$AE16=1),VLOOKUP($AN16,連盟使用!$AJ$3:$AK$100,2,FALSE),VLOOKUP($AN16,連盟使用!$AL$3:$AM$100,2,FALSE)))))))))) | BS16: =IF(BR16="","",IF(AND(BR16="○",BS$3="国体"),VLOOKUP($AM16,連盟使用!$AN$3:$AO$100,2,FALSE),IF(AND(BR16="○",BS$3="通常",BS$1="通常・OPEN"),VLOOKUP($AM16,連盟使用!$AF$3:$AG$100,2,FALSE),IF(AND(BR16="○",BS$3="通常"),VLOOKUP($AM16,連盟使用!$AD$3:$AE$100,2,FALSE),IF(BR16="△",10000,IF(AND(BR16="○",BS$3="OPEN"),VLOOKUP($AM16,連盟使用!$AF$3:$AG$100,2,FALSE),IF(AND(BR16="○",BS$3="Jr",BS$1="Jrふじてん"),VLOOKUP($AM16,連盟使用!$AP$3:$AQ$100,2,FALSE),IF(AND(BR16="○",BS$3="Jr"),VLOOKUP($AM16,連盟使用!$AH$3:$AI$100,2,FALSE),IF(AND(BR16="○",BS$3="MS",$AE16=1),VLOOKUP($AN16,連盟使用!$AJ$3:$AK$100,2,FALSE),VLOOKUP($AN16,連盟使用!$AL$3:$AM$100,2,FALSE)))))))))) | BU16: =IF(BT16="","",IF(AND(BT16="○",BU$3="国体"),VLOOKUP($AM16,連盟使用!$AN$3:$AO$100,2,FALSE),IF(AND(BT16="○",BU$3="通常",BU$1="通常・OPEN"),VLOOKUP($AM16,連盟使用!$AF$3:$AG$100,2,FALSE),IF(AND(BT16="○",BU$3="通常"),VLOOKUP($AM16,連盟使用!$AD$3:$AE$100,2,FALSE),IF(BT16="△",10000,IF(AND(BT16="○",BU$3="OPEN"),VLOOKUP($AM16,連盟使用!$AF$3:$AG$100,2,FALSE),IF(AND(BT16="○",BU$3="Jr",BU$1="Jrふじてん"),VLOOKUP($AM16,連盟使用!$AP$3:$AQ$100,2,FALSE),IF(AND(BT16="○",BU$3="Jr"),VLOOKUP($AM16,連盟使用!$AH$3:$AI$100,2,FALSE),IF(AND(BT16="○",BU$3="MS",$AE16=1),VLOOKUP($AN16,連盟使用!$AJ$3:$AK$100,2,FALSE),VLOOKUP($AN16,連盟使用!$AL$3:$AM$100,2,FALSE)))))))))) | BW16: =IF(BV16="","",IF(AND(BV16="○",BW$3="国体"),VLOOKUP($AM16,連盟使用!$AN$3:$AO$100,2,FALSE),IF(AND(BV16="○",BW$3="通常",BW$1="通常・OPEN"),VLOOKUP($AM16,連盟使用!$AF$3:$AG$100,2,FALSE),IF(AND(BV16="○",BW$3="通常"),VLOOKUP($AM16,連盟使用!$AD$3:$AE$100,2,FALSE),IF(BV16="△",10000,IF(AND(BV16="○",BW$3="OPEN"),VLOOKUP($AM16,連盟使用!$AF$3:$AG$100,2,FALSE),IF(AND(BV16="○",BW$3="Jr",BW$1="Jrふじてん"),VLOOKUP($AM16,連盟使用!$AP$3:$AQ$100,2,FALSE),IF(AND(BV16="○",BW$3="Jr"),VLOOKUP($AM16,連盟使用!$AH$3:$AI$100,2,FALSE),IF(AND(BV16="○",BW$3="MS",$AE16=1),VLOOKUP($AN16,連盟使用!$AJ$3:$AK$100,2,FALSE),VLOOKUP($AN16,連盟使用!$AL$3:$AM$100,2,FALSE)))))))))) | BY16: =IF(BX16="","",IF(AND(BX16="○",BY$3="国体"),VLOOKUP($AM16,連盟使用!$AN$3:$AO$100,2,FALSE),IF(AND(BX16="○",BY$3="通常",BY$1="通常・OPEN"),VLOOKUP($AM16,連盟使用!$AF$3:$AG$100,2,FALSE),IF(AND(BX16="○",BY$3="通常"),VLOOKUP($AM16,連盟使用!$AD$3:$AE$100,2,FALSE),IF(BX16="△",10000,IF(AND(BX16="○",BY$3="OPEN"),VLOOKUP($AM16,連盟使用!$AF$3:$AG$100,2,FALSE),IF(AND(BX16="○",BY$3="Jr",BY$1="Jrふじてん"),VLOOKUP($AM16,連盟使用!$AP$3:$AQ$100,2,FALSE),IF(AND(BX16="○",BY$3="Jr"),VLOOKUP($AM16,連盟使用!$AH$3:$AI$100,2,FALSE),IF(AND(BX16="○",BY$3="MS",$AE16=1),VLOOKUP($AN16,連盟使用!$AJ$3:$AK$100,2,FALSE),VLOOKUP($AN16,連盟使用!$AL$3:$AM$100,2,FALSE)))))))))) | CA16: =IF(BZ16="","",IF(AND(BZ16="○",CA$3="国体"),VLOOKUP($AM16,連盟使用!$AN$3:$AO$100,2,FALSE),IF(AND(BZ16="○",CA$3="通常",CA$1="通常・OPEN"),VLOOKUP($AM16,連盟使用!$AF$3:$AG$100,2,FALSE),IF(AND(BZ16="○",CA$3="通常"),VLOOKUP($AM16,連盟使用!$AD$3:$AE$100,2,FALSE),IF(BZ16="△",10000,IF(AND(BZ16="○",CA$3="OPEN"),VLOOKUP($AM16,連盟使用!$AF$3:$AG$100,2,FALSE),IF(AND(BZ16="○",CA$3="Jr",CA$1="Jrふじてん"),VLOOKUP($AM16,連盟使用!$AP$3:$AQ$100,2,FALSE),IF(AND(BZ16="○",CA$3="Jr"),VLOOKUP($AM16,連盟使用!$AH$3:$AI$100,2,FALSE),IF(AND(BZ16="○",CA$3="MS",$AE16=1),VLOOKUP($AN16,連盟使用!$AJ$3:$AK$100,2,FALSE),VLOOKUP($AN16,連盟使用!$AL$3:$AM$100,2,FALSE)))))))))) | CC16: =IF(CB16="","",IF(AND(CB16="○",CC$3="国体"),VLOOKUP($AM16,連盟使用!$AN$3:$AO$100,2,FALSE),IF(AND(CB16="○",CC$3="通常",CC$1="通常・OPEN"),VLOOKUP($AM16,連盟使用!$AF$3:$AG$100,2,FALSE),IF(AND(CB16="○",CC$3="通常"),VLOOKUP($AM16,連盟使用!$AD$3:$AE$100,2,FALSE),IF(CB16="△",10000,IF(AND(CB16="○",CC$3="OPEN"),VLOOKUP($AM16,連盟使用!$AF$3:$AG$100,2,FALSE),IF(AND(CB16="○",CC$3="Jr",CC$1="Jrふじてん"),VLOOKUP($AM16,連盟使用!$AP$3:$AQ$100,2,FALSE),IF(AND(CB16="○",CC$3="Jr"),VLOOKUP($AM16,連盟使用!$AH$3:$AI$100,2,FALSE),IF(AND(CB16="○",CC$3="MS",$AE16=1),VLOOKUP($AN16,連盟使用!$AJ$3:$AK$100,2,FALSE),VLOOKUP($AN16,連盟使用!$AL$3:$AM$100,2,FALSE)))))))))) | CE16: =IF(CD16="","",IF(AND(CD16="○",CE$3="国体"),VLOOKUP($AM16,連盟使用!$AN$3:$AO$100,2,FALSE),IF(AND(CD16="○",CE$3="通常",CE$1="通常・OPEN"),VLOOKUP($AM16,連盟使用!$AF$3:$AG$100,2,FALSE),IF(AND(CD16="○",CE$3="通常"),VLOOKUP($AM16,連盟使用!$AD$3:$AE$100,2,FALSE),IF(CD16="△",10000,IF(AND(CD16="○",CE$3="OPEN"),VLOOKUP($AM16,連盟使用!$AF$3:$AG$100,2,FALSE),IF(AND(CD16="○",CE$3="Jr",CE$1="Jrふじてん"),VLOOKUP($AM16,連盟使用!$AP$3:$AQ$100,2,FALSE),IF(AND(CD16="○",CE$3="Jr"),VLOOKUP($AM16,連盟使用!$AH$3:$AI$100,2,FALSE),IF(AND(CD16="○",CE$3="MS",$AE16=1),VLOOKUP($AN16,連盟使用!$AJ$3:$AK$100,2,FALSE),VLOOKUP($AN16,連盟使用!$AL$3:$AM$100,2,FALSE)))))))))) | CG16: =IF(CF16="","",IF(AND(CF16="○",CG$3="国体"),VLOOKUP($AM16,連盟使用!$AN$3:$AO$100,2,FALSE),IF(AND(CF16="○",CG$3="通常",CG$1="通常・OPEN"),VLOOKUP($AM16,連盟使用!$AF$3:$AG$100,2,FALSE),IF(AND(CF16="○",CG$3="通常"),VLOOKUP($AM16,連盟使用!$AD$3:$AE$100,2,FALSE),IF(CF16="△",10000,IF(AND(CF16="○",CG$3="OPEN"),VLOOKUP($AM16,連盟使用!$AF$3:$AG$100,2,FALSE),IF(AND(CF16="○",CG$3="Jr",CG$1="Jrふじてん"),VLOOKUP($AM16,連盟使用!$AP$3:$AQ$100,2,FALSE),IF(AND(CF16="○",CG$3="Jr"),VLOOKUP($AM16,連盟使用!$AH$3:$AI$100,2,FALSE),IF(AND(CF16="○",CG$3="MS",$AE16=1),VLOOKUP($AN16,連盟使用!$AJ$3:$AK$100,2,FALSE),VLOOKUP($AN16,連盟使用!$AL$3:$AM$100,2,FALSE)))))))))) | CH16: =SUM(AT16:CG16) -> 0
A17: =IF(個表!A15="","",個表!A15) -> 12 | B17: =IF(個表!B15="","",個表!B15) | E17: =IF(個表!J15="","",個表!J15) | F17: =IF(個表!K15="","",個表!K15) | G17: =IF(個表!L15="","",個表!L15) | L17: =IF(個表!M15="","",個表!M15) | M17: =IF(個表!N15="","",個表!N15) | N17: =IF(個表!O15="","",個表!O15) | O17: =IF(個表!P15="","",個表!P15) | P17: =IF(個表!Q15="","",個表!Q15) | Q17: =IF(個表!G15="","",個表!G15) | S17: =IF(個表!R15="","",個表!R15) | T17: =IF(個表!S15="","",個表!S15) | V17: =IF(個表!C15="","",個表!C15) | W17: =IF(個表!D15="","",個表!D15) | X17: =IF(個表!E15="","",個表!E15) | Y17: =IF(個表!F15="","",個表!F15) | AE17: =IF(個表!H15="","",個表!H15) | AI17: =IF(個表!T15="","",個表!T15) | AL17: =IF(個表!I15="","",個表!I15) | AM17: =IF(個表!U15="","",個表!U15) | AN17: =IF(個表!V15="","",個表!V15) | AO17: =IF(個表!W15="","",個表!W15) | AP17: =IF(個表!X15="","",個表!X15) | AQ17: =IF(個表!Y15="","",個表!Y15) | AR17: =IF(個表!Z15="","",個表!Z15) | AS17: =IF(個表!AA15="","",個表!AA15) | AU17: =IF(AT17="","",IF(AND(AT17="○",AU$3="国体"),VLOOKUP($AM17,連盟使用!$AN$3:$AO$100,2,FALSE),IF(AND(AT17="○",AU$3="通常",AU$1="通常・OPEN"),VLOOKUP($AM17,連盟使用!$AF$3:$AG$100,2,FALSE),IF(AND(AT17="○",AU$3="通常"),VLOOKUP($AM17,連盟使用!$AD$3:$AE$100,2,FALSE),IF(AT17="△",10000,IF(AND(AT17="○",AU$3="OPEN"),VLOOKUP($AM17,連盟使用!$AF$3:$AG$100,2,FALSE),IF(AND(AT17="○",AU$3="Jr",AU$1="Jrふじてん"),VLOOKUP($AM17,連盟使用!$AP$3:$AQ$100,2,FALSE),IF(AND(AT17="○",AU$3="Jr"),VLOOKUP($AM17,連盟使用!$AH$3:$AI$100,2,FALSE),IF(AND(AT17="○",AU$3="MS",$AE17=1),VLOOKUP($AN17,連盟使用!$AJ$3:$AK$100,2,FALSE),VLOOKUP($AN17,連盟使用!$AL$3:$AM$100,2,FALSE)))))))))) | AW17: =IF(AV17="","",IF(AND(AV17="○",AW$3="国体"),VLOOKUP($AM17,連盟使用!$AN$3:$AO$100,2,FALSE),IF(AND(AV17="○",AW$3="通常",AW$1="通常・OPEN"),VLOOKUP($AM17,連盟使用!$AF$3:$AG$100,2,FALSE),IF(AND(AV17="○",AW$3="通常"),VLOOKUP($AM17,連盟使用!$AD$3:$AE$100,2,FALSE),IF(AV17="△",10000,IF(AND(AV17="○",AW$3="OPEN"),VLOOKUP($AM17,連盟使用!$AF$3:$AG$100,2,FALSE),IF(AND(AV17="○",AW$3="Jr",AW$1="Jrふじてん"),VLOOKUP($AM17,連盟使用!$AP$3:$AQ$100,2,FALSE),IF(AND(AV17="○",AW$3="Jr"),VLOOKUP($AM17,連盟使用!$AH$3:$AI$100,2,FALSE),IF(AND(AV17="○",AW$3="MS",$AE17=1),VLOOKUP($AN17,連盟使用!$AJ$3:$AK$100,2,FALSE),VLOOKUP($AN17,連盟使用!$AL$3:$AM$100,2,FALSE)))))))))) | AY17: =IF(AX17="","",IF(AND(AX17="○",AY$3="国体"),VLOOKUP($AM17,連盟使用!$AN$3:$AO$100,2,FALSE),IF(AND(AX17="○",AY$3="通常",AY$1="通常・OPEN"),VLOOKUP($AM17,連盟使用!$AF$3:$AG$100,2,FALSE),IF(AND(AX17="○",AY$3="通常"),VLOOKUP($AM17,連盟使用!$AD$3:$AE$100,2,FALSE),IF(AX17="△",10000,IF(AND(AX17="○",AY$3="OPEN"),VLOOKUP($AM17,連盟使用!$AF$3:$AG$100,2,FALSE),IF(AND(AX17="○",AY$3="Jr",AY$1="Jrふじてん"),VLOOKUP($AM17,連盟使用!$AP$3:$AQ$100,2,FALSE),IF(AND(AX17="○",AY$3="Jr"),VLOOKUP($AM17,連盟使用!$AH$3:$AI$100,2,FALSE),IF(AND(AX17="○",AY$3="MS",$AE17=1),VLOOKUP($AN17,連盟使用!$AJ$3:$AK$100,2,FALSE),VLOOKUP($AN17,連盟使用!$AL$3:$AM$100,2,FALSE)))))))))) | BA17: =IF(AZ17="","",IF(AND(AZ17="○",BA$3="国体"),VLOOKUP($AM17,連盟使用!$AN$3:$AO$100,2,FALSE),IF(AND(AZ17="○",BA$3="通常",BA$1="通常・OPEN"),VLOOKUP($AM17,連盟使用!$AF$3:$AG$100,2,FALSE),IF(AND(AZ17="○",BA$3="通常"),VLOOKUP($AM17,連盟使用!$AD$3:$AE$100,2,FALSE),IF(AZ17="△",10000,IF(AND(AZ17="○",BA$3="OPEN"),VLOOKUP($AM17,連盟使用!$AF$3:$AG$100,2,FALSE),IF(AND(AZ17="○",BA$3="Jr",BA$1="Jrふじてん"),VLOOKUP($AM17,連盟使用!$AP$3:$AQ$100,2,FALSE),IF(AND(AZ17="○",BA$3="Jr"),VLOOKUP($AM17,連盟使用!$AH$3:$AI$100,2,FALSE),IF(AND(AZ17="○",BA$3="MS",$AE17=1),VLOOKUP($AN17,連盟使用!$AJ$3:$AK$100,2,FALSE),VLOOKUP($AN17,連盟使用!$AL$3:$AM$100,2,FALSE)))))))))) | BC17: =IF(BB17="","",IF(AND(BB17="○",BC$3="国体"),VLOOKUP($AM17,連盟使用!$AN$3:$AO$100,2,FALSE),IF(AND(BB17="○",BC$3="通常",BC$1="通常・OPEN"),VLOOKUP($AM17,連盟使用!$AF$3:$AG$100,2,FALSE),IF(AND(BB17="○",BC$3="通常"),VLOOKUP($AM17,連盟使用!$AD$3:$AE$100,2,FALSE),IF(BB17="△",10000,IF(AND(BB17="○",BC$3="OPEN"),VLOOKUP($AM17,連盟使用!$AF$3:$AG$100,2,FALSE),IF(AND(BB17="○",BC$3="Jr",BC$1="Jrふじてん"),VLOOKUP($AM17,連盟使用!$AP$3:$AQ$100,2,FALSE),IF(AND(BB17="○",BC$3="Jr"),VLOOKUP($AM17,連盟使用!$AH$3:$AI$100,2,FALSE),IF(AND(BB17="○",BC$3="MS",$AE17=1),VLOOKUP($AN17,連盟使用!$AJ$3:$AK$100,2,FALSE),VLOOKUP($AN17,連盟使用!$AL$3:$AM$100,2,FALSE)))))))))) | BE17: =IF(BD17="","",IF(AND(BD17="○",BE$3="国体"),VLOOKUP($AM17,連盟使用!$AN$3:$AO$100,2,FALSE),IF(AND(BD17="○",BE$3="通常",BE$1="通常・OPEN"),VLOOKUP($AM17,連盟使用!$AF$3:$AG$100,2,FALSE),IF(AND(BD17="○",BE$3="通常"),VLOOKUP($AM17,連盟使用!$AD$3:$AE$100,2,FALSE),IF(BD17="△",10000,IF(AND(BD17="○",BE$3="OPEN"),VLOOKUP($AM17,連盟使用!$AF$3:$AG$100,2,FALSE),IF(AND(BD17="○",BE$3="Jr",BE$1="Jrふじてん"),VLOOKUP($AM17,連盟使用!$AP$3:$AQ$100,2,FALSE),IF(AND(BD17="○",BE$3="Jr"),VLOOKUP($AM17,連盟使用!$AH$3:$AI$100,2,FALSE),IF(AND(BD17="○",BE$3="MS",$AE17=1),VLOOKUP($AN17,連盟使用!$AJ$3:$AK$100,2,FALSE),VLOOKUP($AN17,連盟使用!$AL$3:$AM$100,2,FALSE)))))))))) | BG17: =IF(BF17="","",IF(AND(BF17="○",BG$3="国体"),VLOOKUP($AM17,連盟使用!$AN$3:$AO$100,2,FALSE),IF(AND(BF17="○",BG$3="通常",BG$1="通常・OPEN"),VLOOKUP($AM17,連盟使用!$AF$3:$AG$100,2,FALSE),IF(AND(BF17="○",BG$3="通常"),VLOOKUP($AM17,連盟使用!$AD$3:$AE$100,2,FALSE),IF(BF17="△",10000,IF(AND(BF17="○",BG$3="OPEN"),VLOOKUP($AM17,連盟使用!$AF$3:$AG$100,2,FALSE),IF(AND(BF17="○",BG$3="Jr",BG$1="Jrふじてん"),VLOOKUP($AM17,連盟使用!$AP$3:$AQ$100,2,FALSE),IF(AND(BF17="○",BG$3="Jr"),VLOOKUP($AM17,連盟使用!$AH$3:$AI$100,2,FALSE),IF(AND(BF17="○",BG$3="MS",$AE17=1),VLOOKUP($AN17,連盟使用!$AJ$3:$AK$100,2,FALSE),VLOOKUP($AN17,連盟使用!$AL$3:$AM$100,2,FALSE)))))))))) | BI17: =IF(BH17="","",IF(AND(BH17="○",BI$3="国体"),VLOOKUP($AM17,連盟使用!$AN$3:$AO$100,2,FALSE),IF(AND(BH17="○",BI$3="通常",BI$1="通常・OPEN"),VLOOKUP($AM17,連盟使用!$AF$3:$AG$100,2,FALSE),IF(AND(BH17="○",BI$3="通常"),VLOOKUP($AM17,連盟使用!$AD$3:$AE$100,2,FALSE),IF(BH17="△",10000,IF(AND(BH17="○",BI$3="OPEN"),VLOOKUP($AM17,連盟使用!$AF$3:$AG$100,2,FALSE),IF(AND(BH17="○",BI$3="Jr",BI$1="Jrふじてん"),VLOOKUP($AM17,連盟使用!$AP$3:$AQ$100,2,FALSE),IF(AND(BH17="○",BI$3="Jr"),VLOOKUP($AM17,連盟使用!$AH$3:$AI$100,2,FALSE),IF(AND(BH17="○",BI$3="MS",$AE17=1),VLOOKUP($AN17,連盟使用!$AJ$3:$AK$100,2,FALSE),VLOOKUP($AN17,連盟使用!$AL$3:$AM$100,2,FALSE)))))))))) | BK17: =IF(BJ17="","",IF(AND(BJ17="○",BK$3="国体"),VLOOKUP($AM17,連盟使用!$AN$3:$AO$100,2,FALSE),IF(AND(BJ17="○",BK$3="通常",BK$1="通常・OPEN"),VLOOKUP($AM17,連盟使用!$AF$3:$AG$100,2,FALSE),IF(AND(BJ17="○",BK$3="通常"),VLOOKUP($AM17,連盟使用!$AD$3:$AE$100,2,FALSE),IF(BJ17="△",10000,IF(AND(BJ17="○",BK$3="OPEN"),VLOOKUP($AM17,連盟使用!$AF$3:$AG$100,2,FALSE),IF(AND(BJ17="○",BK$3="Jr",BK$1="Jrふじてん"),VLOOKUP($AM17,連盟使用!$AP$3:$AQ$100,2,FALSE),IF(AND(BJ17="○",BK$3="Jr"),VLOOKUP($AM17,連盟使用!$AH$3:$AI$100,2,FALSE),IF(AND(BJ17="○",BK$3="MS",$AE17=1),VLOOKUP($AN17,連盟使用!$AJ$3:$AK$100,2,FALSE),VLOOKUP($AN17,連盟使用!$AL$3:$AM$100,2,FALSE)))))))))) | BM17: =IF(BL17="","",IF(AND(BL17="○",BM$3="国体"),VLOOKUP($AM17,連盟使用!$AN$3:$AO$100,2,FALSE),IF(AND(BL17="○",BM$3="通常",BM$1="通常・OPEN"),VLOOKUP($AM17,連盟使用!$AF$3:$AG$100,2,FALSE),IF(AND(BL17="○",BM$3="通常"),VLOOKUP($AM17,連盟使用!$AD$3:$AE$100,2,FALSE),IF(BL17="△",10000,IF(AND(BL17="○",BM$3="OPEN"),VLOOKUP($AM17,連盟使用!$AF$3:$AG$100,2,FALSE),IF(AND(BL17="○",BM$3="Jr",BM$1="Jrふじてん"),VLOOKUP($AM17,連盟使用!$AP$3:$AQ$100,2,FALSE),IF(AND(BL17="○",BM$3="Jr"),VLOOKUP($AM17,連盟使用!$AH$3:$AI$100,2,FALSE),IF(AND(BL17="○",BM$3="MS",$AE17=1),VLOOKUP($AN17,連盟使用!$AJ$3:$AK$100,2,FALSE),VLOOKUP($AN17,連盟使用!$AL$3:$AM$100,2,FALSE)))))))))) | BO17: =IF(BN17="","",IF(AND(BN17="○",BO$3="国体"),VLOOKUP($AM17,連盟使用!$AN$3:$AO$100,2,FALSE),IF(AND(BN17="○",BO$3="通常",BO$1="通常・OPEN"),VLOOKUP($AM17,連盟使用!$AF$3:$AG$100,2,FALSE),IF(AND(BN17="○",BO$3="通常"),VLOOKUP($AM17,連盟使用!$AD$3:$AE$100,2,FALSE),IF(BN17="△",10000,IF(AND(BN17="○",BO$3="OPEN"),VLOOKUP($AM17,連盟使用!$AF$3:$AG$100,2,FALSE),IF(AND(BN17="○",BO$3="Jr",BO$1="Jrふじてん"),VLOOKUP($AM17,連盟使用!$AP$3:$AQ$100,2,FALSE),IF(AND(BN17="○",BO$3="Jr"),VLOOKUP($AM17,連盟使用!$AH$3:$AI$100,2,FALSE),IF(AND(BN17="○",BO$3="MS",$AE17=1),VLOOKUP($AN17,連盟使用!$AJ$3:$AK$100,2,FALSE),VLOOKUP($AN17,連盟使用!$AL$3:$AM$100,2,FALSE)))))))))) | BQ17: =IF(BP17="","",IF(AND(BP17="○",BQ$3="国体"),VLOOKUP($AM17,連盟使用!$AN$3:$AO$100,2,FALSE),IF(AND(BP17="○",BQ$3="通常",BQ$1="通常・OPEN"),VLOOKUP($AM17,連盟使用!$AF$3:$AG$100,2,FALSE),IF(AND(BP17="○",BQ$3="通常"),VLOOKUP($AM17,連盟使用!$AD$3:$AE$100,2,FALSE),IF(BP17="△",10000,IF(AND(BP17="○",BQ$3="OPEN"),VLOOKUP($AM17,連盟使用!$AF$3:$AG$100,2,FALSE),IF(AND(BP17="○",BQ$3="Jr",BQ$1="Jrふじてん"),VLOOKUP($AM17,連盟使用!$AP$3:$AQ$100,2,FALSE),IF(AND(BP17="○",BQ$3="Jr"),VLOOKUP($AM17,連盟使用!$AH$3:$AI$100,2,FALSE),IF(AND(BP17="○",BQ$3="MS",$AE17=1),VLOOKUP($AN17,連盟使用!$AJ$3:$AK$100,2,FALSE),VLOOKUP($AN17,連盟使用!$AL$3:$AM$100,2,FALSE)))))))))) | BS17: =IF(BR17="","",IF(AND(BR17="○",BS$3="国体"),VLOOKUP($AM17,連盟使用!$AN$3:$AO$100,2,FALSE),IF(AND(BR17="○",BS$3="通常",BS$1="通常・OPEN"),VLOOKUP($AM17,連盟使用!$AF$3:$AG$100,2,FALSE),IF(AND(BR17="○",BS$3="通常"),VLOOKUP($AM17,連盟使用!$AD$3:$AE$100,2,FALSE),IF(BR17="△",10000,IF(AND(BR17="○",BS$3="OPEN"),VLOOKUP($AM17,連盟使用!$AF$3:$AG$100,2,FALSE),IF(AND(BR17="○",BS$3="Jr",BS$1="Jrふじてん"),VLOOKUP($AM17,連盟使用!$AP$3:$AQ$100,2,FALSE),IF(AND(BR17="○",BS$3="Jr"),VLOOKUP($AM17,連盟使用!$AH$3:$AI$100,2,FALSE),IF(AND(BR17="○",BS$3="MS",$AE17=1),VLOOKUP($AN17,連盟使用!$AJ$3:$AK$100,2,FALSE),VLOOKUP($AN17,連盟使用!$AL$3:$AM$100,2,FALSE)))))))))) | BU17: =IF(BT17="","",IF(AND(BT17="○",BU$3="国体"),VLOOKUP($AM17,連盟使用!$AN$3:$AO$100,2,FALSE),IF(AND(BT17="○",BU$3="通常",BU$1="通常・OPEN"),VLOOKUP($AM17,連盟使用!$AF$3:$AG$100,2,FALSE),IF(AND(BT17="○",BU$3="通常"),VLOOKUP($AM17,連盟使用!$AD$3:$AE$100,2,FALSE),IF(BT17="△",10000,IF(AND(BT17="○",BU$3="OPEN"),VLOOKUP($AM17,連盟使用!$AF$3:$AG$100,2,FALSE),IF(AND(BT17="○",BU$3="Jr",BU$1="Jrふじてん"),VLOOKUP($AM17,連盟使用!$AP$3:$AQ$100,2,FALSE),IF(AND(BT17="○",BU$3="Jr"),VLOOKUP($AM17,連盟使用!$AH$3:$AI$100,2,FALSE),IF(AND(BT17="○",BU$3="MS",$AE17=1),VLOOKUP($AN17,連盟使用!$AJ$3:$AK$100,2,FALSE),VLOOKUP($AN17,連盟使用!$AL$3:$AM$100,2,FALSE)))))))))) | BW17: =IF(BV17="","",IF(AND(BV17="○",BW$3="国体"),VLOOKUP($AM17,連盟使用!$AN$3:$AO$100,2,FALSE),IF(AND(BV17="○",BW$3="通常",BW$1="通常・OPEN"),VLOOKUP($AM17,連盟使用!$AF$3:$AG$100,2,FALSE),IF(AND(BV17="○",BW$3="通常"),VLOOKUP($AM17,連盟使用!$AD$3:$AE$100,2,FALSE),IF(BV17="△",10000,IF(AND(BV17="○",BW$3="OPEN"),VLOOKUP($AM17,連盟使用!$AF$3:$AG$100,2,FALSE),IF(AND(BV17="○",BW$3="Jr",BW$1="Jrふじてん"),VLOOKUP($AM17,連盟使用!$AP$3:$AQ$100,2,FALSE),IF(AND(BV17="○",BW$3="Jr"),VLOOKUP($AM17,連盟使用!$AH$3:$AI$100,2,FALSE),IF(AND(BV17="○",BW$3="MS",$AE17=1),VLOOKUP($AN17,連盟使用!$AJ$3:$AK$100,2,FALSE),VLOOKUP($AN17,連盟使用!$AL$3:$AM$100,2,FALSE)))))))))) | BY17: =IF(BX17="","",IF(AND(BX17="○",BY$3="国体"),VLOOKUP($AM17,連盟使用!$AN$3:$AO$100,2,FALSE),IF(AND(BX17="○",BY$3="通常",BY$1="通常・OPEN"),VLOOKUP($AM17,連盟使用!$AF$3:$AG$100,2,FALSE),IF(AND(BX17="○",BY$3="通常"),VLOOKUP($AM17,連盟使用!$AD$3:$AE$100,2,FALSE),IF(BX17="△",10000,IF(AND(BX17="○",BY$3="OPEN"),VLOOKUP($AM17,連盟使用!$AF$3:$AG$100,2,FALSE),IF(AND(BX17="○",BY$3="Jr",BY$1="Jrふじてん"),VLOOKUP($AM17,連盟使用!$AP$3:$AQ$100,2,FALSE),IF(AND(BX17="○",BY$3="Jr"),VLOOKUP($AM17,連盟使用!$AH$3:$AI$100,2,FALSE),IF(AND(BX17="○",BY$3="MS",$AE17=1),VLOOKUP($AN17,連盟使用!$AJ$3:$AK$100,2,FALSE),VLOOKUP($AN17,連盟使用!$AL$3:$AM$100,2,FALSE)))))))))) | CA17: =IF(BZ17="","",IF(AND(BZ17="○",CA$3="国体"),VLOOKUP($AM17,連盟使用!$AN$3:$AO$100,2,FALSE),IF(AND(BZ17="○",CA$3="通常",CA$1="通常・OPEN"),VLOOKUP($AM17,連盟使用!$AF$3:$AG$100,2,FALSE),IF(AND(BZ17="○",CA$3="通常"),VLOOKUP($AM17,連盟使用!$AD$3:$AE$100,2,FALSE),IF(BZ17="△",10000,IF(AND(BZ17="○",CA$3="OPEN"),VLOOKUP($AM17,連盟使用!$AF$3:$AG$100,2,FALSE),IF(AND(BZ17="○",CA$3="Jr",CA$1="Jrふじてん"),VLOOKUP($AM17,連盟使用!$AP$3:$AQ$100,2,FALSE),IF(AND(BZ17="○",CA$3="Jr"),VLOOKUP($AM17,連盟使用!$AH$3:$AI$100,2,FALSE),IF(AND(BZ17="○",CA$3="MS",$AE17=1),VLOOKUP($AN17,連盟使用!$AJ$3:$AK$100,2,FALSE),VLOOKUP($AN17,連盟使用!$AL$3:$AM$100,2,FALSE)))))))))) | CC17: =IF(CB17="","",IF(AND(CB17="○",CC$3="国体"),VLOOKUP($AM17,連盟使用!$AN$3:$AO$100,2,FALSE),IF(AND(CB17="○",CC$3="通常",CC$1="通常・OPEN"),VLOOKUP($AM17,連盟使用!$AF$3:$AG$100,2,FALSE),IF(AND(CB17="○",CC$3="通常"),VLOOKUP($AM17,連盟使用!$AD$3:$AE$100,2,FALSE),IF(CB17="△",10000,IF(AND(CB17="○",CC$3="OPEN"),VLOOKUP($AM17,連盟使用!$AF$3:$AG$100,2,FALSE),IF(AND(CB17="○",CC$3="Jr",CC$1="Jrふじてん"),VLOOKUP($AM17,連盟使用!$AP$3:$AQ$100,2,FALSE),IF(AND(CB17="○",CC$3="Jr"),VLOOKUP($AM17,連盟使用!$AH$3:$AI$100,2,FALSE),IF(AND(CB17="○",CC$3="MS",$AE17=1),VLOOKUP($AN17,連盟使用!$AJ$3:$AK$100,2,FALSE),VLOOKUP($AN17,連盟使用!$AL$3:$AM$100,2,FALSE)))))))))) | CE17: =IF(CD17="","",IF(AND(CD17="○",CE$3="国体"),VLOOKUP($AM17,連盟使用!$AN$3:$AO$100,2,FALSE),IF(AND(CD17="○",CE$3="通常",CE$1="通常・OPEN"),VLOOKUP($AM17,連盟使用!$AF$3:$AG$100,2,FALSE),IF(AND(CD17="○",CE$3="通常"),VLOOKUP($AM17,連盟使用!$AD$3:$AE$100,2,FALSE),IF(CD17="△",10000,IF(AND(CD17="○",CE$3="OPEN"),VLOOKUP($AM17,連盟使用!$AF$3:$AG$100,2,FALSE),IF(AND(CD17="○",CE$3="Jr",CE$1="Jrふじてん"),VLOOKUP($AM17,連盟使用!$AP$3:$AQ$100,2,FALSE),IF(AND(CD17="○",CE$3="Jr"),VLOOKUP($AM17,連盟使用!$AH$3:$AI$100,2,FALSE),IF(AND(CD17="○",CE$3="MS",$AE17=1),VLOOKUP($AN17,連盟使用!$AJ$3:$AK$100,2,FALSE),VLOOKUP($AN17,連盟使用!$AL$3:$AM$100,2,FALSE)))))))))) | CG17: =IF(CF17="","",IF(AND(CF17="○",CG$3="国体"),VLOOKUP($AM17,連盟使用!$AN$3:$AO$100,2,FALSE),IF(AND(CF17="○",CG$3="通常",CG$1="通常・OPEN"),VLOOKUP($AM17,連盟使用!$AF$3:$AG$100,2,FALSE),IF(AND(CF17="○",CG$3="通常"),VLOOKUP($AM17,連盟使用!$AD$3:$AE$100,2,FALSE),IF(CF17="△",10000,IF(AND(CF17="○",CG$3="OPEN"),VLOOKUP($AM17,連盟使用!$AF$3:$AG$100,2,FALSE),IF(AND(CF17="○",CG$3="Jr",CG$1="Jrふじてん"),VLOOKUP($AM17,連盟使用!$AP$3:$AQ$100,2,FALSE),IF(AND(CF17="○",CG$3="Jr"),VLOOKUP($AM17,連盟使用!$AH$3:$AI$100,2,FALSE),IF(AND(CF17="○",CG$3="MS",$AE17=1),VLOOKUP($AN17,連盟使用!$AJ$3:$AK$100,2,FALSE),VLOOKUP($AN17,連盟使用!$AL$3:$AM$100,2,FALSE)))))))))) | CH17: =SUM(AT17:CG17) -> 0
... A80: =IF(個表!A78="","",個表!A78) -> 75 | B80: =IF(個表!B78="","",個表!B78) | E80: =IF(個表!J78="","",個表!J78) | F80: =IF(個表!K78="","",個表!K78) | G80: =IF(個表!L78="","",個表!L78) | L80: =IF(個表!M78="","",個表!M78) | M80: =IF(個表!N78="","",個表!N78) | N80: =IF(個表!O78="","",個表!O78) | O80: =IF(個表!P78="","",個表!P78) | P80: =IF(個表!Q78="","",個表!Q78) | Q80: =IF(個表!G78="","",個表!G78) | S80: =IF(個表!R78="","",個表!R78) | T80: =IF(個表!S78="","",個表!S78) | V80: =IF(個表!C78="","",個表!C78) | W80: =IF(個表!D78="","",個表!D78) | X80: =IF(個表!E78="","",個表!E78) | Y80: =IF(個表!F78="","",個表!F78) | AE80: =IF(個表!H78="","",個表!H78) | AI80: =IF(個表!T78="","",個表!T78) | AL80: =IF(個表!I78="","",個表!I78) | AM80: =IF(個表!U78="","",個表!U78) | AN80: =IF(個表!V78="","",個表!V78) | AO80: =IF(個表!W78="","",個表!W78) | AP80: =IF(個表!X78="","",個表!X78) | AQ80: =IF(個表!Y78="","",個表!Y78) | AR80: =IF(個表!Z78="","",個表!Z78) | AS80: =IF(個表!AA78="","",個表!AA78) | AU80: =IF(AT80="","",IF(AND(AT80="○",AU$3="国体"),VLOOKUP($AM80,連盟使用!$AN$3:$AO$100,2,FALSE),IF(AND(AT80="○",AU$3="通常",AU$1="通常・OPEN"),VLOOKUP($AM80,連盟使用!$AF$3:$AG$100,2,FALSE),IF(AND(AT80="○",AU$3="通常"),VLOOKUP($AM80,連盟使用!$AD$3:$AE$100,2,FALSE),IF(AT80="△",10000,IF(AND(AT80="○",AU$3="OPEN"),VLOOKUP($AM80,連盟使用!$AF$3:$AG$100,2,FALSE),IF(AND(AT80="○",AU$3="Jr",AU$1="Jrふじてん"),VLOOKUP($AM80,連盟使用!$AP$3:$AQ$100,2,FALSE),IF(AND(AT80="○",AU$3="Jr"),VLOOKUP($AM80,連盟使用!$AH$3:$AI$100,2,FALSE),IF(AND(AT80="○",AU$3="MS",$AE80=1),VLOOKUP($AN80,連盟使用!$AJ$3:$AK$100,2,FALSE),VLOOKUP($AN80,連盟使用!$AL$3:$AM$100,2,FALSE)))))))))) | AW80: =IF(AV80="","",IF(AND(AV80="○",AW$3="国体"),VLOOKUP($AM80,連盟使用!$AN$3:$AO$100,2,FALSE),IF(AND(AV80="○",AW$3="通常",AW$1="通常・OPEN"),VLOOKUP($AM80,連盟使用!$AF$3:$AG$100,2,FALSE),IF(AND(AV80="○",AW$3="通常"),VLOOKUP($AM80,連盟使用!$AD$3:$AE$100,2,FALSE),IF(AV80="△",10000,IF(AND(AV80="○",AW$3="OPEN"),VLOOKUP($AM80,連盟使用!$AF$3:$AG$100,2,FALSE),IF(AND(AV80="○",AW$3="Jr",AW$1="Jrふじてん"),VLOOKUP($AM80,連盟使用!$AP$3:$AQ$100,2,FALSE),IF(AND(AV80="○",AW$3="Jr"),VLOOKUP($AM80,連盟使用!$AH$3:$AI$100,2,FALSE),IF(AND(AV80="○",AW$3="MS",$AE80=1),VLOOKUP($AN80,連盟使用!$AJ$3:$AK$100,2,FALSE),VLOOKUP($AN80,連盟使用!$AL$3:$AM$100,2,FALSE)))))))))) | AY80: =IF(AX80="","",IF(AND(AX80="○",AY$3="国体"),VLOOKUP($AM80,連盟使用!$AN$3:$AO$100,2,FALSE),IF(AND(AX80="○",AY$3="通常",AY$1="通常・OPEN"),VLOOKUP($AM80,連盟使用!$AF$3:$AG$100,2,FALSE),IF(AND(AX80="○",AY$3="通常"),VLOOKUP($AM80,連盟使用!$AD$3:$AE$100,2,FALSE),IF(AX80="△",10000,IF(AND(AX80="○",AY$3="OPEN"),VLOOKUP($AM80,連盟使用!$AF$3:$AG$100,2,FALSE),IF(AND(AX80="○",AY$3="Jr",AY$1="Jrふじてん"),VLOOKUP($AM80,連盟使用!$AP$3:$AQ$100,2,FALSE),IF(AND(AX80="○",AY$3="Jr"),VLOOKUP($AM80,連盟使用!$AH$3:$AI$100,2,FALSE),IF(AND(AX80="○",AY$3="MS",$AE80=1),VLOOKUP($AN80,連盟使用!$AJ$3:$AK$100,2,FALSE),VLOOKUP($AN80,連盟使用!$AL$3:$AM$100,2,FALSE)))))))))) | BA80: =IF(AZ80="","",IF(AND(AZ80="○",BA$3="国体"),VLOOKUP($AM80,連盟使用!$AN$3:$AO$100,2,FALSE),IF(AND(AZ80="○",BA$3="通常",BA$1="通常・OPEN"),VLOOKUP($AM80,連盟使用!$AF$3:$AG$100,2,FALSE),IF(AND(AZ80="○",BA$3="通常"),VLOOKUP($AM80,連盟使用!$AD$3:$AE$100,2,FALSE),IF(AZ80="△",10000,IF(AND(AZ80="○",BA$3="OPEN"),VLOOKUP($AM80,連盟使用!$AF$3:$AG$100,2,FALSE),IF(AND(AZ80="○",BA$3="Jr",BA$1="Jrふじてん"),VLOOKUP($AM80,連盟使用!$AP$3:$AQ$100,2,FALSE),IF(AND(AZ80="○",BA$3="Jr"),VLOOKUP($AM80,連盟使用!$AH$3:$AI$100,2,FALSE),IF(AND(AZ80="○",BA$3="MS",$AE80=1),VLOOKUP($AN80,連盟使用!$AJ$3:$AK$100,2,FALSE),VLOOKUP($AN80,連盟使用!$AL$3:$AM$100,2,FALSE)))))))))) | BC80: =IF(BB80="","",IF(AND(BB80="○",BC$3="国体"),VLOOKUP($AM80,連盟使用!$AN$3:$AO$100,2,FALSE),IF(AND(BB80="○",BC$3="通常",BC$1="通常・OPEN"),VLOOKUP($AM80,連盟使用!$AF$3:$AG$100,2,FALSE),IF(AND(BB80="○",BC$3="通常"),VLOOKUP($AM80,連盟使用!$AD$3:$AE$100,2,FALSE),IF(BB80="△",10000,IF(AND(BB80="○",BC$3="OPEN"),VLOOKUP($AM80,連盟使用!$AF$3:$AG$100,2,FALSE),IF(AND(BB80="○",BC$3="Jr",BC$1="Jrふじてん"),VLOOKUP($AM80,連盟使用!$AP$3:$AQ$100,2,FALSE),IF(AND(BB80="○",BC$3="Jr"),VLOOKUP($AM80,連盟使用!$AH$3:$AI$100,2,FALSE),IF(AND(BB80="○",BC$3="MS",$AE80=1),VLOOKUP($AN80,連盟使用!$AJ$3:$AK$100,2,FALSE),VLOOKUP($AN80,連盟使用!$AL$3:$AM$100,2,FALSE)))))))))) | BE80: =IF(BD80="","",IF(AND(BD80="○",BE$3="国体"),VLOOKUP($AM80,連盟使用!$AN$3:$AO$100,2,FALSE),IF(AND(BD80="○",BE$3="通常",BE$1="通常・OPEN"),VLOOKUP($AM80,連盟使用!$AF$3:$AG$100,2,FALSE),IF(AND(BD80="○",BE$3="通常"),VLOOKUP($AM80,連盟使用!$AD$3:$AE$100,2,FALSE),IF(BD80="△",10000,IF(AND(BD80="○",BE$3="OPEN"),VLOOKUP($AM80,連盟使用!$AF$3:$AG$100,2,FALSE),IF(AND(BD80="○",BE$3="Jr",BE$1="Jrふじてん"),VLOOKUP($AM80,連盟使用!$AP$3:$AQ$100,2,FALSE),IF(AND(BD80="○",BE$3="Jr"),VLOOKUP($AM80,連盟使用!$AH$3:$AI$100,2,FALSE),IF(AND(BD80="○",BE$3="MS",$AE80=1),VLOOKUP($AN80,連盟使用!$AJ$3:$AK$100,2,FALSE),VLOOKUP($AN80,連盟使用!$AL$3:$AM$100,2,FALSE)))))))))) | BG80: =IF(BF80="","",IF(AND(BF80="○",BG$3="国体"),VLOOKUP($AM80,連盟使用!$AN$3:$AO$100,2,FALSE),IF(AND(BF80="○",BG$3="通常",BG$1="通常・OPEN"),VLOOKUP($AM80,連盟使用!$AF$3:$AG$100,2,FALSE),IF(AND(BF80="○",BG$3="通常"),VLOOKUP($AM80,連盟使用!$AD$3:$AE$100,2,FALSE),IF(BF80="△",10000,IF(AND(BF80="○",BG$3="OPEN"),VLOOKUP($AM80,連盟使用!$AF$3:$AG$100,2,FALSE),IF(AND(BF80="○",BG$3="Jr",BG$1="Jrふじてん"),VLOOKUP($AM80,連盟使用!$AP$3:$AQ$100,2,FALSE),IF(AND(BF80="○",BG$3="Jr"),VLOOKUP($AM80,連盟使用!$AH$3:$AI$100,2,FALSE),IF(AND(BF80="○",BG$3="MS",$AE80=1),VLOOKUP($AN80,連盟使用!$AJ$3:$AK$100,2,FALSE),VLOOKUP($AN80,連盟使用!$AL$3:$AM$100,2,FALSE)))))))))) | BI80: =IF(BH80="","",IF(AND(BH80="○",BI$3="国体"),VLOOKUP($AM80,連盟使用!$AN$3:$AO$100,2,FALSE),IF(AND(BH80="○",BI$3="通常",BI$1="通常・OPEN"),VLOOKUP($AM80,連盟使用!$AF$3:$AG$100,2,FALSE),IF(AND(BH80="○",BI$3="通常"),VLOOKUP($AM80,連盟使用!$AD$3:$AE$100,2,FALSE),IF(BH80="△",10000,IF(AND(BH80="○",BI$3="OPEN"),VLOOKUP($AM80,連盟使用!$AF$3:$AG$100,2,FALSE),IF(AND(BH80="○",BI$3="Jr",BI$1="Jrふじてん"),VLOOKUP($AM80,連盟使用!$AP$3:$AQ$100,2,FALSE),IF(AND(BH80="○",BI$3="Jr"),VLOOKUP($AM80,連盟使用!$AH$3:$AI$100,2,FALSE),IF(AND(BH80="○",BI$3="MS",$AE80=1),VLOOKUP($AN80,連盟使用!$AJ$3:$AK$100,2,FALSE),VLOOKUP($AN80,連盟使用!$AL$3:$AM$100,2,FALSE)))))))))) | BK80: =IF(BJ80="","",IF(AND(BJ80="○",BK$3="国体"),VLOOKUP($AM80,連盟使用!$AN$3:$AO$100,2,FALSE),IF(AND(BJ80="○",BK$3="通常",BK$1="通常・OPEN"),VLOOKUP($AM80,連盟使用!$AF$3:$AG$100,2,FALSE),IF(AND(BJ80="○",BK$3="通常"),VLOOKUP($AM80,連盟使用!$AD$3:$AE$100,2,FALSE),IF(BJ80="△",10000,IF(AND(BJ80="○",BK$3="OPEN"),VLOOKUP($AM80,連盟使用!$AF$3:$AG$100,2,FALSE),IF(AND(BJ80="○",BK$3="Jr",BK$1="Jrふじてん"),VLOOKUP($AM80,連盟使用!$AP$3:$AQ$100,2,FALSE),IF(AND(BJ80="○",BK$3="Jr"),VLOOKUP($AM80,連盟使用!$AH$3:$AI$100,2,FALSE),IF(AND(BJ80="○",BK$3="MS",$AE80=1),VLOOKUP($AN80,連盟使用!$AJ$3:$AK$100,2,FALSE),VLOOKUP($AN80,連盟使用!$AL$3:$AM$100,2,FALSE)))))))))) | BM80: =IF(BL80="","",IF(AND(BL80="○",BM$3="国体"),VLOOKUP($AM80,連盟使用!$AN$3:$AO$100,2,FALSE),IF(AND(BL80="○",BM$3="通常",BM$1="通常・OPEN"),VLOOKUP($AM80,連盟使用!$AF$3:$AG$100,2,FALSE),IF(AND(BL80="○",BM$3="通常"),VLOOKUP($AM80,連盟使用!$AD$3:$AE$100,2,FALSE),IF(BL80="△",10000,IF(AND(BL80="○",BM$3="OPEN"),VLOOKUP($AM80,連盟使用!$AF$3:$AG$100,2,FALSE),IF(AND(BL80="○",BM$3="Jr",BM$1="Jrふじてん"),VLOOKUP($AM80,連盟使用!$AP$3:$AQ$100,2,FALSE),IF(AND(BL80="○",BM$3="Jr"),VLOOKUP($AM80,連盟使用!$AH$3:$AI$100,2,FALSE),IF(AND(BL80="○",BM$3="MS",$AE80=1),VLOOKUP($AN80,連盟使用!$AJ$3:$AK$100,2,FALSE),VLOOKUP($AN80,連盟使用!$AL$3:$AM$100,2,FALSE)))))))))) | BO80: =IF(BN80="","",IF(AND(BN80="○",BO$3="国体"),VLOOKUP($AM80,連盟使用!$AN$3:$AO$100,2,FALSE),IF(AND(BN80="○",BO$3="通常",BO$1="通常・OPEN"),VLOOKUP($AM80,連盟使用!$AF$3:$AG$100,2,FALSE),IF(AND(BN80="○",BO$3="通常"),VLOOKUP($AM80,連盟使用!$AD$3:$AE$100,2,FALSE),IF(BN80="△",10000,IF(AND(BN80="○",BO$3="OPEN"),VLOOKUP($AM80,連盟使用!$AF$3:$AG$100,2,FALSE),IF(AND(BN80="○",BO$3="Jr",BO$1="Jrふじてん"),VLOOKUP($AM80,連盟使用!$AP$3:$AQ$100,2,FALSE),IF(AND(BN80="○",BO$3="Jr"),VLOOKUP($AM80,連盟使用!$AH$3:$AI$100,2,FALSE),IF(AND(BN80="○",BO$3="MS",$AE80=1),VLOOKUP($AN80,連盟使用!$AJ$3:$AK$100,2,FALSE),VLOOKUP($AN80,連盟使用!$AL$3:$AM$100,2,FALSE)))))))))) | BQ80: =IF(BP80="","",IF(AND(BP80="○",BQ$3="国体"),VLOOKUP($AM80,連盟使用!$AN$3:$AO$100,2,FALSE),IF(AND(BP80="○",BQ$3="通常",BQ$1="通常・OPEN"),VLOOKUP($AM80,連盟使用!$AF$3:$AG$100,2,FALSE),IF(AND(BP80="○",BQ$3="通常"),VLOOKUP($AM80,連盟使用!$AD$3:$AE$100,2,FALSE),IF(BP80="△",10000,IF(AND(BP80="○",BQ$3="OPEN"),VLOOKUP($AM80,連盟使用!$AF$3:$AG$100,2,FALSE),IF(AND(BP80="○",BQ$3="Jr",BQ$1="Jrふじてん"),VLOOKUP($AM80,連盟使用!$AP$3:$AQ$100,2,FALSE),IF(AND(BP80="○",BQ$3="Jr"),VLOOKUP($AM80,連盟使用!$AH$3:$AI$100,2,FALSE),IF(AND(BP80="○",BQ$3="MS",$AE80=1),VLOOKUP($AN80,連盟使用!$AJ$3:$AK$100,2,FALSE),VLOOKUP($AN80,連盟使用!$AL$3:$AM$100,2,FALSE)))))))))) | BS80: =IF(BR80="","",IF(AND(BR80="○",BS$3="国体"),VLOOKUP($AM80,連盟使用!$AN$3:$AO$100,2,FALSE),IF(AND(BR80="○",BS$3="通常",BS$1="通常・OPEN"),VLOOKUP($AM80,連盟使用!$AF$3:$AG$100,2,FALSE),IF(AND(BR80="○",BS$3="通常"),VLOOKUP($AM80,連盟使用!$AD$3:$AE$100,2,FALSE),IF(BR80="△",10000,IF(AND(BR80="○",BS$3="OPEN"),VLOOKUP($AM80,連盟使用!$AF$3:$AG$100,2,FALSE),IF(AND(BR80="○",BS$3="Jr",BS$1="Jrふじてん"),VLOOKUP($AM80,連盟使用!$AP$3:$AQ$100,2,FALSE),IF(AND(BR80="○",BS$3="Jr"),VLOOKUP($AM80,連盟使用!$AH$3:$AI$100,2,FALSE),IF(AND(BR80="○",BS$3="MS",$AE80=1),VLOOKUP($AN80,連盟使用!$AJ$3:$AK$100,2,FALSE),VLOOKUP($AN80,連盟使用!$AL$3:$AM$100,2,FALSE)))))))))) | BU80: =IF(BT80="","",IF(AND(BT80="○",BU$3="国体"),VLOOKUP($AM80,連盟使用!$AN$3:$AO$100,2,FALSE),IF(AND(BT80="○",BU$3="通常",BU$1="通常・OPEN"),VLOOKUP($AM80,連盟使用!$AF$3:$AG$100,2,FALSE),IF(AND(BT80="○",BU$3="通常"),VLOOKUP($AM80,連盟使用!$AD$3:$AE$100,2,FALSE),IF(BT80="△",10000,IF(AND(BT80="○",BU$3="OPEN"),VLOOKUP($AM80,連盟使用!$AF$3:$AG$100,2,FALSE),IF(AND(BT80="○",BU$3="Jr",BU$1="Jrふじてん"),VLOOKUP($AM80,連盟使用!$AP$3:$AQ$100,2,FALSE),IF(AND(BT80="○",BU$3="Jr"),VLOOKUP($AM80,連盟使用!$AH$3:$AI$100,2,FALSE),IF(AND(BT80="○",BU$3="MS",$AE80=1),VLOOKUP($AN80,連盟使用!$AJ$3:$AK$100,2,FALSE),VLOOKUP($AN80,連盟使用!$AL$3:$AM$100,2,FALSE)))))))))) | BW80: =IF(BV80="","",IF(AND(BV80="○",BW$3="国体"),VLOOKUP($AM80,連盟使用!$AN$3:$AO$100,2,FALSE),IF(AND(BV80="○",BW$3="通常",BW$1="通常・OPEN"),VLOOKUP($AM80,連盟使用!$AF$3:$AG$100,2,FALSE),IF(AND(BV80="○",BW$3="通常"),VLOOKUP($AM80,連盟使用!$AD$3:$AE$100,2,FALSE),IF(BV80="△",10000,IF(AND(BV80="○",BW$3="OPEN"),VLOOKUP($AM80,連盟使用!$AF$3:$AG$100,2,FALSE),IF(AND(BV80="○",BW$3="Jr",BW$1="Jrふじてん"),VLOOKUP($AM80,連盟使用!$AP$3:$AQ$100,2,FALSE),IF(AND(BV80="○",BW$3="Jr"),VLOOKUP($AM80,連盟使用!$AH$3:$AI$100,2,FALSE),IF(AND(BV80="○",BW$3="MS",$AE80=1),VLOOKUP($AN80,連盟使用!$AJ$3:$AK$100,2,FALSE),VLOOKUP($AN80,連盟使用!$AL$3:$AM$100,2,FALSE)))))))))) | BY80: =IF(BX80="","",IF(AND(BX80="○",BY$3="国体"),VLOOKUP($AM80,連盟使用!$AN$3:$AO$100,2,FALSE),IF(AND(BX80="○",BY$3="通常",BY$1="通常・OPEN"),VLOOKUP($AM80,連盟使用!$AF$3:$AG$100,2,FALSE),IF(AND(BX80="○",BY$3="通常"),VLOOKUP($AM80,連盟使用!$AD$3:$AE$100,2,FALSE),IF(BX80="△",10000,IF(AND(BX80="○",BY$3="OPEN"),VLOOKUP($AM80,連盟使用!$AF$3:$AG$100,2,FALSE),IF(AND(BX80="○",BY$3="Jr",BY$1="Jrふじてん"),VLOOKUP($AM80,連盟使用!$AP$3:$AQ$100,2,FALSE),IF(AND(BX80="○",BY$3="Jr"),VLOOKUP($AM80,連盟使用!$AH$3:$AI$100,2,FALSE),IF(AND(BX80="○",BY$3="MS",$AE80=1),VLOOKUP($AN80,連盟使用!$AJ$3:$AK$100,2,FALSE),VLOOKUP($AN80,連盟使用!$AL$3:$AM$100,2,FALSE)))))))))) | CA80: =IF(BZ80="","",IF(AND(BZ80="○",CA$3="国体"),VLOOKUP($AM80,連盟使用!$AN$3:$AO$100,2,FALSE),IF(AND(BZ80="○",CA$3="通常",CA$1="通常・OPEN"),VLOOKUP($AM80,連盟使用!$AF$3:$AG$100,2,FALSE),IF(AND(BZ80="○",CA$3="通常"),VLOOKUP($AM80,連盟使用!$AD$3:$AE$100,2,FALSE),IF(BZ80="△",10000,IF(AND(BZ80="○",CA$3="OPEN"),VLOOKUP($AM80,連盟使用!$AF$3:$AG$100,2,FALSE),IF(AND(BZ80="○",CA$3="Jr",CA$1="Jrふじてん"),VLOOKUP($AM80,連盟使用!$AP$3:$AQ$100,2,FALSE),IF(AND(BZ80="○",CA$3="Jr"),VLOOKUP($AM80,連盟使用!$AH$3:$AI$100,2,FALSE),IF(AND(BZ80="○",CA$3="MS",$AE80=1),VLOOKUP($AN80,連盟使用!$AJ$3:$AK$100,2,FALSE),VLOOKUP($AN80,連盟使用!$AL$3:$AM$100,2,FALSE)))))))))) | CC80: =IF(CB80="","",IF(AND(CB80="○",CC$3="国体"),VLOOKUP($AM80,連盟使用!$AN$3:$AO$100,2,FALSE),IF(AND(CB80="○",CC$3="通常",CC$1="通常・OPEN"),VLOOKUP($AM80,連盟使用!$AF$3:$AG$100,2,FALSE),IF(AND(CB80="○",CC$3="通常"),VLOOKUP($AM80,連盟使用!$AD$3:$AE$100,2,FALSE),IF(CB80="△",10000,IF(AND(CB80="○",CC$3="OPEN"),VLOOKUP($AM80,連盟使用!$AF$3:$AG$100,2,FALSE),IF(AND(CB80="○",CC$3="Jr",CC$1="Jrふじてん"),VLOOKUP($AM80,連盟使用!$AP$3:$AQ$100,2,FALSE),IF(AND(CB80="○",CC$3="Jr"),VLOOKUP($AM80,連盟使用!$AH$3:$AI$100,2,FALSE),IF(AND(CB80="○",CC$3="MS",$AE80=1),VLOOKUP($AN80,連盟使用!$AJ$3:$AK$100,2,FALSE),VLOOKUP($AN80,連盟使用!$AL$3:$AM$100,2,FALSE)))))))))) | CE80: =IF(CD80="","",IF(AND(CD80="○",CE$3="国体"),VLOOKUP($AM80,連盟使用!$AN$3:$AO$100,2,FALSE),IF(AND(CD80="○",CE$3="通常",CE$1="通常・OPEN"),VLOOKUP($AM80,連盟使用!$AF$3:$AG$100,2,FALSE),IF(AND(CD80="○",CE$3="通常"),VLOOKUP($AM80,連盟使用!$AD$3:$AE$100,2,FALSE),IF(CD80="△",10000,IF(AND(CD80="○",CE$3="OPEN"),VLOOKUP($AM80,連盟使用!$AF$3:$AG$100,2,FALSE),IF(AND(CD80="○",CE$3="Jr",CE$1="Jrふじてん"),VLOOKUP($AM80,連盟使用!$AP$3:$AQ$100,2,FALSE),IF(AND(CD80="○",CE$3="Jr"),VLOOKUP($AM80,連盟使用!$AH$3:$AI$100,2,FALSE),IF(AND(CD80="○",CE$3="MS",$AE80=1),VLOOKUP($AN80,連盟使用!$AJ$3:$AK$100,2,FALSE),VLOOKUP($AN80,連盟使用!$AL$3:$AM$100,2,FALSE)))))))))) | CG80: =IF(CF80="","",IF(AND(CF80="○",CG$3="国体"),VLOOKUP($AM80,連盟使用!$AN$3:$AO$100,2,FALSE),IF(AND(CF80="○",CG$3="通常",CG$1="通常・OPEN"),VLOOKUP($AM80,連盟使用!$AF$3:$AG$100,2,FALSE),IF(AND(CF80="○",CG$3="通常"),VLOOKUP($AM80,連盟使用!$AD$3:$AE$100,2,FALSE),IF(CF80="△",10000,IF(AND(CF80="○",CG$3="OPEN"),VLOOKUP($AM80,連盟使用!$AF$3:$AG$100,2,FALSE),IF(AND(CF80="○",CG$3="Jr",CG$1="Jrふじてん"),VLOOKUP($AM80,連盟使用!$AP$3:$AQ$100,2,FALSE),IF(AND(CF80="○",CG$3="Jr"),VLOOKUP($AM80,連盟使用!$AH$3:$AI$100,2,FALSE),IF(AND(CF80="○",CG$3="MS",$AE80=1),VLOOKUP($AN80,連盟使用!$AJ$3:$AK$100,2,FALSE),VLOOKUP($AN80,連盟使用!$AL$3:$AM$100,2,FALSE)))))))))) | CH80: =SUM(AT80:CG80) -> 0
AU81: =SUM(AU6:AU80) -> 0 | AW81: =SUM(AW6:AW80) -> 0 | AY81: =SUM(AY6:AY80) -> 0 | BA81: =SUM(BA6:BA80) -> 0 | BC81: =SUM(BC6:BC80) -> 0 | BE81: =SUM(BE6:BE80) -> 0 | BG81: =SUM(BG6:BG80) -> 0 | BI81: =SUM(BI6:BI80) -> 0 | BK81: =SUM(BK6:BK80) -> 0 | BM81: =SUM(BM6:BM80) -> 0 | BO81: =SUM(BO6:BO80) -> 0 | BQ81: =SUM(BQ6:BQ80) -> 0 | BS81: =SUM(BS6:BS80) -> 0 | BU81: =SUM(BU6:BU80) -> 0 | BW81: =SUM(BW6:BW80) -> 0 | BY81: =SUM(BY6:BY80) -> 0 | CA81: =SUM(CA6:CA80) -> 0 | CC81: =SUM(CC6:CC80) -> 0 | CE81: =SUM(CE6:CE80) -> 0 | CG81: =SUM(CG6:CG80) -> 0 | CH81: =SUM(CH6:CH80) -> 0

Sheet 連盟使用
A1: 男子国体 | D1: 女子国体 | G1: 男子通常レース | J1: 女子通常レース | M1: Openレース男子 | P1: openレース女子 | S1: 男女Ｊｒレース | V1: 男子マスターズレース | Y1: 女子マスターズレース | AB1: 学年 | AD1: 通常時金額 | AF1: OPEN | AH1: Jｒ金額 | AJ1: MS男子金額 | AL1: MS女子金額 | AN1: 国体金額 | AP1: Jｒふじてん金額 | AR1: 男女 | AS1: 国体日付指定 | AT1: 大会日付指定
A2: 年齢 | B2: クラス | C2: コード | D2: 年齢 | E2: クラス | F2: コード | G2: 年齢 | H2: クラス | I2: コード | J2: 年齢 | K2: クラス | L2: コード | M2: 年齢 | N2: クラス | O2: コード | P2: 年齢 | Q2: クラス | R2: コード | S2: 年齢 | T2: クラス | U2: コード | V2: 年齢 | W2: クラス | X2: コード | Y2: 年齢 | Z2: クラス | AA2: コード
A3: 100 | B3: 成年C | C3: 4 | D3: 100 | E3: 成年B | F3: 3 | G3: 100 | H3: 成年C | I3: 6 | J3: 100 | K3: 成年B | L3: 5 | M3: 100 | N3: 61以上 | O3: 8 | P3: 100 | Q3: 61以上 | R3: 8 | S3: 100 | T3: - | U3: - | V3: 100 | W3: 80歳上 | X3: 11 | Y3: 100 | Z3: 80歳上 | AA3: 11 | AB3: 25 | AC3: 大学8年生 | AD3: 100 | AE3: 4000 | AF3: 100 | AG3: 4000 | AH3: 100 | AI3: - | AJ3: 100 | AK3: 4000 | AL3: 100 | AM3: 4000 | AN3: 100 | AO3: 4000 | AP3: 100 | AQ3: - | AS3: 45017 | AT3: 45291 | AU3: 年度変更時ここのみ変更
A4: 99 | B4: 成年C | C4: 4 | D4: 99 | E4: 成年B | F4: 3 | G4: 99 | H4: 成年C | I4: 6 | J4: 99 | K4: 成年B | L4: 5 | M4: 99 | N4: 61以上 | O4: 8 | P4: 99 | Q4: 61以上 | R4: 8 | S4: 99 | T4: - | U4: - | V4: 99 | W4: 80歳上 | X4: 11 | Y4: 99 | Z4: 80歳上 | AA4: 11 | AB4: 24 | AC4: 大学7年生 | AD4: 99 | AE4: 4000 | AF4: 99 | AG4: 4000 | AH4: 99 | AI4: - | AJ4: 99 | AK4: 4000 | AL4: 99 | AM4: 4000 | AN4: 99 | AO4: 4000 | AP4: 99 | AQ4: - | AR4: 1
A5: 98 | B5: 成年C | C5: 4 | D5: 98 | E5: 成年B | F5: 3 | G5: 98 | H5: 成年C | I5: 6 | J5: 98 | K5: 成年B | L5: 5 | M5: 98 | N5: 61以上 | O5: 8 | P5: 98 | Q5: 61以上 | R5: 8 | S5: 98 | T5: - | U5: - | V5: 98 | W5: 80歳上 | X5: 11 | Y5: 98 | Z5: 80歳上 | AA5: 11 | AB5: 23 | AC5: 大学6年生 | AD5: 98 | AE5: 4000 | AF5: 98 | AG5: 4000 | AH5: 98 | AI5: - | AJ5: 98 | AK5: 4000 | AL5: 98 | AM5: 4000 | AN5: 98 | AO5: 4000 | AP5: 98 | AQ5: - | AR5: 2
A6: 97 | B6: 成年C | C6: 4 | D6: 97 | E6: 成年B | F6: 3 | G6: 97 | H6: 成年C | I6: 6 | J6: 97 | K6: 成年B | L6: 5 | M6: 97 | N6: 61以上 | O6: 8 | P6: 97 | Q6: 61以上 | R6: 8 | S6: 97 | T6: - | U6: - | V6: 97 | W6: 80歳上 | X6: 11 | Y6: 97 | Z6: 80歳上 | AA6: 11 | AB6: 22 | AC6: 大学5年生 | AD6: 97 | AE6: 4000 | AF6: 97 | AG6: 4000 | AH6: 97 | AI6: - | AJ6: 97 | AK6: 4000 | AL6: 97 | AM6: 4000 | AN6: 97 | AO6: 4000 | AP6: 97 | AQ6: - | AR6: 出欠
A7: 96 | B7: 成年C | C7: 4 | D7: 96 | E7: 成年B | F7: 3 | G7: 96 | H7: 成年C | I7: 6 | J7: 96 | K7: 成年B | L7: 5 | M7: 96 | N7: 61以上 | O7: 8 | P7: 96 | Q7: 61以上 | R7: 8 | S7: 96 | T7: - | U7: - | V7: 96 | W7: 80歳上 | X7: 11 | Y7: 96 | Z7: 80歳上 | AA7: 11 | AB7: 21 | AC7: 大学4年生 | AD7: 96 | AE7: 4000 | AF7: 96 | AG7: 4000 | AH7: 96 | AI7: - | AJ7: 96 | AK7: 4000 | AL7: 96 | AM7: 4000 | AN7: 96 | AO7: 4000 | AP7: 96 | AQ7: -
A8: 95 | B8: 成年C | C8: 4 | D8: 95 | E8: 成年B | F8: 3 | G8: 95 | H8: 成年C | I8: 6 | J8: 95 | K8: 成年B | L8: 5 | M8: 95 | N8: 61以上 | O8: 8 | P8: 95 | Q8: 61以上 | R8: 8 | S8: 95 | T8: - | U8: - | V8: 95 | W8: 80歳上 | X8: 11 | Y8: 95 | Z8: 80歳上 | AA8: 11 | AB8: 20 | AC8: 大学3年生 | AD8: 95 | AE8: 4000 | AF8: 95 | AG8: 4000 | AH8: 95 | AI8: - | AJ8: 95 | AK8: 4000 | AL8: 95 | AM8: 4000 | AN8: 95 | AO8: 4000 | AP8: 95 | AQ8: - | AR8: ○
A9: 94 | B9: 成年C | C9: 4 | D9: 94 | E9: 成年B | F9: 3 | G9: 94 | H9: 成年C | I9: 6 | J9: 94 | K9: 成年B | L9: 5 | M9: 94 | N9: 61以上 | O9: 8 | P9: 94 | Q9: 61以上 | R9: 8 | S9: 94 | T9: - | U9: - | V9: 94 | W9: 80歳上 | X9: 11 | Y9: 94 | Z9: 80歳上 | AA9: 11 | AB9: 19 | AC9: 大学2年生 | AD9: 94 | AE9: 4000 | AF9: 94 | AG9: 4000 | AH9: 94 | AI9: - | AJ9: 94 | AK9: 4000 | AL9: 94 | AM9: 4000 | AN9: 94 | AO9: 4000 | AP9: 94 | AQ9: - | AR9: △
A10: 93 | B10: 成年C | C10: 4 | D10: 93 | E10: 成年B | F10: 3 | G10: 93 | H10: 成年C | I10: 6 | J10: 93 | K10: 成年B | L10: 5 | M10: 93 | N10: 61以上 | O10: 8 | P10: 93 | Q10: 61以上 | R10: 8 | S10: 93 | T10: - | U10: - | V10: 93 | W10: 80歳上 | X10: 11 | Y10: 93 | Z10: 80歳上 | AA10: 11 | AB10: 18 | AC10: 大学1年生 | AD10: 93 | AE10: 4000 | AF10: 93 | AG10: 4000 | AH10: 93 | AI10: - | AJ10: 93 | AK10: 4000 | AL10: 93 | AM10: 4000 | AN10: 93 | AO10: 4000 | AP10: 93 | AQ10: - | AR10: 種別
A11: 92 | B11: 成年C | C11: 4 | D11: 92 | E11: 成年B | F11: 3 | G11: 92 | H11: 成年C | I11: 6 | J11: 92 | K11: 成年B | L11: 5 | M11: 92 | N11: 61以上 | O11: 8 | P11: 92 | Q11: 61以上 | R11: 8 | S11: 92 | T11: - | U11: - | V11: 92 | W11: 80歳上 | X11: 11 | Y11: 92 | Z11: 80歳上 | AA11: 11 | AB11: 17 | AC11: 高校3年生 | AD11: 92 | AE11: 4000 | AF11: 92 | AG11: 4000 | AH11: 92 | AI11: - | AJ11: 92 | AK11: 4000 | AL11: 92 | AM11: 4000 | AN11: 92 | AO11: 4000 | AP11: 92 | AQ11: - | AR11: 通常
A12: 91 | B12: 成年C | C12: 4 | D12: 91 | E12: 成年B | F12: 3 | G12: 91 | H12: 成年C | I12: 6 | J12: 91 | K12: 成年B | L12: 5 | M12: 91 | N12: 61以上 | O12: 8 | P12: 91 | Q12: 61以上 | R12: 8 | S12: 91 | T12: - | U12: - | V12: 91 | W12: 80歳上 | X12: 11 | Y12: 91 | Z12: 80歳上 | AA12: 11 | AB12: 16 | AC12: 高校2年生 | AD12: 91 | AE12: 4000 | AF12: 91 | AG12: 4000 | AH12: 91 | AI12: - | AJ12: 91 | AK12: 4000 | AL12: 91 | AM12: 4000 | AN12: 91 | AO12: 4000 | AP12: 91 | AQ12: - | AR12: Jr
A13: 90 | B13: 成年C | C13: 4 | D13: 90 | E13: 成年B | F13: 3 | G13: 90 | H13: 成年C | I13: 6 | J13: 90 | K13: 成年B | L13: 5 | M13: 90 | N13: 61以上 | O13: 8 | P13: 90 | Q13: 61以上 | R13: 8 | S13: 90 | T13: - | U13: - | V13: 90 | W13: 80歳上 | X13: 11 | Y13: 90 | Z13: 80歳上 | AA13: 11 | AB13: 15 | AC13: 高校1年生 | AD13: 90 | AE13: 4000 | AF13: 90 | AG13: 4000 | AH13: 90 | AI13: - | AJ13: 90 | AK13: 4000 | AL13: 90 | AM13: 4000 | AN13: 90 | AO13: 4000 | AP13: 90 | AQ13: - | AR13: MS
A14: 89 | B14: 成年C | C14: 4 | D14: 89 | E14: 成年B | F14: 3 | G14: 89 | H14: 成年C | I14: 6 | J14: 89 | K14: 成年B | L14: 5 | M14: 89 | N14: 61以上 | O14: 8 | P14: 89 | Q14: 61以上 | R14: 8 | S14: 89 | T14: - | U14: - | V14: 89 | W14: 80歳上 | X14: 11 | Y14: 89 | Z14: 80歳上 | AA14: 11 | AB14: 14 | AC14: 中学3年生 | AD14: 89 | AE14: 4000 | AF14: 89 | AG14: 4000 | AH14: 89 | AI14: - | AJ14: 89 | AK14: 4000 | AL14: 89 | AM14: 4000 | AN14: 89 | AO14: 4000 | AP14: 89 | AQ14: - | AR14: 国体
A15: 88 | B15: 成年C | C15: 4 | D15: 88 | E15: 成年B | F15: 3 | G15: 88 | H15: 成年C | I15: 6 | J15: 88 | K15: 成年B | L15: 5 | M15: 88 | N15: 61以上 | O15: 8 | P15: 88 | Q15: 61以上 | R15: 8 | S15: 88 | T15: - | U15: - | V15: 88 | W15: 80歳上 | X15: 11 | Y15: 88 | Z15: 80歳上 | AA15: 11 | AB15: 13 | AC15: 中学2年生 | AD15: 88 | AE15: 4000 | AF15: 88 | AG15: 4000 | AH15: 88 | AI15: - | AJ15: 88 | AK15: 4000 | AL15: 88 | AM15: 4000 | AN15: 88 | AO15: 4000 | AP15: 88 | AQ15: - | AR15: OPEN
A16: 87 | B16: 成年C | C16: 4 | D16: 87 | E16: 成年B | F16: 3 | G16: 87 | H16: 成年C | I16: 6 | J16: 87 | K16: 成年B | L16: 5 | M16: 87 | N16: 61以上 | O16: 8 | P16: 87 | Q16: 61以上 | R16: 8 | S16: 87 | T16: - | U16: - | V16: 87 | W16: 80歳上 | X16: 11 | Y16: 87 | Z16: 80歳上 | AA16: 11 | AB16: 12 | AC16: 中学1年生 | AD16: 87 | AE16: 4000 | AF16: 87 | AG16: 4000 | AH16: 87 | AI16: - | AJ16: 87 | AK16: 4000 | AL16: 87 | AM16: 4000 | AN16: 87 | AO16: 4000 | AP16: 87 | AQ16: - | AR16: 通常・OPEN
A17: 86 | B17: 成年C | C17: 4 | D17: 86 | E17: 成年B | F17: 3 | G17: 86 | H17: 成年C | I17: 6 | J17: 86 | K17: 成年B | L17: 5 | M17: 86 | N17: 61以上 | O17: 8 | P17: 86 | Q17: 61以上 | R17: 8 | S17: 86 | T17: - | U17: - | V17: 86 | W17: 80歳上 | X17: 11 | Y17: 86 | Z17: 80歳上 | AA17: 11 | AB17: 11 | AC17: 小学6年生 | AD17: 86 | AE17: 4000 | AF17: 86 | AG17: 4000 | AH17: 86 | AI17: - | AJ17: 86 | AK17: 4000 | AL17: 86 | AM17: 4000 | AN17: 86 | AO17: 4000 | AP17: 86 | AQ17: - | AR17: Jrふじてん
A18: 85 | B18: 成年C | C18: 4 | D18: 85 | E18: 成年B | F18: 3 | G18: 85 | H18: 成年C | I18: 6 | J18: 85 | K18: 成年B | L18: 5 | M18: 85 | N18: 61以上 | O18: 8 | P18: 85 | Q18: 61以上 | R18: 8 | S18: 85 | T18: - | U18: - | V18: 85 | W18: 80歳上 | X18: 11 | Y18: 85 | Z18: 80歳上 | AA18: 11 | AB18: 10 | AC18: 小学5年生 | AD18: 85 | AE18: 4000 | AF18: 85 | AG18: 4000 | AH18: 85 | AI18: - | AJ18: 85 | AK18: 4000 | AL18: 85 | AM18: 4000 | AN18: 85 | AO18: 4000 | AP18: 85 | AQ18: -
A19: 84 | B19: 成年C | C19: 4 | D19: 84 | E19: 成年B | F19: 3 | G19: 84 | H19: 成年C | I19: 6 | J19: 84 | K19: 成年B | L19: 5 | M19: 84 | N19: 61以上 | O19: 8 | P19: 84 | Q19: 61以上 | R19: 8 | S19: 84 | T19: - | U19: - | V19: 84 | W19: 80歳上 | X19: 11 | Y19: 84 | Z19: 80歳上 | AA19: 11 | AB19: 9 | AC19: 小学4年生 | AD19: 84 | AE19: 4000 | AF19: 84 | AG19: 4000 | AH19: 84 | AI19: - | AJ19: 84 | AK19: 4000 | AL19: 84 | AM19: 4000 | AN19: 84 | AO19: 4000 | AP19: 84 | AQ19: -
A20: 83 | B20: 成年C | C20: 4 | D20: 83 | E20: 成年B | F20: 3 | G20: 83 | H20: 成年C | I20: 6 | J20: 83 | K20: 成年B | L20: 5 | M20: 83 | N20: 61以上 | O20: 8 | P20: 83 | Q20: 61以上 | R20: 8 | S20: 83 | T20: - | U20: - | V20: 83 | W20: 80歳上 | X20: 11 | Y20: 83 | Z20: 80歳上 | AA20: 11 | AB20: 8 | AC20: 小学3年生 | AD20: 83 | AE20: 4000 | AF20: 83 | AG20: 4000 | AH20: 83 | AI20: - | AJ20: 83 | AK20: 4000 | AL20: 83 | AM20: 4000 | AN20: 83 | AO20: 4000 | AP20: 83 | AQ20: -
A21: 82 | B21: 成年C | C21: 4 | D21: 82 | E21: 成年B | F21: 3 | G21: 82 | H21: 成年C | I21: 6 | J21: 82 | K21: 成年B | L21: 5 | M21: 82 | N21: 61以上 | O21: 8 | P21: 82 | Q21: 61以上 | R21: 8 | S21: 82 | T21: - | U21: - | V21: 82 | W21: 80歳上 | X21: 11 | Y21: 82 | Z21: 80歳上 | AA21: 11 | AB21: 7 | AC21: 小学2年生 | AD21: 82 | AE21: 4000 | AF21: 82 | AG21: 4000 | AH21: 82 | AI21: - | AJ21: 82 | AK21: 4000 | AL21: 82 | AM21: 4000 | AN21: 82 | AO21: 4000 | AP21: 82 | AQ21: -
A22: 81 | B22: 成年C | C22: 4 | D22: 81 | E22: 成年B | F22: 3 | G22: 81 | H22: 成年C | I22: 6 | J22: 81 | K22: 成年B | L22: 5 | M22: 81 | N22: 61以上 | O22: 8 | P22: 81 | Q22: 61以上 | R22: 8 | S22: 81 | T22: - | U22: - | V22: 81 | W22: 80歳上 | X22: 11 | Y22: 81 | Z22: 80歳上 | AA22: 11 | AB22: 6 | AC22: 小学1年生 | AD22: 81 | AE22: 4000 | AF22: 81 | AG22: 4000 | AH22: 81 | AI22: - | AJ22: 81 | AK22: 4000 | AL22: 81 | AM22: 4000 | AN22: 81 | AO22: 4000 | AP22: 81 | AQ22: -
A23: 80 | B23: 成年C | C23: 4 | D23: 80 | E23: 成年B | F23: 3 | G23: 80 | H23: 成年C | I23: 6 | J23: 80 | K23: 成年B | L23: 5 | M23: 80 | N23: 61以上 | O23: 8 | P23: 80 | Q23: 61以上 | R23: 8 | S23: 80 | T23: - | U23: - | V23: 80 | W23: 80歳上 | X23: 11 | Y23: 80 | Z23: 80歳上 | AA23: 11 | AD23: 80 | AE23: 4000 | AF23: 80 | AG23: 4000 | AH23: 80 | AI23: - | AJ23: 80 | AK23: 4000 | AL23: 80 | AM23: 4000 | AN23: 80 | AO23: 4000 | AP23: 80 | AQ23: -
A24: 79 | B24: 成年C | C24: 4 | D24: 79 | E24: 成年B | F24: 3 | G24: 79 | H24: 成年C | I24: 6 | J24: 79 | K24: 成年B | L24: 5 | M24: 79 | N24: 61以上 | O24: 8 | P24: 79 | Q24: 61以上 | R24: 8 | S24: 79 | T24: - | U24: - | V24: 79 | W24: 75歳代 | X24: 10 | Y24: 79 | Z24: 75歳代 | AA24: 10 | AD24: 79 | AE24: 4000 | AF24: 79 | AG24: 4000 | AH24: 79 | AI24: - | AJ24: 79 | AK24: 4000 | AL24: 79 | AM24: 4000 | AN24: 79 | AO24: 4000 | AP24: 79 | AQ24: -
A25: 78 | B25: 成年C | C25: 4 | D25: 78 | E25: 成年B | F25: 3 | G25: 78 | H25: 成年C | I25: 6 | J25: 78 | K25: 成年B | L25: 5 | M25: 78 | N25: 61以上 | O25: 8 | P25: 78 | Q25: 61以上 | R25: 8 | S25: 78 | T25: - | U25: - | V25: 78 | W25: 75歳代 | X25: 10 | Y25: 78 | Z25: 75歳代 | AA25: 10 | AD25: 78 | AE25: 4000 | AF25: 78 | AG25: 4000 | AH25: 78 | AI25: - | AJ25: 78 | AK25: 4000 | AL25: 78 | AM25: 4000 | AN25: 78 | AO25: 4000 | AP25: 78 | AQ25: -
A26: 77 | B26: 成年C | C26: 4 | D26: 77 | E26: 成年B | F26: 3 | G26: 77 | H26: 成年C | I26: 6 | J26: 77 | K26: 成年B | L26: 5 | M26: 77 | N26: 61以上 | O26: 8 | P26: 77 | Q26: 61以上 | R26: 8 | S26: 77 | T26: - | U26: - | V26: 77 | W26: 75歳代 | X26: 10 | Y26: 77 | Z26: 75歳代 | AA26: 10 | AD26: 77 | AE26: 4000 | AF26: 77 | AG26: 4000 | AH26: 77 | AI26: - | AJ26: 77 | AK26: 4000 | AL26: 77 | AM26: 4000 | AN26: 77 | AO26: 4000 | AP26: 77 | AQ26: -
A27: 76 | B27: 成年C | C27: 4 | D27: 76 | E27: 成年B | F27: 3 | G27: 76 | H27: 成年C | I27: 6 | J27: 76 | K27: 成年B | L27: 5 | M27: 76 | N27: 61以上 | O27: 8 | P27: 76 | Q27: 61以上 | R27: 8 | S27: 76 | T27: - | U27: - | V27: 76 | W27: 75歳代 | X27: 10 | Y27: 76 | Z27: 75歳代 | AA27: 10 | AD27: 76 | AE27: 4000 | AF27: 76 | AG27: 4000 | AH27: 76 | AI27: - | AJ27: 76 | AK27: 4000 | AL27: 76 | AM27: 4000 | AN27: 76 | AO27: 4000 | AP27: 76 | AQ27: -
A28: 75 | B28: 成年C | C28: 4 | D28: 75 | E28: 成年B | F28: 3 | G28: 75 | H28: 成年C | I28: 6 | J28: 75 | K28: 成年B | L28: 5 | M28: 75 | N28: 61以上 | O28: 8 | P28: 75 | Q28: 61以上 | R28: 8 | S28: 75 | T28: - | U28: - | V28: 75 | W28: 75歳代 | X28: 10 | Y28: 75 | Z28: 75歳代 | AA28: 10 | AD28: 75 | AE28: 4000 | AF28: 75 | AG28: 4000 | AH28: 75 | AI28: - | AJ28: 75 | AK28: 4000 | AL28: 75 | AM28: 4000 | AN28: 75 | AO28: 4000 | AP28: 75 | AQ28: -
A29: 74 | B29: 成年C | C29: 4 | D29: 74 | E29: 成年B | F29: 3 | G29: 74 | H29: 成年C | I29: 6 | J29: 74 | K29: 成年B | L29: 5 | M29: 74 | N29: 61以上 | O29: 8 | P29: 74 | Q29: 61以上 | R29: 8 | S29: 74 | T29: - | U29: - | V29: 74 | W29: 70歳代 | X29: 9 | Y29: 74 | Z29: 70歳代 | AA29: 9 | AD29: 74 | AE29: 4000 | AF29: 74 | AG29: 4000 | AH29: 74 | AI29: - | AJ29: 74 | AK29: 4000 | AL29: 74 | AM29: 4000 | AN29: 74 | AO29: 4000 | AP29: 74 | AQ29: -
A30: 73 | B30: 成年C | C30: 4 | D30: 73 | E30: 成年B | F30: 3 | G30: 73 | H30: 成年C | I30: 6 | J30: 73 | K30: 成年B | L30: 5 | M30: 73 | N30: 61以上 | O30: 8 | P30: 73 | Q30: 61以上 | R30: 8 | S30: 73 | T30: - | U30: - | V30: 73 | W30: 70歳代 | X30: 9 | Y30: 73 | Z30: 70歳代 | AA30: 9 | AD30: 73 | AE30: 4000 | AF30: 73 | AG30: 4000 | AH30: 73 | AI30: - | AJ30: 73 | AK30: 4000 | AL30: 73 | AM30: 4000 | AN30: 73 | AO30: 4000 | AP30: 73 | AQ30: -
A31: 72 | B31: 成年C | C31: 4 | D31: 72 | E31: 成年B | F31: 3 | G31: 72 | H31: 成年C | I31: 6 | J31: 72 | K31: 成年B | L31: 5 | M31: 72 | N31: 61以上 | O31: 8 | P31: 72 | Q31: 61以上 | R31: 8 | S31: 72 | T31: - | U31: - | V31: 72 | W31: 70歳代 | X31: 9 | Y31: 72 | Z31: 70歳代 | AA31: 9 | AD31: 72 | AE31: 4000 | AF31: 72 | AG31: 4000 | AH31: 72 | AI31: - | AJ31: 72 | AK31: 4000 | AL31: 72 | AM31: 4000 | AN31: 72 | AO31: 4000 | AP31: 72 | AQ31: -
A32: 71 | B32: 成年C | C32: 4 | D32: 71 | E32: 成年B | F32: 3 | G32: 71 | H32: 成年C | I32: 6 | J32: 71 | K32: 成年B | L32: 5 | M32: 71 | N32: 61以上 | O32: 8 | P32: 71 | Q32: 61以上 | R32: 8 | S32: 71 | T32: - | U32: - | V32: 71 | W32: 70歳代 | X32: 9 | Y32: 71 | Z32: 70歳代 | AA32: 9 | AD32: 71 | AE32: 4000 | AF32: 71 | AG32: 4000 | AH32: 71 | AI32: - | AJ32: 71 | AK32: 4000 | AL32: 71 | AM32: 4000 | AN32: 71 | AO32: 4000 | AP32: 71 | AQ32: -
