Workbook

Sheet 注意事項
B1: 記入に際しての注意事項
B3: エントリーマニュアルに従って入力してください。
B4: MacOSの方は、Numbersソフトは使用せず、Excelソフトのみ使用してください。

Sheet ﾄｰﾀﾙ
A1: 第1回エントリーファイル（期限前エントリー用）
A2: 送信日
A3: クラブ名
A4: クラブ名（カナ）
A5: 事務担当者名
A6: 事務担当者連絡先
A8: 日程 | B8: 大会名 | C8: カテゴリー | D8: エントリー費 | E8: 人数 | F8: 合計 | G8: 監督名 | H8: 旗門員氏名
A9: 45298 | B9: 山梨OPEN 第1戦 兼中学校選手権 | C9: 高校生以下 | D9: 3000 | E9: =COUNTIF(エントリー!AU6:AU80,3000) -> 0 | F9: =D9*E9 -> 0
C10: 一般 | D10: 4000 | E10: =COUNTIF(エントリー!AU6:AU80,4000) -> 0 | F10: =D10*E10 -> 0
A11: 45299 | B11: 第78回 国体予選会 | C11: 高校生以下 | D11: 3000 | E11: =COUNTIF(エントリー!AW6:AW80,3000) -> 0 | F11: =D11*E11 -> 0
C12: 一般 | D12: 4000 | E12: =COUNTIF(エントリー!AW6:AW80,4000) -> 0 | F12: =D12*E12 -> 0
B13: 山梨県SL選手権 兼中学校選手権 | C13: 高校生以下 | D13: 2500 | E13: =COUNTIF(エントリー!AY6:AY80,2500) -> 0 | F13: =D13*E13 -> 0
C14: 一般 | D14: 4000 | E14: =COUNTIF(エントリー!AY6:AY80,4000) -> 0 | F14: =D14*E14 -> 0
A15: 45312 | B15: 全日本マスターズ予選 | C15: 一般 | D15: 4000 | E15: =COUNTIF(エントリー!BA6:BA80,4000) -> 0 | F15: =D15*E15 -> 0
B16: 小中学生GS | C16: 中学生以下 | D16: 2500 | E16: =COUNTIF(エントリー!BC6:BC80,2500) -> 0 | F16: =D16*E16 -> 0
A17: 第1回エントリー合計金額 | C17: =SUM(F9:F16) -> 0
A18: SAY競技者登録 | C18: 小学3年生以下 | D18: 500 | E18: =COUNTIF(個表!AB4:AB78,500) -> 0 | F18: =E18*D18 -> 0
C19: 小学4年生以上 | D19: 1000 | E19: =COUNTIF(個表!AB4:AB78,1000) -> 0 | F19: =E19*D19 -> 0
C20: =個表!AB79 -> 0
A21: SAY負担金（山梨県スキー連盟以外でSAJ登録をしているもの） | C21: 一律 | D21: 2000 | F21: =D21*E21 -> 0
A22: 支払合計金額 | C22: =C17+C20+F21 -> 0

Sheet 個表
A1: 個表欄
A2: <NO> | B2: SAJ会員 番号 （半角数字） | C2: 姓 （漢字） | D2: 名 （漢字） | E2: 姓 （半角ｶﾅ） | F2: 名 （半角ｶﾅ） | G2: 生年月日 （半角） | H2: 性別 (選択制) 男子：1 女子：2 | I2: 学校名 （学生のみ） | J2: 漢字氏名 (自動入力) | K2: 国名 (自動入力) | L2: 県連盟 (自動入力) | M2: SAY DHポイント （SAY記載） | N2: SAY SLポイント （SAY記載） | O2: SAY GSポイント （SAY記載） | P2: SAY SGポイント （SAY記載） | Q2: 所属 (自動入力) | R2: ｶﾅ氏名 （自動入力） | S2: 学年 (自動入力) | T2: 所属名 カナ (自動入力) | U2: 国体基準 年齢 (自動入力) | V2: マスターズ 大会 基準年齢 (自動入力) | W2: 国体予選 カテゴリ (自動入力) | X2: ポイント レース カテゴリ (自動入力) | Y2: OPENレース カテゴリ (自動入力) | Z2: Jｒ大会 カテゴリ (自動入力) | AA2: マスターズ カテゴリ (自動入力) | AB2: SAY選手 登録 (自動入力) | AC2: 傷害保険 会社名 | AD2: 傷害保険 証券番号 | AE2: マスターズ クロスカントリー のみ参加
A4: 1 | J4: =CONCATENATE(C4," ",D4) | K4: =IF(B4="","","JPN") | L4: =IF(B4="","","山梨県スキー連盟") | Q4: =IF($B4="", "",ﾄｰﾀﾙ!$B$3 ) | R4: =CONCATENATE(E4," ",F4) | S4: =IF(I4="","",VLOOKUP(U4,連盟使用!$AB$3:$AC$22,2,FALSE)) | T4: =IF($B4="", "",ﾄｰﾀﾙ!$B$4) | U4: =IF(G4="","",DATEDIF(G4,連盟使用!$AS$3,"Y")) | V4: =IF(G4="","",DATEDIF(G4,連盟使用!$AT$3,"Y")) | W4: =IF($U4="","",IF($H4=1,VLOOKUP($U4,連盟使用!$A$3:$C$100,3,FALSE),VLOOKUP($U4,連盟使用!$D$3:$F$100,3,FALSE))) | X4: =IF($U4="","",IF($H4=1,VLOOKUP($U4,連盟使用!$G$3:$I$100,3,FALSE),VLOOKUP($U4,連盟使用!$J$3:$L$100,3,FALSE))) | Y4: =IF($U4="","",IF($H4=1,VLOOKUP($U4,連盟使用!$M$3:$O$100,3,FALSE),VLOOKUP($U4,連盟使用!$P$3:$R$100,3,FALSE))) | Z4: =IF($U4="","",VLOOKUP($U4,連盟使用!$S$3:$U$100,3,FALSE)) | AA4: =IF($V4="","",IF($H4=1,VLOOKUP($V4,連盟使用!$V$3:$X$100,3,FALSE),VLOOKUP($V4,連盟使用!$Y$3:$AA$100,3,FALSE))) | AB4: =IF(U4="","",IF(AE4="○",0,IF(U4>=9,1000,500)))
A5: 2 | J5: =CONCATENATE(C5," ",D5) | K5: =IF(B5="","","JPN") | L5: =IF(B5="","","山梨県スキー連盟") | Q5: =IF($B5="", "",ﾄｰﾀﾙ!$B$3 ) | R5: =CONCATENATE(E5," ",F5) | S5: =IF(I5="","",VLOOKUP(U5,連盟使用!$AB$3:$AC$22,2,FALSE)) | T5: =IF($B5="", "",ﾄｰﾀﾙ!$B$4) | U5: =IF(G5="","",DATEDIF(G5,連盟使用!$AS$3,"Y")) | V5: =IF(G5="","",DATEDIF(G5,連盟使用!$AT$3,"Y")) | W5: =IF($U5="","",IF($H5=1,VLOOKUP($U5,連盟使用!$A$3:$C$100,3,FALSE),VLOOKUP($U5,連盟使用!$D$3:$F$100,3,FALSE))) | X5: =IF($U5="","",IF($H5=1,VLOOKUP($U5,連盟使用!$G$3:$I$100,3,FALSE),VLOOKUP($U5,連盟使用!$J$3:$L$100,3,FALSE))) | Y5: =IF($U5="","",IF($H5=1,VLOOKUP($U5,連盟使用!$M$3:$O$100,3,FALSE),VLOOKUP($U5,連盟使用!$P$3:$R$100,3,FALSE))) | Z5: =IF($U5="","",VLOOKUP($U5,連盟使用!$S$3:$U$100,3,FALSE)) | AA5: =IF($V5="","",IF($H5=1,VLOOKUP($V5,連盟使用!$V$3:$X$100,3,FALSE),VLOOKUP($V5,連盟使用!$Y$3:$AA$100,3,FALSE))) | AB5: =IF(U5="","",IF(AE5="○",0,IF(U5>=9,1000,500)))
A6: 3 | J6: =CONCATENATE(C6," ",D6) | K6: =IF(B6="","","JPN") | L6: =IF(B6="","","山梨県スキー連盟") | Q6: =IF($B6="", "",ﾄｰﾀﾙ!$B$3 ) | R6: =CONCATENATE(E6," ",F6) | S6: =IF(I6="","",VLOOKUP(U6,連盟使用!$AB$3:$AC$22,2,FALSE)) | T6: =IF($B6="", "",ﾄｰﾀﾙ!$B$4) | U6: =IF(G6="","",DATEDIF(G6,連盟使用!$AS$3,"Y")) | V6: =IF(G6="","",DATEDIF(G6,連盟使用!$AT$3,"Y")) | W6: =IF($U6="","",IF($H6=1,VLOOKUP($U6,連盟使用!$A$3:$C$100,3,FALSE),VLOOKUP($U6,連盟使用!$D$3:$F$100,3,FALSE))) | X6: =IF($U6="","",IF($H6=1,VLOOKUP($U6,連盟使用!$G$3:$I$100,3,FALSE),VLOOKUP($U6,連盟使用!$J$3:$L$100,3,FALSE))) | Y6: =IF($U6="","",IF($H6=1,VLOOKUP($U6,連盟使用!$M$3:$O$100,3,FALSE),VLOOKUP($U6,連盟使用!$P$3:$R$100,3,FALSE))) | Z6: =IF($U6="","",VLOOKUP($U6,連盟使用!$S$3:$U$100,3,FALSE)) | AA6: =IF($V6="","",IF($H6=1,VLOOKUP($V6,連盟使用!$V$3:$X$100,3,FALSE),VLOOKUP($V6,連盟使用!$Y$3:$AA$100,3,FALSE))) | AB6: =IF(U6="","",IF(AE6="○",0,IF(U6>=9,1000,500)))
A7: 4 | J7: =CONCATENATE(C7," ",D7) | K7: =IF(B7="","","JPN") | L7: =IF(B7="","","山梨県スキー連盟") | Q7: =IF($B7="", "",ﾄｰﾀﾙ!$B$3 ) | R7: =CONCATENATE(E7," ",F7) | S7: =IF(I7="","",VLOOKUP(U7,連盟使用!$AB$3:$AC$22,2,FALSE)) | T7: =IF($B7="", "",ﾄｰﾀﾙ!$B$4) | U7: =IF(G7="","",DATEDIF(G7,連盟使用!$AS$3,"Y")) | V7: =IF(G7="","",DATEDIF(G7,連盟使用!$AT$3,"Y")) | W7: =IF($U7="","",IF($H7=1,VLOOKUP($U7,連盟使用!$A$3:$C$100,3,FALSE),VLOOKUP($U7,連盟使用!$D$3:$F$100,3,FALSE))) | X7: =IF($U7="","",IF($H7=1,VLOOKUP($U7,連盟使用!$G$3:$I$100,3,FALSE),VLOOKUP($U7,連盟使用!$J$3:$L$100,3,FALSE))) | Y7: =IF($U7="","",IF($H7=1,VLOOKUP($U7,連盟使用!$M$3:$O$100,3,FALSE),VLOOKUP($U7,連盟使用!$P$3:$R$100,3,FALSE))) | Z7: =IF($U7="","",VLOOKUP($U7,連盟使用!$S$3:$U$100,3,FALSE)) | AA7: =IF($V7="","",IF($H7=1,VLOOKUP($V7,連盟使用!$V$3:$X$100,3,FALSE),VLOOKUP($V7,連盟使用!$Y$3:$AA$100,3,FALSE))) | AB7: =IF(U7="","",IF(AE7="○",0,IF(U7>=9,1000,500)))
A8: 5 | J8: =CONCATENATE(C8," ",D8) | K8: =IF(B8="","","JPN") | L8: =IF(B8="","","山梨県スキー連盟") | Q8: =IF($B8="", "",ﾄｰﾀﾙ!$B$3 ) | R8: =CONCATENATE(E8," ",F8) | S8: =IF(I8="","",VLOOKUP(U8,連盟使用!$AB$3:$AC$22,2,FALSE)) | T8: =IF($B8="", "",ﾄｰﾀﾙ!$B$4) | U8: =IF(G8="","",DATEDIF(G8,連盟使用!$AS$3,"Y")) | V8: =IF(G8="","",DATEDIF(G8,連盟使用!$AT$3,"Y")) | W8: =IF($U8="","",IF($H8=1,VLOOKUP($U8,連盟使用!$A$3:$C$100,3,FALSE),VLOOKUP($U8,連盟使用!$D$3:$F$100,3,FALSE))) | X8: =IF($U8="","",IF($H8=1,VLOOKUP($U8,連盟使用!$G$3:$I$100,3,FALSE),VLOOKUP($U8,連盟使用!$J$3:$L$100,3,FALSE))) | Y8: =IF($U8="","",IF($H8=1,VLOOKUP($U8,連盟使用!$M$3:$O$100,3,FALSE),VLOOKUP($U8,連盟使用!$P$3:$R$100,3,FALSE))) | Z8: =IF($U8="","",VLOOKUP($U8,連盟使用!$S$3:$U$100,3,FALSE)) | AA8: =IF($V8="","",IF($H8=1,VLOOKUP($V8,連盟使用!$V$3:$X$100,3,FALSE),VLOOKUP($V8,連盟使用!$Y$3:$AA$100,3,FALSE))) | AB8: =IF(U8="","",IF(AE8="○",0,IF(U8>=9,1000,500)))
A9: 6 | J9: =CONCATENATE(C9," ",D9) | K9: =IF(B9="","","JPN") | L9: =IF(B9="","","山梨県スキー連盟") | Q9: =IF($B9="", "",ﾄｰﾀﾙ!$B$3 ) | R9: =CONCATENATE(E9," ",F9) | S9: =IF(I9="","",VLOOKUP(U9,連盟使用!$AB$3:$AC$22,2,FALSE)) | T9: =IF($B9="", "",ﾄｰﾀﾙ!$B$4) | U9: =IF(G9="","",DATEDIF(G9,連盟使用!$AS$3,"Y")) | V9: =IF(G9="","",DATEDIF(G9,連盟使用!$AT$3,"Y")) | W9: =IF($U9="","",IF($H9=1,VLOOKUP($U9,連盟使用!$A$3:$C$100,3,FALSE),VLOOKUP($U9,連盟使用!$D$3:$F$100,3,FALSE))) | X9: =IF($U9="","",IF($H9=1,VLOOKUP($U9,連盟使用!$G$3:$I$100,3,FALSE),VLOOKUP($U9,連盟使用!$J$3:$L$100,3,FALSE))) | Y9: =IF($U9="","",IF($H9=1,VLOOKUP($U9,連盟使用!$M$3:$O$100,3,FALSE),VLOOKUP($U9,連盟使用!$P$3:$R$100,3,FALSE))) | Z9: =IF($U9="","",VLOOKUP($U9,連盟使用!$S$3:$U$100,3,FALSE)) | AA9: =IF($V9="","",IF($H9=1,VLOOKUP($V9,連盟使用!$V$3:$X$100,3,FALSE),VLOOKUP($V9,連盟使用!$Y$3:$AA$100,3,FALSE))) | AB9: =IF(U9="","",IF(AE9="○",0,IF(U9>=9,1000,500)))
A10: 7 | J10: =CONCATENATE(C10," ",D10) | K10: =IF(B10="","","JPN") | L10: =IF(B10="","","山梨県スキー連盟") | Q10: =IF($B10="", "",ﾄｰﾀﾙ!$B$3 ) | R10: =CONCATENATE(E10," ",F10) | S10: =IF(I10="","",VLOOKUP(U10,連盟使用!$AB$3:$AC$22,2,FALSE)) | T10: =IF($B10="", "",ﾄｰﾀﾙ!$B$4) | U10: =IF(G10="","",DATEDIF(G10,連盟使用!$AS$3,"Y")) | V10: =IF(G10="","",DATEDIF(G10,連盟使用!$AT$3,"Y")) | W10: =IF($U10="","",IF($H10=1,VLOOKUP($U10,連盟使用!$A$3:$C$100,3,FALSE),VLOOKUP($U10,連盟使用!$D$3:$F$100,3,FALSE))) | X10: =IF($U10="","",IF($H10=1,VLOOKUP($U10,連盟使用!$G$3:$I$100,3,FALSE),VLOOKUP($U10,連盟使用!$J$3:$L$100,3,FALSE))) | Y10: =IF($U10="","",IF($H10=1,VLOOKUP($U10,連盟使用!$M$3:$O$100,3,FALSE),VLOOKUP($U10,連盟使用!$P$3:$R$100,3,FALSE))) | Z10: =IF($U10="","",VLOOKUP($U10,連盟使用!$S$3:$U$100,3,FALSE)) | AA10: =IF($V10="","",IF($H10=1,VLOOKUP($V10,連盟使用!$V$3:$X$100,3,FALSE),VLOOKUP($V10,連盟使用!$Y$3:$AA$100,3,FALSE))) | AB10: =IF(U10="","",IF(AE10="○",0,IF(U10>=9,1000,500)))
A11: 8 | J11: =CONCATENATE(C11," ",D11) | K11: =IF(B11="","","JPN") | L11: =IF(B11="","","山梨県スキー連盟") | Q11: =IF($B11="", "",ﾄｰﾀﾙ!$B$3 ) | R11: =CONCATENATE(E11," ",F11) | S11: =IF(I11="","",VLOOKUP(U11,連盟使用!$AB$3:$AC$22,2,FALSE)) | T11: =IF($B11="", "",ﾄｰﾀﾙ!$B$4) | U11: =IF(G11="","",DATEDIF(G11,連盟使用!$AS$3,"Y")) | V11: =IF(G11="","",DATEDIF(G11,連盟使用!$AT$3,"Y")) | W11: =IF($U11="","",IF($H11=1,VLOOKUP($U11,連盟使用!$A$3:$C$100,3,FALSE),VLOOKUP($U11,連盟使用!$D$3:$F$100,3,FALSE))) | X11: =IF($U11="","",IF($H11=1,VLOOKUP($U11,連盟使用!$G$3:$I$100,3,FALSE),VLOOKUP($U11,連盟使用!$J$3:$L$100,3,FALSE))) | Y11: =IF($U11="","",IF($H11=1,VLOOKUP($U11,連盟使用!$M$3:$O$100,3,FALSE),VLOOKUP($U11,連盟使用!$P$3:$R$100,3,FALSE))) | Z11: =IF($U11="","",VLOOKUP($U11,連盟使用!$S$3:$U$100,3,FALSE)) | AA11: =IF($V11="","",IF($H11=1,VLOOKUP($V11,連盟使用!$V$3:$X$100,3,FALSE),VLOOKUP($V11,連盟使用!$Y$3:$AA$100,3,FALSE))) | AB11: =IF(U11="","",IF(AE11="○",0,IF(U11>=9,1000,500)))
A12: 9 | J12: =CONCATENATE(C12," ",D12) | K12: =IF(B12="","","JPN") | L12: =IF(B12="","","山梨県スキー連盟") | Q12: =IF($B12="", "",ﾄｰﾀﾙ!$B$3 ) | R12: =CONCATENATE(E12," ",F12) | S12: =IF(I12="","",VLOOKUP(U12,連盟使用!$AB$3:$AC$22,2,FALSE)) | T12: =IF($B12="", "",ﾄｰﾀﾙ!$B$4) | U12: =IF(G12="","",DATEDIF(G12,連盟使用!$AS$3,"Y")) | V12: =IF(G12="","",DATEDIF(G12,連盟使用!$AT$3,"Y")) | W12: =IF($U12="","",IF($H12=1,VLOOKUP($U12,連盟使用!$A$3:$C$100,3,FALSE),VLOOKUP($U12,連盟使用!$D$3:$F$100,3,FALSE))) | X12: =IF($U12="","",IF($H12=1,VLOOKUP($U12,連盟使用!$G$3:$I$100,3,FALSE),VLOOKUP($U12,連盟使用!$J$3:$L$100,3,FALSE))) | Y12: =IF($U12="","",IF($H12=1,VLOOKUP($U12,連盟使用!$M$3:$O$100,3,FALSE),VLOOKUP($U12,連盟使用!$P$3:$R$100,3,FALSE))) | Z12: =IF($U12="","",VLOOKUP($U12,連盟使用!$S$3:$U$100,3,FALSE)) | AA12: =IF($V12="","",IF($H12=1,VLOOKUP($V12,連盟使用!$V$3:$X$100,3,FALSE),VLOOKUP($V12,連盟使用!$Y$3:$AA$100,3,FALSE))) | AB12: =IF(U12="","",IF(AE12="○",0,IF(U12>=9,1000,500)))
A13: 10 | J13: =CONCATENATE(C13," ",D13) | K13: =IF(B13="","","JPN") | L13: =IF(B13="","","山梨県スキー連盟") | Q13: =IF($B13="", "",ﾄｰﾀﾙ!$B$3 ) | R13: =CONCATENATE(E13," ",F13) | S13: =IF(I13="","",VLOOKUP(U13,連盟使用!$AB$3:$AC$22,2,FALSE)) | T13: =IF($B13="", "",ﾄｰﾀﾙ!$B$4) | U13: =IF(G13="","",DATEDIF(G13,連盟使用!$AS$3,"Y")) | V13: =IF(G13="","",DATEDIF(G13,連盟使用!$AT$3,"Y")) | W13: =IF($U13="","",IF($H13=1,VLOOKUP($U13,連盟使用!$A$3:$C$100,3,FALSE),VLOOKUP($U13,連盟使用!$D$3:$F$100,3,FALSE))) | X13: =IF($U13="","",IF($H13=1,VLOOKUP($U13,連盟使用!$G$3:$I$100,3,FALSE),VLOOKUP($U13,連盟使用!$J$3:$L$100,3,FALSE))) | Y13: =IF($U13="","",IF($H13=1,VLOOKUP($U13,連盟使用!$M$3:$O$100,3,FALSE),VLOOKUP($U13,連盟使用!$P$3:$R$100,3,FALSE))) | Z13: =IF($U13="","",VLOOKUP($U13,連盟使用!$S$3:$U$100,3,FALSE)) | AA13: =IF($V13="","",IF($H13=1,VLOOKUP($V13,連盟使用!$V$3:$X$100,3,FALSE),VLOOKUP($V13,連盟使用!$Y$3:$AA$100,3,FALSE))) | AB13: =IF(U13="","",IF(AE13="○",0,IF(U13>=9,1000,500)))
A14: 11 | J14: =CONCATENATE(C14," ",D14) | K14: =IF(B14="","","JPN") | L14: =IF(B14="","","山梨県スキー連盟") | Q14: =IF($B14="", "",ﾄｰﾀﾙ!$B$3 ) | R14: =CONCATENATE(E14," ",F14) | S14: =IF(I14="","",VLOOKUP(U14,連盟使用!$AB$3:$AC$22,2,FALSE)) | T14: =IF($B14="", "",ﾄｰﾀﾙ!$B$4) | U14: =IF(G14="","",DATEDIF(G14,連盟使用!$AS$3,"Y")) | V14: =IF(G14="","",DATEDIF(G14,連盟使用!$AT$3,"Y")) | W14: =IF($U14="","",IF($H14=1,VLOOKUP($U14,連盟使用!$A$3:$C$100,3,FALSE),VLOOKUP($U14,連盟使用!$D$3:$F$100,3,FALSE))) | X14: =IF($U14="","",IF($H14=1,VLOOKUP($U14,連盟使用!$G$3:$I$100,3,FALSE),VLOOKUP($U14,連盟使用!$J$3:$L$100,3,FALSE))) | Y14: =IF($U14="","",IF($H14=1,VLOOKUP($U14,連盟使用!$M$3:$O$100,3,FALSE),VLOOKUP($U14,連盟使用!$P$3:$R$100,3,FALSE))) | Z14: =IF($U14="","",VLOOKUP($U14,連盟使用!$S$3:$U$100,3,FALSE)) | AA14: =IF($V14="","",IF($H14=1,VLOOKUP($V14,連盟使用!$V$3:$X$100,3,FALSE),VLOOKUP($V14,連盟使用!$Y$3:$AA$100,3,FALSE))) | AB14: =IF(U14="","",IF(AE14="○",0,IF(U14>=9,1000,500)))
A15: 12 | J15: =CONCATENATE(C15," ",D15) | K15: =IF(B15="","","JPN") | L15: =IF(B15="","","山梨県スキー連盟") | Q15: =IF($B15="", "",ﾄｰﾀﾙ!$B$3 ) | R15: =CONCATENATE(E15," ",F15) | S15: =IF(I15="","",VLOOKUP(U15,連盟使用!$AB$3:$AC$22,2,FALSE)) | T15: =IF($B15="", "",ﾄｰﾀﾙ!$B$4) | U15: =IF(G15="","",DATEDIF(G15,連盟使用!$AS$3,"Y")) | V15: =IF(G15="","",DATEDIF(G15,連盟使用!$AT$3,"Y")) | W15: =IF($U15="","",IF($H15=1,VLOOKUP($U15,連盟使用!$A$3:$C$100,3,FALSE),VLOOKUP($U15,連盟使用!$D$3:$F$100,3,FALSE))) | X15: =IF($U15="","",IF($H15=1,VLOOKUP($U15,連盟使用!$G$3:$I$100,3,FALSE),VLOOKUP($U15,連盟使用!$J$3:$L$100,3,FALSE))) | Y15: =IF($U15="","",IF($H15=1,VLOOKUP($U15,連盟使用!$M$3:$O$100,3,FALSE),VLOOKUP($U15,連盟使用!$P$3:$R$100,3,FALSE))) | Z15: =IF($U15="","",VLOOKUP($U15,連盟使用!$S$3:$U$100,3,FALSE)) | AA15: =IF($V15="","",IF($H15=1,VLOOKUP($V15,連盟使用!$V$3:$X$100,3,FALSE),VLOOKUP($V15,連盟使用!$Y$3:$AA$100,3,FALSE))) | AB15: =IF(U15="","",IF(AE15="○",0,IF(U15>=9,1000,500)))
... A78: 75 | J78: =CONCATENATE(C78," ",D78) | K78: =IF(B78="","","JPN") | L78: =IF(B78="","","山梨県スキー連盟") | Q78: =IF($B78="", "",ﾄｰﾀﾙ!$B$3 ) | R78: =CONCATENATE(E78," ",F78) | S78: =IF(I78="","",VLOOKUP(U78,連盟使用!$AB$3:$AC$22,2,FALSE)) | T78: =IF($B78="", "",ﾄｰﾀﾙ!$B$4) | U78: =IF(G78="","",DATEDIF(G78,連盟使用!$AS$3,"Y")) | V78: =IF(G78="","",DATEDIF(G78,連盟使用!$AT$3,"Y")) | W78: =IF($U78="","",IF($H78=1,VLOOKUP($U78,連盟使用!$A$3:$C$100,3,FALSE),VLOOKUP($U78,連盟使用!$D$3:$F$100,3,FALSE))) | X78: =IF($U78="","",IF($H78=1,VLOOKUP($U78,連盟使用!$G$3:$I$100,3,FALSE),VLOOKUP($U78,連盟使用!$J$3:$L$100,3,FALSE))) | Y78: =IF($U78="","",IF($H78=1,VLOOKUP($U78,連盟使用!$M$3:$O$100,3,FALSE),VLOOKUP($U78,連盟使用!$P$3:$R$100,3,FALSE))) | Z78: =IF($U78="","",VLOOKUP($U78,連盟使用!$S$3:$U$100,3,FALSE)) | AA78: =IF($V78="","",IF($H78=1,VLOOKUP($V78,連盟使用!$V$3:$X$100,3,FALSE),VLOOKUP($V78,連盟使用!$Y$3:$AA$100,3,FALSE))) | AB78: =IF(U78="","",IF(AE78="○",0,IF(U78>=9,1000,500)))
AB79: =SUM(AB4:AB78) -> 0

Sheet エントリー
A1: 個表欄 | AT1: エントリー
AT2: 45298 | AV2: 45299 | AX2: 45299 | AZ2: 45312 | BB2: 45312
AT3: 種別 | AU3: OPEN | AV3: 種別 | AW3: 国体 | AX3: 種別 | AY3: 通常 | AZ3: 種別 | BA3: MS | BB3: 種別 | BC3: Jr | BD3: 種別 | BF3: 種別 | BH3: 種別 | BJ3: 種別 | BL3: 種別 | BN3: 種別 | BP3: 種別 | BR3: 種別 | BT3: 種別 | BV3: 種別 | BX3: 種別 | BZ3: 種別 | CB3: 種別 | CD3: 種別 | CF3: 種別
A4: <NO> | B4: SAJ会員 番号 （半角数字） | C4: 空欄 | D4: 空欄 | E4: 漢字氏名 (自動入力) | F4: 国名 (自動入力) | G4: 県連盟 (自動入力) | H4: 空欄 | I4: 空欄 | J4: 空欄 | K4: 空欄 | L4: SAY DHポイント (自動入力) | M4: SAY SLポイント (自動入力) | N4: SAY GSポイント (自動入力) | O4: SAY SGポイント (自動入力) | P4: 所属 (自動入力) | Q4: 生年月日 (自動入力) | R4: 空欄 | S4: ｶﾅ氏名 （自動入力） | T4: 学年 (自動入力) | U4: 空欄 | V4: 姓 （自動入力） | W4: 名 （自動入力） | X4: 姓 (自動入力) | Y4: 名 (自動入力) | Z4: 空欄 | AA4: 空欄 | AB4: 空欄 | AC4: 空欄 | AD4: 空欄 | AE4: 性別 (選択制) 男子：1 女子：2 | AF4: 空欄 | AG4: 空欄 | AH4: 空欄 | AI4: 所属名 カナ (自動入力) | AJ4: 空欄 | AK4: 空欄 | AL4: 学校名 （自動入力） | AM4: 国体基準 年齢 (自動入力) | AN4: マスターズ 大会 基準年齢 (自動入力) | AO4: 国体予選 カテゴリ (自動入力) | AP4: ポイント レース カテゴリ (自動入力) | AQ4: OPENレース カテゴリ (自動入力) | AR4: Jｒ大会 カテゴリ (自動入力) | AS4: マスターズ カテゴリ (自動入力) | AT4: 山梨OPEN GS 第1戦 兼中学選手権 | AV4: 第78回 国体予選 GS | AX4: 第76回 SL選手権 兼中学校選手権 | AZ4: 全日本マスターズ予選会 | BB4: 小中学生GS大会
AT5: 出場 | AU5: 金額 (自動計算) | AV5: 出場 | AW5: 金額 (自動計算) | AX5: 出場 | AY5: 金額 (自動計算) | AZ5: 出場 | BA5: 金額 (自動計算) | BB5: 出場 | BC5: 金額 (自動計算) | BD5: 出場 | BE5: 金額 (自動計算) | BF5: 出場 | BG5: 金額 (自動計算) | BH5: 出場 | BI5: 金額 (自動計算) | BJ5: 出場 | BK5: 金額 (自動計算) | BL5: 出場 | BM5: 金額 (自動計算) | BN5: 出場 | BO5: 金額 (自動計算) | BP5: 出場 | BQ5: 金額 (自動計算) | BR5: 出場 | BS5: 金額 (自動計算) | BT5: 出場 | BU5: 金額 (自動計算) | BV5: 出場 | BW5: 金額 (自動計算) | BX5: 出場 | BY5: 金額 (自動計算) | BZ5: 出場 | CA5: 金額 (自動計算) | CB5: 出場 | CC5: 金額 (自動計算) | CD5: 出場 | CE5: 金額 (自動計算) | CF5: 出場 | CG5: 金額 (自動計算) | CH5: 総合計金額
A6: =IF(個表!A4="","",個表!A4) -> 1 | B6: =IF(個表!B4="","",個表!B4) | E6: =IF(個表!J4="","",個表!J4) | F6: =IF(個表!K4="","",個表!K4) | G6: =IF(個表!L4="","",個表!L4) | L6: =IF(個表!M4="","",個表!M4) | M6: =IF(個表!N4="","",個表!N4) | N6: =IF(個表!O4="","",個表!O4) | O6: =IF(個表!P4="","",個表!P4) | P6: =IF(個表!Q4="","",個表!Q4) | Q6: =IF(個表!G4="","",個表!G4) | S6: =IF(個表!R4="","",個表!R4) | T6: =IF(個表!S4="","",個表!S4) | V6: =IF(個表!C4="","",個表!C4) | W6: =IF(個表!D4="","",個表!D4) | X6: =IF(個表!E4="","",個表!E4) | Y6: =IF(個表!F4="","",個表!F4) | AE6: =IF(個表!H4="","",個表!H4) | AI6: =IF(個表!T4="","",個表!T4) | AL6: =IF(個表!I4="","",個表!I4) | AM6: =IF(個表!U4="","",個表!U4) | AN6: =IF(個表!V4="","",個表!V4) | AO6: =IF(個表!W4="","",個表!W4) | AP6: =IF(個表!X4="","",個表!X4) | AQ6: =IF(個表!Y4="","",個表!Y4) | AR6: =IF(個表!Z4="","",個表!Z4) | AS6: =IF(個表!AA4="","",個表!AA4) | AU6: =IF(AT6="","",IF(AND(AT6="○",AU$3="国体"),VLOOKUP($AM6,連盟使用!$AN$3:$AO$100,2,FALSE),IF(AND(AT6="○",AU$3="通常",AU$1="通常・OPEN"),VLOOKUP($AM6,連盟使用!$AF$3:$AG$100,2,FALSE),IF(AND(AT6="○",AU$3="通常"),VLOOKUP($AM6,連盟使用!$AD$3:$AE$100,2,FALSE),IF(AT6="△",10000,IF(AND(AT6="○",AU$3="OPEN"),VLOOKUP($AM6,連盟使用!$AF$3:$AG$100,2,FALSE),IF(AND(AT6="○",AU$3="Jr",AU$1="Jrふじてん"),VLOOKUP($AM6,連盟使用!$AP$3:$AQ$100,2,FALSE),IF(AND(AT6="○",AU$3="Jr"),VLOOKUP($AM6,連盟使用!$AH$3:$AI$100,2,FALSE),IF(AND(AT6="○",AU$3="MS",$AE6=1),VLOOKUP($AN6,連盟使用!$AJ$3:$AK$100,2,FALSE),VLOOKUP($AN6,連盟使用!$AL$3:$AM$100,2,FALSE)))))))))) | AW6: =IF(AV6="","",IF(AND(AV6="○",AW$3="国体"),VLOOKUP($AM6,連盟使用!$AN$3:$AO$100,2,FALSE),IF(AND(AV6="○",AW$3="通常",AW$1="通常・OPEN"),VLOOKUP($AM6,連盟使用!$AF$3:$AG$100,2,FALSE),IF(AND(AV6="○",AW$3="通常"),VLOOKUP($AM6,連盟使用!$AD$3:$AE$100,2,FALSE),IF(AV6="△",10000,IF(AND(AV6="○",AW$3="OPEN"),VLOOKUP($AM6,連盟使用!$AF$3:$AG$100,2,FALSE),IF(AND(AV6="○",AW$3="Jr",AW$1="Jrふじてん"),VLOOKUP($AM6,連盟使用!$AP$3:$AQ$100,2,FALSE),IF(AND(AV6="○",AW$3="Jr"),VLOOKUP($AM6,連盟使用!$AH$3:$AI$100,2,FALSE),IF(AND(AV6="○",AW$3="MS",$AE6=1),VLOOKUP($AN6,連盟使用!$AJ$3:$AK$100,2,FALSE),VLOOKUP($AN6,連盟使用!$AL$3:$AM$100,2,FALSE)))))))))) | AY6: =IF(AX6="","",IF(AND(AX6="○",AY$3="国体"),VLOOKUP($AM6,連盟使用!$AN$3:$AO$100,2,FALSE),IF(AND(AX6="○",AY$3="通常",AY$1="通常・OPEN"),VLOOKUP($AM6,連盟使用!$AF$3:$AG$100,2,FALSE),IF(AND(AX6="○",AY$3="通常"),VLOOKUP($AM6,連盟使用!$AD$3:$AE$100,2,FALSE),IF(AX6="△",10000,IF(AND(AX6="○",AY$3="OPEN"),VLOOKUP($AM6,連盟使用!$AF$3:$AG$100,2,FALSE),IF(AND(AX6="○",AY$3="Jr",AY$1="Jrふじてん"),VLOOKUP($AM6,連盟使用!$AP$3:$AQ$100,2,FALSE),IF(AND(AX6="○",AY$3="Jr"),VLOOKUP($AM6,連盟使用!$AH$3:$AI$100,2,FALSE),IF(AND(AX6="○",AY$3="MS",$AE6=1),VLOOKUP($AN6,連盟使用!$AJ$3:$AK$100,2,FALSE),VLOOKUP($AN6,連盟使用!$AL$3:$AM$100,2,FALSE)))))))))) | BA6: =IF(AZ6="","",IF(AND(AZ6="○",BA$3="国体"),VLOOKUP($AM6,連盟使用!$AN$3:$AO$100,2,FALSE),IF(AND(AZ6="○",BA$3="通常",BA$1="通常・OPEN"),VLOOKUP($AM6,連盟使用!$AF$3:$AG$100,2,FALSE),IF(AND(AZ6="○",BA$3="通常"),VLOOKUP($AM6,連盟使用!$AD$3:$AE$100,2,FALSE),IF(AZ6="△",10000,IF(AND(AZ6="○",BA$3="OPEN"),VLOOKUP($AM6,連盟使用!$AF$3:$AG$100,2,FALSE),IF(AND(AZ6="○",BA$3="Jr",BA$1="Jrふじてん"),VLOOKUP($AM6,連盟使用!$AP$3:$AQ$100,2,FALSE),IF(AND(AZ6="○",BA$3="Jr"),VLOOKUP($AM6,連盟使用!$AH$3:$AI$100,2,FALSE),IF(AND(AZ6="○",BA$3="MS",$AE6=1),VLOOKUP($AN6,連盟使用!$AJ$3:$AK$100,2,FALSE),VLOOKUP($AN6,連盟使用!$AL$3:$AM$100,2,FALSE)))))))))) | BC6: =IF(BB6="","",IF(AND(BB6="○",BC$3="国体"),VLOOKUP($AM6,連盟使用!$AN$3:$AO$100,2,FALSE),IF(AND(BB6="○",BC$3="通常",BC$1="通常・OPEN"),VLOOKUP($AM6,連盟使用!$AF$3:$AG$100,2,FALSE),IF(AND(BB6="○",BC$3="通常"),VLOOKUP($AM6,連盟使用!$AD$3:$AE$100,2,FALSE),IF(BB6="△",10000,IF(AND(BB6="○",BC$3="OPEN"),VLOOKUP($AM6,連盟使用!$AF$3:$AG$100,2,FALSE),IF(AND(BB6="○",BC$3="Jr",BC$1="Jrふじてん"),VLOOKUP($AM6,連盟使用!$AP$3:$AQ$100,2,FALSE),IF(AND(BB6="○",BC$3="Jr"),VLOOKUP($AM6,連盟使用!$AH$3:$AI$100,2,FALSE),IF(AND(BB6="○",BC$3="MS",$AE6=1),VLOOKUP($AN6,連盟使用!$AJ$3:$AK$100,2,FALSE),VLOOKUP($AN6,連盟使用!$AL$3:$AM$100,2,FALSE)))))))))) | BE6: =IF(BD6="","",IF(AND(BD6="○",BE$3="国体"),VLOOKUP($AM6,連盟使用!$AN$3:$AO$100,2,FALSE),IF(AND(BD6="○",BE$3="通常",BE$1="通常・OPEN"),VLOOKUP($AM6,連盟使用!$AF$3:$AG$100,2,FALSE),IF(AND(BD6="○",BE$3="通常"),VLOOKUP($AM6,連盟使用!$AD$3:$AE$100,2,FALSE),IF(BD6="△",10000,IF(AND(BD6="○",BE$3="OPEN"),VLOOKUP($AM6,連盟使用!$AF$3:$AG$100,2,FALSE),IF(AND(BD6="○",BE$3="Jr",BE$1="Jrふじてん"),VLOOKUP($AM6,連盟使用!$AP$3:$AQ$100,2,FALSE),IF(AND(BD6="○",BE$3="Jr"),VLOOKUP($AM6,連盟使用!$AH$3:$AI$100,2,FALSE),IF(AND(BD6="○",BE$3="MS",$AE6=1),VLOOKUP($AN6,連盟使用!$AJ$3:$AK$100,2,FALSE),VLOOKUP($AN6,連盟使用!$AL$3:$AM$100,2,FALSE)))))))))) | BG6: =IF(BF6="","",IF(AND(BF6="○",BG$3="国体"),VLOOKUP($AM6,連盟使用!$AN$3:$AO$100,2,FALSE),IF(AND(BF6="○",BG$3="通常",BG$1="通常・OPEN"),VLOOKUP($AM6,連盟使用!$AF$3:$AG$100,2,FALSE),IF(AND(BF6="○",BG$3="通常"),VLOOKUP($AM6,連盟使用!$AD$3:$AE$100,2,FALSE),IF(BF6="△",10000,IF(AND(BF6="○",BG$3="OPEN"),VLOOKUP($AM6,連盟使用!$AF$3:$AG$100,2,FALSE),IF(AND(BF6="○",BG$3="Jr",BG$1="Jrふじてん"),VLOOKUP($AM6,連盟使用!$AP$3:$AQ$100,2,FALSE),IF(AND(BF6="○",BG$3="Jr"),VLOOKUP($AM6,連盟使用!$AH$3:$AI$100,2,FALSE),IF(AND(BF6="○",BG$3="MS",$AE6=1),VLOOKUP($AN6,連盟使用!$AJ$3:$AK$100,2,FALSE),VLOOKUP($AN6,連盟使用!$AL$3:$AM$100,2,FALSE)))))))))) | BI6: =IF(BH6="","",IF(AND(BH6="○",BI$3="国体"),VLOOKUP($AM6,連盟使用!$AN$3:$AO$100,2,FALSE),IF(AND(BH6="○",BI$3="通常",BI$1="通常・OPEN"),VLOOKUP($AM6,連盟使用!$AF$3:$AG$100,2,FALSE),IF(AND(BH6="○",BI$3="通常"),VLOOKUP($AM6,連盟使用!$AD$3:$AE$100,2,FALSE),IF(BH6="△",10000,IF(AND(BH6="○",BI$3="OPEN"),VLOOKUP($AM6,連盟使用!$AF$3:$AG$100,2,FALSE),IF(AND(BH6="○",BI$3="Jr",BI$1="Jrふじてん"),VLOOKUP($AM6,連盟使用!$AP$3:$AQ$100,2,FALSE),IF(AND(BH6="○",BI$3="Jr"),VLOOKUP($AM6,連盟使用!$AH$3:$AI$100,2,FALSE),IF(AND(BH6="○",BI$3="MS",$AE6=1),VLOOKUP($AN6,連盟使用!$AJ$3:$AK$100,2,FALSE),VLOOKUP($AN6,連盟使用!$AL$3:$AM$100,2,FALSE)))))))))) | BK6: =IF(BJ6="","",IF(AND(BJ6="○",BK$3="国体"),VLOOKUP($AM6,連盟使用!$AN$3:$AO$100,2,FALSE),IF(AND(BJ6="○",BK$3="通常",BK$1="通常・OPEN"),VLOOKUP($AM6,連盟使用!$AF$3:$AG$100,2,FALSE),IF(AND(BJ6="○",BK$3="通常"),VLOOKUP($AM6,連盟使用!$AD$3:$AE$100,2,FALSE),IF(BJ6="△",10000,IF(AND(BJ6="○",BK$3="OPEN"),VLOOKUP($AM6,連盟使用!$AF$3:$AG$100,2,FALSE),IF(AND(BJ6="○",BK$3="Jr",BK$1="Jrふじてん"),VLOOKUP($AM6,連盟使用!$AP$3:$AQ$100,2,FALSE),IF(AND(BJ6="○",BK$3="Jr"),VLOOKUP($AM6,連盟使用!$AH$3:$AI$100,2,FALSE),IF(AND(BJ6="○",BK$3="MS",$AE6=1),VLOOKUP($AN6,連盟使用!$AJ$3:$AK$100,2,FALSE),VLOOKUP($AN6,連盟使用!$AL$3:$AM$100,2,FALSE)))))))))) | BM6: =IF(BL6="","",IF(AND(BL6="○",BM$3="国体"),VLOOKUP($AM6,連盟使用!$AN$3:$AO$100,2,FALSE),IF(AND(BL6="○",BM$3="通常",BM$1="通常・OPEN"),VLOOKUP($AM6,連盟使用!$AF$3:$AG$100,2,FALSE),IF(AND(BL6="○",BM$3="通常"),VLOOKUP($AM6,連盟使用!$AD$3:$AE$100,2,FALSE),IF(BL6="△",10000,IF(AND(BL6="○",BM$3="OPEN"),VLOOKUP($AM6,連盟使用!$AF$3:$AG$100,2,FALSE),IF(AND(BL6="○",BM$3="Jr",BM$1="Jrふじてん"),VLOOKUP($AM6,連盟使用!$AP$3:$AQ$100,2,FALSE),IF(AND(BL6="○",BM$3="Jr"),VLOOKUP($AM6,連盟使用!$AH$3:$AI$100,2,FALSE),IF(AND(BL6="○",BM$3="MS",$AE6=1),VLOOKUP($AN6,連盟使用!$AJ$3:$AK$100,2,FALSE),VLOOKUP($AN6,連盟使用!$AL$3:$AM$100,2,FALSE)))))))))) | BO6: =IF(BN6="","",IF(AND(BN6="○",BO$3="国体"),VLOOKUP($AM6,連盟使用!$AN$3:$AO$100,2,FALSE),IF(AND(BN6="○",BO$3="通常",BO$1="通常・OPEN"),VLOOKUP($AM6,連盟使用!$AF$3:$AG$100,2,FALSE),IF(AND(BN6="○",BO$3="通常"),VLOOKUP($AM6,連盟使用!$AD$3:$AE$100,2,FALSE),IF(BN6="△",10000,IF(AND(BN6="○",BO$3="OPEN"),VLOOKUP($AM6,連盟使用!$AF$3:$AG$100,2,FALSE),IF(AND(BN6="○",BO$3="Jr",BO$1="Jrふじてん"),VLOOKUP($AM6,連盟使用!$AP$3:$AQ$100,2,FALSE),IF(AND(BN6="○",BO$3="Jr"),VLOOKUP($AM6,連盟使用!$AH$3:$AI$100,2,FALSE),IF(AND(BN6="○",BO$3="MS",$AE6=1),VLOOKUP($AN6,連盟使用!$AJ$3:$AK$100,2,FALSE),VLOOKUP($AN6,連盟使用!$AL$3:$AM$100,2,FALSE)))))))))) | BQ6: =IF(BP6="","",IF(AND(BP6="○",BQ$3="国体"),VLOOKUP($AM6,連盟使用!$AN$3:$AO$100,2,FALSE),IF(AND(BP6="○",BQ$3="通常",BQ$1="通常・OPEN"),VLOOKUP($AM6,連盟使用!$AF$3:$AG$100,2,FALSE),IF(AND(BP6="○",BQ$3="通常"),VLOOKUP($AM6,連盟使用!$AD$3:$AE$100,2,FALSE),IF(BP6="△",10000,IF(AND(BP6="○",BQ$3="OPEN"),VLOOKUP($AM6,連盟使用!$AF$3:$AG$100,2,FALSE),IF(AND(BP6="○",BQ$3="Jr",BQ$1="Jrふじてん"),VLOOKUP($AM6,連盟使用!$AP$3:$AQ$100,2,FALSE),IF(AND(BP6="○",BQ$3="Jr"),VLOOKUP($AM6,連盟使用!$AH$3:$AI$100,2,FALSE),IF(AND(BP6="○",BQ$3="MS",$AE6=1),VLOOKUP($AN6,連盟使用!$AJ$3:$AK$100,2,FALSE),VLOOKUP($AN6,連盟使用!$AL$3:$AM$100,2,FALSE)))))))))) | BS6: =IF(BR6="","",IF(AND(BR6="○",BS$3="国体"),VLOOKUP($AM6,連盟使用!$AN$3:$AO$100,2,FALSE),IF(AND(BR6="○",BS$3="通常",BS$1="通常・OPEN"),VLOOKUP($AM6,連盟使用!$AF$3:$AG$100,2,FALSE),IF(AND(BR6="○",BS$3="通常"),VLOOKUP($AM6,連盟使用!$AD$3:$AE$100,2,FALSE),IF(BR6="△",10000,IF(AND(BR6="○",BS$3="OPEN"),VLOOKUP($AM6,連盟使用!$AF$3:$AG$100,2,FALSE),IF(AND(BR6="○",BS$3="Jr",BS$1="Jrふじてん"),VLOOKUP($AM6,連盟使用!$AP$3:$AQ$100,2,FALSE),IF(AND(BR6="○",BS$3="Jr"),VLOOKUP($AM6,連盟使用!$AH$3:$AI$100,2,FALSE),IF(AND(BR6="○",BS$3="MS",$AE6=1),VLOOKUP($AN6,連盟使用!$AJ$3:$AK$100,2,FALSE),VLOOKUP($AN6,連盟使用!$AL$3:$AM$100,2,FALSE)))))))))) | BU6: =IF(BT6="","",IF(AND(BT6="○",BU$3="国体"),VLOOKUP($AM6,連盟使用!$AN$3:$AO$100,2,FALSE),IF(AND(BT6="○",BU$3="通常",BU$1="通常・OPEN"),VLOOKUP($AM6,連盟使用!$AF$3:$AG$100,2,FALSE),IF(AND(BT6="○",BU$3="通常"),VLOOKUP($AM6,連盟使用!$AD$3:$AE$100,2,FALSE),IF(BT6="△",10000,IF(AND(BT6="○",BU$3="OPEN"),VLOOKUP($AM6,連盟使用!$AF$3:$AG$100,2,FALSE),IF(AND(BT6="○",BU$3="Jr",BU$1="Jrふじてん"),VLOOKUP($AM6,連盟使用!$AP$3:$AQ$100,2,FALSE),IF(AND(BT6="○",BU$3="Jr"),VLOOKUP($AM6,連盟使用!$AH$3:$AI$100,2,FALSE),IF(AND(BT6="○",BU$3="MS",$AE6=1),VLOOKUP($AN6,連盟使用!$AJ$3:$AK$100,2,FALSE),VLOOKUP($AN6,連盟使用!$AL$3:$AM$100,2,FALSE)))))))))) | BW6: =IF(BV6="","",IF(AND(BV6="○",BW$3="国体"),VLOOKUP($AM6,連盟使用!$AN$3:$AO$100,2,FALSE),IF(AND(BV6="○",BW$3="通常",BW$1="通常・OPEN"),VLOOKUP($AM6,連盟使用!$AF$3:$AG$100,2,FALSE),IF(AND(BV6="○",BW$3="通常"),VLOOKUP($AM6,連盟使用!$AD$3:$AE$100,2,FALSE),IF(BV6="△",10000,IF(AND(BV6="○",BW$3="OPEN"),VLOOKUP($AM6,連盟使用!$AF$3:$AG$100,2,FALSE),IF(AND(BV6="○",BW$3="Jr",BW$1="Jrふじてん"),VLOOKUP($AM6,連盟使用!$AP$3:$AQ$100,2,FALSE),IF(AND(BV6="○",BW$3="Jr"),VLOOKUP($AM6,連盟使用!$AH$3:$AI$100,2,FALSE),IF(AND(BV6="○",BW$3="MS",$AE6=1),VLOOKUP($AN6,連盟使用!$AJ$3:$AK$100,2,FALSE),VLOOKUP($AN6,連盟使用!$AL$3:$AM$100,2,FALSE)))))))))) | BY6: =IF(BX6="","",IF(AND(BX6="○",BY$3="国体"),VLOOKUP($AM6,連盟使用!$AN$3:$AO$100,2,FALSE),IF(AND(BX6="○",BY$3="通常",BY$1="通常・OPEN"),VLOOKUP($AM6,連盟使用!$AF$3:$AG$100,2,FALSE),IF(AND(BX6="○",BY$3="通常"),VLOOKUP($AM6,連盟使用!$AD$3:$AE$100,2,FALSE),IF(BX6="△",10000,IF(AND(BX6="○",BY$3="OPEN"),VLOOKUP($AM6,連盟使用!$AF$3:$AG$100,2,FALSE),IF(AND(BX6="○",BY$3="Jr",BY$1="Jrふじてん"),VLOOKUP($AM6,連盟使用!$AP$3:$AQ$100,2,FALSE),IF(AND(BX6="○",BY$3="Jr"),VLOOKUP($AM6,連盟使用!$AH$3:$AI$100,2,FALSE),IF(AND(BX6="○",BY$3="MS",$AE6=1),VLOOKUP($AN6,連盟使用!$AJ$3:$AK$100,2,FALSE),VLOOKUP($AN6,連盟使用!$AL$3:$AM$100,2,FALSE)))))))))) | CA6: =IF(BZ6="","",IF(AND(BZ6="○",CA$3="国体"),VLOOKUP($AM6,連盟使用!$AN$3:$AO$100,2,FALSE),IF(AND(BZ6="○",CA$3="通常",CA$1="通常・OPEN"),VLOOKUP($AM6,連盟使用!$AF$3:$AG$100,2,FALSE),IF(AND(BZ6="○",CA$3="通常"),VLOOKUP($AM6,連盟使用!$AD$3:$AE$100,2,FALSE),IF(BZ6="△",10000,IF(AND(BZ6="○",CA$3="OPEN"),VLOOKUP($AM6,連盟使用!$AF$3:$AG$100,2,FALSE),IF(AND(BZ6="○",CA$3="Jr",CA$1="Jrふじてん"),VLOOKUP($AM6,連盟使用!$AP$3:$AQ$100,2,FALSE),IF(AND(BZ6="○",CA$3="Jr"),VLOOKUP($AM6,連盟使用!$AH$3:$AI$100,2,FALSE),IF(AND(BZ6="○",CA$3="MS",$AE6=1),VLOOKUP($AN6,連盟使用!$AJ$3:$AK$100,2,FALSE),VLOOKUP($AN6,連盟使用!$AL$3:$AM$100,2,FALSE)))))))))) | CC6: =IF(CB6="","",IF(AND(CB6="○",CC$3="国体"),VLOOKUP($AM6,連盟使用!$AN$3:$AO$100,2,FALSE),IF(AND(CB6="○",CC$3="通常",CC$1="通常・OPEN"),VLOOKUP($AM6,連盟使用!$AF$3:$AG$100,2,FALSE),IF(AND(CB6="○",CC$3="通常"),VLOOKUP($AM6,連盟使用!$AD$3:$AE$100,2,FALSE),IF(CB6="△",10000,IF(AND(CB6="○",CC$3="OPEN"),VLOOKUP($AM6,連盟使用!$AF$3:$AG$100,2,FALSE),IF(AND(CB6="○",CC$3="Jr",CC$1="Jrふじてん"),VLOOKUP($AM6,連盟使用!$AP$3:$AQ$100,2,FALSE),IF(AND(CB6="○",CC$3="Jr"),VLOOKUP($AM6,連盟使用!$AH$3:$AI$100,2,FALSE),IF(AND(CB6="○",CC$3="MS",$AE6=1),VLOOKUP($AN6,連盟使用!$AJ$3:$AK$100,2,FALSE),VLOOKUP($AN6,連盟使用!$AL$3:$AM$100,2,FALSE)))))))))) | CE6: =IF(CD6="","",IF(AND(CD6="○",CE$3="国体"),VLOOKUP($AM6,連盟使用!$AN$3:$AO$100,2,FALSE),IF(AND(CD6="○",CE$3="通常",CE$1="通常・OPEN"),VLOOKUP($AM6,連盟使用!$AF$3:$AG$100,2,FALSE),IF(AND(CD6="○",CE$3="通常"),VLOOKUP($AM6,連盟使用!$AD$3:$AE$100,2,FALSE),IF(CD6="△",10000,IF(AND(CD6="○",CE$3="OPEN"),VLOOKUP($AM6,連盟使用!$AF$3:$AG$100,2,FALSE),IF(AND(CD6="○",CE$3="Jr",CE$1="Jrふじてん"),VLOOKUP($AM6,連盟使用!$AP$3:$AQ$100,2,FALSE),IF(AND(CD6="○",CE$3="Jr"),VLOOKUP($AM6,連盟使用!$AH$3:$AI$100,2,FALSE),IF(AND(CD6="○",CE$3="MS",$AE6=1),VLOOKUP($AN6,連盟使用!$AJ$3:$AK$100,2,FALSE),VLOOKUP($AN6,連盟使用!$AL$3:$AM$100,2,FALSE)))))))))) | CG6: =IF(CF6="","",IF(AND(CF6="○",CG$3="国体"),VLOOKUP($AM6,連盟使用!$AN$3:$AO$100,2,FALSE),IF(AND(CF6="○",CG$3="通常",CG$1="通常・OPEN"),VLOOKUP($AM6,連盟使用!$AF$3:$AG$100,2,FALSE),IF(AND(CF6="○",CG$3="通常"),VLOOKUP($AM6,連盟使用!$AD$3:$AE$100,2,FALSE),IF(CF6="△",10000,IF(AND(CF6="○",CG$3="OPEN"),VLOOKUP($AM6,連盟使用!$AF$3:$AG$100,2,FALSE),IF(AND(CF6="○",CG$3="Jr",CG$1="Jrふじてん"),VLOOKUP($AM6,連盟使用!$AP$3:$AQ$100,2,FALSE),IF(AND(CF6="○",CG$3="Jr"),VLOOKUP($AM6,連盟使用!$AH$3:$AI$100,2,FALSE),IF(AND(CF6="○",CG$3="MS",$AE6=1),VLOOKUP($AN6,連盟使用!$AJ$3:$AK$100,2,FALSE),VLOOKUP($AN6,連盟使用!$AL$3:$AM$100,2,FALSE)))))))))) | CH6: =SUM(AT6:CG6) -> 0
A7: =IF(個表!A5="","",個表!A5) -> 2 | B7: =IF(個表!B5="","",個表!B5) | E7: =IF(個表!J5="","",個表!J5) | F7: =IF(個表!K5="","",個表!K5) | G7: =IF(個表!L5="","",個表!L5) | L7: =IF(個表!M5="","",個表!M5) | M7: =IF(個表!N5="","",個表!N5) | N7: =IF(個表!O5="","",個表!O5) | O7: =IF(個表!P5="","",個表!P5) | P7: =IF(個表!Q5="","",個表!Q5) | Q7: =IF(個表!G5="","",個表!G5) | S7: =IF(個表!R5="","",個表!R5) | T7: =IF(個表!S5="","",個表!S5) | V7: =IF(個表!C5="","",個表!C5) | W7: =IF(個表!D5="","",個表!D5) | X7: =IF(個表!E5="","",個表!E5) | Y7: =IF(個表!F5="","",個表!F5) | AE7: =IF(個表!H5="","",個表!H5) | AI7: =IF(個表!T5="","",個表!T5) | AL7: =IF(個表!I5="","",個表!I5) | AM7: =IF(個表!U5="","",個表!U5) | AN7: =IF(個表!V5="","",個表!V5) | AO7: =IF(個表!W5="","",個表!W5) | AP7: =IF(個表!X5="","",個表!X5) | AQ7: =IF(個表!Y5="","",個表!Y5) | AR7: =IF(個表!Z5="","",個表!Z5) | AS7: =IF(個表!AA5="","",個表!AA5) | AU7: =IF(AT7="","",IF(AND(AT7="○",AU$3="国体"),VLOOKUP($AM7,連盟使用!$AN$3:$AO$100,2,FALSE),IF(AND(AT7="○",AU$3="通常",AU$1="通常・OPEN"),VLOOKUP($AM7,連盟使用!$AF$3:$AG$100,2,FALSE),IF(AND(AT7="○",AU$3="通常"),VLOOKUP($AM7,連盟使用!$AD$3:$AE$100,2,FALSE),IF(AT7="△",10000,IF(AND(AT7="○",AU$3="OPEN"),VLOOKUP($AM7,連盟使用!$AF$3:$AG$100,2,FALSE),IF(AND(AT7="○",AU$3="Jr",AU$1="Jrふじてん"),VLOOKUP($AM7,連盟使用!$AP$3:$AQ$100,2,FALSE),IF(AND(AT7="○",AU$3="Jr"),VLOOKUP($AM7,連盟使用!$AH$3:$AI$100,2,FALSE),IF(AND(AT7="○",AU$3="MS",$AE7=1),VLOOKUP($AN7,連盟使用!$AJ$3:$AK$100,2,FALSE),VLOOKUP($AN7,連盟使用!$AL$3:$AM$100,2,FALSE)))))))))) | AW7: =IF(AV7="","",IF(AND(AV7="○",AW$3="国体"),VLOOKUP($AM7,連盟使用!$AN$3:$AO$100,2,FALSE),IF(AND(AV7="○",AW$3="通常",AW$1="通常・OPEN"),VLOOKUP($AM7,連盟使用!$AF$3:$AG$100,2,FALSE),IF(AND(AV7="○",AW$3="通常"),VLOOKUP($AM7,連盟使用!$AD$3:$AE$100,2,FALSE),IF(AV7="△",10000,IF(AND(AV7="○",AW$3="OPEN"),VLOOKUP($AM7,連盟使用!$AF$3:$AG$100,2,FALSE),IF(AND(AV7="○",AW$3="Jr",AW$1="Jrふじてん"),VLOOKUP($AM7,連盟使用!$AP$3:$AQ$100,2,FALSE),IF(AND(AV7="○",AW$3="Jr"),VLOOKUP($AM7,連盟使用!$AH$3:$AI$100,2,FALSE),IF(AND(AV7="○",AW$3="MS",$AE7=1),VLOOKUP($AN7,連盟使用!$AJ$3:$AK$100,2,FALSE),VLOOKUP($AN7,連盟使用!$AL$3:$AM$100,2,FALSE)))))))))) | AY7: =IF(AX7="","",IF(AND(AX7="○",AY$3="国体"),VLOOKUP($AM7,連盟使用!$AN$3:$AO$100,2,FALSE),IF(AND(AX7="○",AY$3="通常",AY$1="通常・OPEN"),VLOOKUP($AM7,連盟使用!$AF$3:$AG$100,2,FALSE),IF(AND(AX7="○",AY$3="通常"),VLOOKUP($AM7,連盟使用!$AD$3:$AE$100,2,FALSE),IF(AX7="△",10000,IF(AND(AX7="○",AY$3="OPEN"),VLOOKUP($AM7,連盟使用!$AF$3:$AG$100,2,FALSE),IF(AND(AX7="○",AY$3="Jr",AY$1="Jrふじてん"),VLOOKUP($AM7,連盟使用!$AP$3:$AQ$100,2,FALSE),IF(AND(AX7="○",AY$3="Jr"),VLOOKUP($AM7,連盟使用!$AH$3:$AI$100,2,FALSE),IF(AND(AX7="○",AY$3="MS",$AE7=1),VLOOKUP($AN7,連盟使用!$AJ$3:$AK$100,2,FALSE),VLOOKUP($AN7,連盟使用!$AL$3:$AM$100,2,FALSE)))))))))) | BA7: =IF(AZ7="","",IF(AND(AZ7="○",BA$3="国体"),VLOOKUP($AM7,連盟使用!$AN$3:$AO$100,2,FALSE),IF(AND(AZ7="○",BA$3="通常",BA$1="通常・OPEN"),VLOOKUP($AM7,連盟使用!$AF$3:$AG$100,2,FALSE),IF(AND(AZ7="○",BA$3="通常"),VLOOKUP($AM7,連盟使用!$AD$3:$AE$100,2,FALSE),IF(AZ7="△",10000,IF(AND(AZ7="○",BA$3="OPEN"),VLOOKUP($AM7,連盟使用!$AF$3:$AG$100,2,FALSE),IF(AND(AZ7="○",BA$3="Jr",BA$1="Jrふじてん"),VLOOKUP($AM7,連盟使用!$AP$3:$AQ$100,2,FALSE),IF(AND(AZ7="○",BA$3="Jr"),VLOOKUP($AM7,連盟使用!$AH$3:$AI$100,2,FALSE),IF(AND(AZ7="○",BA$3="MS",$AE7=1),VLOOKUP($AN7,連盟使用!$AJ$3:$AK$100,2,FALSE),VLOOKUP($AN7,連盟使用!$AL$3:$AM$100,2,FALSE)))))))))) | BC7: =IF(BB7="","",IF(AND(BB7="○",BC$3="国体"),VLOOKUP($AM7,連盟使用!$AN$3:$AO$100,2,FALSE),IF(AND(BB7="○",BC$3="通常",BC$1="通常・OPEN"),VLOOKUP($AM7,連盟使用!$AF$3:$AG$100,2,FALSE),IF(AND(BB7="○",BC$3="通常"),VLOOKUP($AM7,連盟使用!$AD$3:$AE$100,2,FALSE),IF(BB7="△",10000,IF(AND(BB7="○",BC$3="OPEN"),VLOOKUP($AM7,連盟使用!$AF$3:$AG$100,2,FALSE),IF(AND(BB7="○",BC$3="Jr",BC$1="Jrふじてん"),VLOOKUP($AM7,連盟使用!$AP$3:$AQ$100,2,FALSE),IF(AND(BB7="○",BC$3="Jr"),VLOOKUP($AM7,連盟使用!$AH$3:$AI$100,2,FALSE),IF(AND(BB7="○",BC$3="MS",$AE7=1),VLOOKUP($AN7,連盟使用!$AJ$3:$AK$100,2,FALSE),VLOOKUP($AN7,連盟使用!$AL$3:$AM$100,2,FALSE)))))))))) | BE7: =IF(BD7="","",IF(AND(BD7="○",BE$3="国体"),VLOOKUP($AM7,連盟使用!$AN$3:$AO$100,2,FALSE),IF(AND(BD7="○",BE$3="通常",BE$1="通常・OPEN"),VLOOKUP($AM7,連盟使用!$AF$3:$AG$100,2,FALSE),IF(AND(BD7="○",BE$3="通常"),VLOOKUP($AM7,連盟使用!$AD$3:$AE$100,2,FALSE),IF(BD7="△",10000,IF(AND(BD7="○",BE$3="OPEN"),VLOOKUP($AM7,連盟使用!$AF$3:$AG$100,2,FALSE),IF(AND(BD7="○",BE$3="Jr",BE$1="Jrふじてん"),VLOOKUP($AM7,連盟使用!$AP$3:$AQ$100,2,FALSE),IF(AND(BD7="○",BE$3="Jr"),VLOOKUP($AM7,連盟使用!$AH$3:$AI$100,2,FALSE),IF(AND(BD7="○",BE$3="MS",$AE7=1),VLOOKUP($AN7,連盟使用!$AJ$3:$AK$100,2,FALSE),VLOOKUP($AN7,連盟使用!$AL$3:$AM$100,2,FALSE)))))))))) | BG7: =IF(BF7="","",IF(AND(BF7="○",BG$3="国体"),VLOOKUP($AM7,連盟使用!$AN$3:$AO$100,2,FALSE),IF(AND(BF7="○",BG$3="通常",BG$1="通常・OPEN"),VLOOKUP($AM7,連盟使用!$AF$3:$AG$100,2,FALSE),IF(AND(BF7="○",BG$3="通常"),VLOOKUP($AM7,連盟使用!$AD$3:$AE$100,2,FALSE),IF(BF7="△",10000,IF(AND(BF7="○",BG$3="OPEN"),VLOOKUP($AM7,連盟使用!$AF$3:$AG$100,2,FALSE),IF(AND(BF7="○",BG$3="Jr",BG$1="Jrふじてん"),VLOOKUP($AM7,連盟使用!$AP$3:$AQ$100,2,FALSE),IF(AND(BF7="○",BG$3="Jr"),VLOOKUP($AM7,連盟使用!$AH$3:$AI$100,2,FALSE),IF(AND(BF7="○",BG$3="MS",$AE7=1),VLOOKUP($AN7,連盟使用!$AJ$3:$AK$100,2,FALSE),VLOOKUP($AN7,連盟使用!$AL$3:$AM$100,2,FALSE)))))))))) | BI7: =IF(BH7="","",IF(AND(BH7="○",BI$3="国体"),VLOOKUP($AM7,連盟使用!$AN$3:$AO$100,2,FALSE),IF(AND(BH7="○",BI$3="通常",BI$1="通常・OPEN"),VLOOKUP($AM7,連盟使用!$AF$3:$AG$100,2,FALSE),IF(AND(BH7="○",BI$3="通常"),VLOOKUP($AM7,連盟使用!$AD$3:$AE$100,2,FALSE),IF(BH7="△",10000,IF(AND(BH7="○",BI$3="OPEN"),VLOOKUP($AM7,連盟使用!$AF$3:$AG$100,2,FALSE),IF(AND(BH7="○",BI$3="Jr",BI$1="Jrふじてん"),VLOOKUP($AM7,連盟使用!$AP$3:$AQ$100,2,FALSE),IF(AND(BH7="○",BI$3="Jr"),VLOOKUP($AM7,連盟使用!$AH$3:$AI$100,2,FALSE),IF(AND(BH7="○",BI$3="MS",$AE7=1),VLOOKUP($AN7,連盟使用!$AJ$3:$AK$100,2,FALSE),VLOOKUP($AN7,連盟使用!$AL$3:$AM$100,2,FALSE)))))))))) | BK7: =IF(BJ7="","",IF(AND(BJ7="○",BK$3="国体"),VLOOKUP($AM7,連盟使用!$AN$3:$AO$100,2,FALSE),IF(AND(BJ7="○",BK$3="通常",BK$1="通常・OPEN"),VLOOKUP($AM7,連盟使用!$AF$3:$AG$100,2,FALSE),IF(AND(BJ7="○",BK$3="通常"),VLOOKUP($AM7,連盟使用!$AD$3:$AE$100,2,FALSE),IF(BJ7="△",10000,IF(AND(BJ7="○",BK$3="OPEN"),VLOOKUP($AM7,連盟使用!$AF$3:$AG$100,2,FALSE),IF(AND(BJ7="○",BK$3="Jr",BK$1="Jrふじてん"),VLOOKUP($AM7,連盟使用!$AP$3:$AQ$100,2,FALSE),IF(AND(BJ7="○",BK$3="Jr"),VLOOKUP($AM7,連盟使用!$AH$3:$AI$100,2,FALSE),IF(AND(BJ7="○",BK$3="MS",$AE7=1),VLOOKUP($AN7,連盟使用!$AJ$3:$AK$100,2,FALSE),VLOOKUP($AN7,連盟使用!$AL$3:$AM$100,2,FALSE)))))))))) | BM7: =IF(BL7="","",IF(AND(BL7="○",BM$3="国体"),VLOOKUP($AM7,連盟使用!$AN$3:$AO$100,2,FALSE),IF(AND(BL7="○",BM$3="通常",BM$1="通常・OPEN"),VLOOKUP($AM7,連盟使用!$AF$3:$AG$100,2,FALSE),IF(AND(BL7="○",BM$3="通常"),VLOOKUP($AM7,連盟使用!$AD$3:$AE$100,2,FALSE),IF(BL7="△",10000,IF(AND(BL7="○",BM$3="OPEN"),VLOOKUP($AM7,連盟使用!$AF$3:$AG$100,2,FALSE),IF(AND(BL7="○",BM$3="Jr",BM$1="Jrふじてん"),VLOOKUP($AM7,連盟使用!$AP$3:$AQ$100,2,FALSE),IF(AND(BL7="○",BM$3="Jr"),VLOOKUP($AM7,連盟使用!$AH$3:$AI$100,2,FALSE),IF(AND(BL7="○",BM$3="MS",$AE7=1),VLOOKUP($AN7,連盟使用!$AJ$3:$AK$100,2,FALSE),VLOOKUP($AN7,連盟使用!$AL$3:$AM$100,2,FALSE)))))))))) | BO7: =IF(BN7="","",IF(AND(BN7="○",BO$3="国体"),VLOOKUP($AM7,連盟使用!$AN$3:$AO$100,2,FALSE),IF(AND(BN7="○",BO$3="通常",BO$1="通常・OPEN"),VLOOKUP($AM7,連盟使用!$AF$3:$AG$100,2,FALSE),IF(AND(BN7="○",BO$3="通常"),VLOOKUP($AM7,連盟使用!$AD$3:$AE$100,2,FALSE),IF(BN7="△",10000,IF(AND(BN7="○",BO$3="OPEN"),VLOOKUP($AM7,連盟使用!$AF$3:$AG$100,2,FALSE),IF(AND(BN7="○",BO$3="Jr",BO$1="Jrふじてん"),VLOOKUP($AM7,連盟使用!$AP$3:$AQ$100,2,FALSE),IF(AND(BN7="○",BO$3="Jr"),VLOOKUP($AM7,連盟使用!$AH$3:$AI$100,2,FALSE),IF(AND(BN7="○",BO$3="MS",$AE7=1),VLOOKUP($AN7,連盟使用!$AJ$3:$AK$100,2,FALSE),VLOOKUP($AN7,連盟使用!$AL$3:$AM$100,2,FALSE)))))))))) | BQ7: =IF(BP7="","",IF(AND(BP7="○",BQ$3="国体"),VLOOKUP($AM7,連盟使用!$AN$3:$AO$100,2,FALSE),IF(AND(BP7="○",BQ$3="通常",BQ$1="通常・OPEN"),VLOOKUP($AM7,連盟使用!$AF$3:$AG$100,2,FALSE),IF(AND(BP7="○",BQ$3="通常"),VLOOKUP($AM7,連盟使用!$AD$3:$AE$100,2,FALSE),IF(BP7="△",10000,IF(AND(BP7="○",BQ$3="OPEN"),VLOOKUP($AM7,連盟使用!$AF$3:$AG$100,2,FALSE),IF(AND(BP7="○",BQ$3="Jr",BQ$1="Jrふじてん"),VLOOKUP($AM7,連盟使用!$AP$3:$AQ$100,2,FALSE),IF(AND(BP7="○",BQ$3="Jr"),VLOOKUP($AM7,連盟使用!$AH$3:$AI$100,2,FALSE),IF(AND(BP7="○",BQ$3="MS",$AE7=1),VLOOKUP($AN7,連盟使用!$AJ$3:$AK$100,2,FALSE),VLOOKUP($AN7,連盟使用!$AL$3:$AM$100,2,FALSE)))))))))) | BS7: =IF(BR7="","",IF(AND(BR7="○",BS$3="国体"),VLOOKUP($AM7,連盟使用!$AN$3:$AO$100,2,FALSE),IF(AND(BR7="○",BS$3="通常",BS$1="通常・OPEN"),VLOOKUP($AM7,連盟使用!$AF$3:$AG$100,2,FALSE),IF(AND(BR7="○",BS$3="通常"),VLOOKUP($AM7,連盟使用!$AD$3:$AE$100,2,FALSE),IF(BR7="△",10000,IF(AND(BR7="○",BS$3="OPEN"),VLOOKUP($AM7,連盟使用!$AF$3:$AG$100,2,FALSE),IF(AND(BR7="○",BS$3="Jr",BS$1="Jrふじてん"),VLOOKUP($AM7,連盟使用!$AP$3:$AQ$100,2,FALSE),IF(AND(BR7="○",BS$3="Jr"),VLOOKUP($AM7,連盟使用!$AH$3:$AI$100,2,FALSE),IF(AND(BR7="○",BS$3="MS",$AE7=1),VLOOKUP($AN7,連盟使用!$AJ$3:$AK$100,2,FALSE),VLOOKUP($AN7,連盟使用!$AL$3:$AM$100,2,FALSE)))))))))) | BU7: =IF(BT7="","",IF(AND(BT7="○",BU$3="国体"),VLOOKUP($AM7,連盟使用!$AN$3:$AO$100,2,FALSE),IF(AND(BT7="○",BU$3="通常",BU$1="通常・OPEN"),VLOOKUP($AM7,連盟使用!$AF$3:$AG$100,2,FALSE),IF(AND(BT7="○",BU$3="通常"),VLOOKUP($AM7,連盟使用!$AD$3:$AE$100,2,FALSE),IF(BT7="△",10000,IF(AND(BT7="○",BU$3="OPEN"),VLOOKUP($AM7,連盟使用!$AF$3:$AG$100,2,FALSE),IF(AND(BT7="○",BU$3="Jr",BU$1="Jrふじてん"),VLOOKUP($AM7,連盟使用!$AP$3:$AQ$100,2,FALSE),IF(AND(BT7="○",BU$3="Jr"),VLOOKUP($AM7,連盟使用!$AH$3:$AI$100,2,FALSE),IF(AND(BT7="○",BU$3="MS",$AE7=1),VLOOKUP($AN7,連盟使用!$AJ$3:$AK$100,2,FALSE),VLOOKUP($AN7,連盟使用!$AL$3:$AM$100,2,FALSE)))))))))) | BW7: =IF(BV7="","",IF(AND(BV7="○",BW$3="国体"),VLOOKUP($AM7,連盟使用!$AN$3:$AO$100,2,FALSE),IF(AND(BV7="○",BW$3="通常",BW$1="通常・OPEN"),VLOOKUP($AM7,連盟使用!$AF$3:$AG$100,2,FALSE),IF(AND(BV7="○",BW$3="通常"),VLOOKUP($AM7,連盟使用!$AD$3:$AE$100,2,FALSE),IF(BV7="△",10000,IF(AND(BV7="○",BW$3="OPEN"),VLOOKUP($AM7,連盟使用!$AF$3:$AG$100,2,FALSE),IF(AND(BV7="○",BW$3="Jr",BW$1="Jrふじてん"),VLOOKUP($AM7,連盟使用!$AP$3:$AQ$100,2,FALSE),IF(AND(BV7="○",BW$3="Jr"),VLOOKUP($AM7,連盟使用!$AH$3:$AI$100,2,FALSE),IF(AND(BV7="○",BW$3="MS",$AE7=1),VLOOKUP($AN7,連盟使用!$AJ$3:$AK$100,2,FALSE),VLOOKUP($AN7,連盟使用!$AL$3:$AM$100,2,FALSE)))))))))) | BY7: =IF(BX7="","",IF(AND(BX7="○",BY$3="国体"),VLOOKUP($AM7,連盟使用!$AN$3:$AO$100,2,FALSE),IF(AND(BX7="○",BY$3="通常",BY$1="通常・OPEN"),VLOOKUP($AM7,連盟使用!$AF$3:$AG$100,2,FALSE),IF(AND(BX7="○",BY$3="通常"),VLOOKUP($AM7,連盟使用!$AD$3:$AE$100,2,FALSE),IF(BX7="△",10000,IF(AND(BX7="○",BY$3="OPEN"),VLOOKUP($AM7,連盟使用!$AF$3:$AG$100,2,FALSE),IF(AND(BX7="○",BY$3="Jr",BY$1="Jrふじてん"),VLOOKUP($AM7,連盟使用!$AP$3:$AQ$100,2,FALSE),IF(AND(BX7="○",BY$3="Jr"),VLOOKUP($AM7,連盟使用!$AH$3:$AI$100,2,FALSE),IF(AND(BX7="○",BY$3="MS",$AE7=1),VLOOKUP($AN7,連盟使用!$AJ$3:$AK$100,2,FALSE),VLOOKUP($AN7,連盟使用!$AL$3:$AM$100,2,FALSE)))))))))) | CA7: =IF(BZ7="","",IF(AND(BZ7="○",CA$3="国体"),VLOOKUP($AM7,連盟使用!$AN$3:$AO$100,2,FALSE),IF(AND(BZ7="○",CA$3="通常",CA$1="通常・OPEN"),VLOOKUP($AM7,連盟使用!$AF$3:$AG$100,2,FALSE),IF(AND(BZ7="○",CA$3="通常"),VLOOKUP($AM7,連盟使用!$AD$3:$AE$100,2,FALSE),IF(BZ7="△",10000,IF(AND(BZ7="○",CA$3="OPEN"),VLOOKUP($AM7,連盟使用!$AF$3:$AG$100,2,FALSE),IF(AND(BZ7="○",CA$3="Jr",CA$1="Jrふじてん"),VLOOKUP($AM7,連盟使用!$AP$3:$AQ$100,2,FALSE),IF(AND(BZ7="○",CA$3="Jr"),VLOOKUP($AM7,連盟使用!$AH$3:$AI$100,2,FALSE),IF(AND(BZ7="○",CA$3="MS",$AE7=1),VLOOKUP($AN7,連盟使用!$AJ$3:$AK$100,2,FALSE),VLOOKUP($AN7,連盟使用!$AL$3:$AM$100,2,FALSE)))))))))) | CC7: =IF(CB7="","",IF(AND(CB7="○",CC$3="国体"),VLOOKUP($AM7,連盟使用!$AN$3:$AO$100,2,FALSE),IF(AND(CB7="○",CC$3="通常",CC$1="通常・OPEN"),VLOOKUP($AM7,連盟使用!$AF$3:$AG$100,2,FALSE),IF(AND(CB7="○",CC$3="通常"),VLOOKUP($AM7,連盟使用!$AD$3:$AE$100,2,FALSE),IF(CB7="△",10000,IF(AND(CB7="○",CC$3="OPEN"),VLOOKUP($AM7,連盟使用!$AF$3:$AG$100,2,FALSE),IF(AND(CB7="○",CC$3="Jr",CC$1="Jrふじてん"),VLOOKUP($AM7,連盟使用!$AP$3:$AQ$100,2,FALSE),IF(AND(CB7="○",CC$3="Jr"),VLOOKUP($AM7,連盟使用!$AH$3:$AI$100,2,FALSE),IF(AND(CB7="○",CC$3="MS",$AE7=1),VLOOKUP($AN7,連盟使用!$AJ$3:$AK$100,2,FALSE),VLOOKUP($AN7,連盟使用!$AL$3:$AM$100,2,FALSE)))))))))) | CE7: =IF(CD7="","",IF(AND(CD7="○",CE$3="国体"),VLOOKUP($AM7,連盟使用!$AN$3:$AO$100,2,FALSE),IF(AND(CD7="○",CE$3="通常",CE$1="通常・OPEN"),VLOOKUP($AM7,連盟使用!$AF$3:$AG$100,2,FALSE),IF(AND(CD7="○",CE$3="通常"),VLOOKUP($AM7,連盟使用!$AD$3:$AE$100,2,FALSE),IF(CD7="△",10000,IF(AND(CD7="○",CE$3="OPEN"),VLOOKUP($AM7,連盟使用!$AF$3:$AG$100,2,FALSE),IF(AND(CD7="○",CE$3="Jr",CE$1="Jrふじてん"),VLOOKUP($AM7,連盟使用!$AP$3:$AQ$100,2,FALSE),IF(AND(CD7="○",CE$3="Jr"),VLOOKUP($AM7,連盟使用!$AH$3:$AI$100,2,FALSE),IF(AND(CD7="○",CE$3="MS",$AE7=1),VLOOKUP($AN7,連盟使用!$AJ$3:$AK$100,2,FALSE),VLOOKUP($AN7,連盟使用!$AL$3:$AM$100,2,FALSE)))))))))) | CG7: =IF(CF7="","",IF(AND(CF7="○",CG$3="国体"),VLOOKUP($AM7,連盟使用!$AN$3:$AO$100,2,FALSE),IF(AND(CF7="○",CG$3="通常",CG$1="通常・OPEN"),VLOOKUP($AM7,連盟使用!$AF$3:$AG$100,2,FALSE),IF(AND(CF7="○",CG$3="通常"),VLOOKUP($AM7,連盟使用!$AD$3:$AE$100,2,FALSE),IF(CF7="△",10000,IF(AND(CF7="○",CG$3="OPEN"),VLOOKUP($AM7,連盟使用!$AF$3:$AG$100,2,FALSE),IF(AND(CF7="○",CG$3="Jr",CG$1="Jrふじてん"),VLOOKUP($AM7,連盟使用!$AP$3:$AQ$100,2,FALSE),IF(AND(CF7="○",CG$3="Jr"),VLOOKUP($AM7,連盟使用!$AH$3:$AI$100,2,FALSE),IF(AND(CF7="○",CG$3="MS",$AE7=1),VLOOKUP($AN7,連盟使用!$AJ$3:$AK$100,2,FALSE),VLOOKUP($AN7,連盟使用!$AL$3:$AM$100,2,FALSE)))))))))) | CH7: =SUM(AT7:CG7) -> 0
A8: =IF(個表!A6="","",個表!A6) -> 3 | B8: =IF(個表!B6="","",個表!B6) | E8: =IF(個表!J6="","",個表!J6) | F8: =IF(個表!K6="","",個表!K6) | G8: =IF(個表!L6="","",個表!L6) | L8: =IF(個表!M6="","",個表!M6) | M8: =IF(個表!N6="","",個表!N6) | N8: =IF(個表!O6="","",個表!O6) | O8: =IF(個表!P6="","",個表!P6) | P8: =IF(個表!Q6="","",個表!Q6) | Q8: =IF(個表!G6="","",個表!G6) | S8: =IF(個表!R6="","",個表!R6) | T8: =IF(個表!S6="","",個表!S6) | V8: =IF(個表!C6="","",個表!C6) | W8: =IF(個表!D6="","",個表!D6) | X8: =IF(個表!E6="","",個表!E6) | Y8: =IF(個表!F6="","",個表!F6) | AE8: =IF(個表!H6="","",個表!H6) | AI8: =IF(個表!T6="","",個表!T6) | AL8: =IF(個表!I6="","",個表!I6) | AM8: =IF(個表!U6="","",個表!U6) | AN8: =IF(個表!V6="","",個表!V6) | AO8: =IF(個表!W6="","",個表!W6) | AP8: =IF(個表!X6="","",個表!X6) | AQ8: =IF(個表!Y6="","",個表!Y6) | AR8: =IF(個表!Z6="","",個表!Z6) | AS8: =IF(個表!AA6="","",個表!AA6) | AU8: =IF(AT8="","",IF(AND(AT8="○",AU$3="国体"),VLOOKUP($AM8,連盟使用!$AN$3:$AO$100,2,FALSE),IF(AND(AT8="○",AU$3="通常",AU$1="通常・OPEN"),VLOOKUP($AM8,連盟使用!$AF$3:$AG$100,2,FALSE),IF(AND(AT8="○",AU$3="通常"),VLOOKUP($AM8,連盟使用!$AD$3:$AE$100,2,FALSE),IF(AT8="△",10000,IF(AND(AT8="○",AU$3="OPEN"),VLOOKUP($AM8,連盟使用!$AF$3:$AG$100,2,FALSE),IF(AND(AT8="○",AU$3="Jr",AU$1="Jrふじてん"),VLOOKUP($AM8,連盟使用!$AP$3:$AQ$100,2,FALSE),IF(AND(AT8="○",AU$3="Jr"),VLOOKUP($AM8,連盟使用!$AH$3:$AI$100,2,FALSE),IF(AND(AT8="○",AU$3="MS",$AE8=1),VLOOKUP($AN8,連盟使用!$AJ$3:$AK$100,2,FALSE),VLOOKUP($AN8,連盟使用!$AL$3:$AM$100,2,FALSE)))))))))) | AW8: =IF(AV8="","",IF(AND(AV8="○",AW$3="国体"),VLOOKUP($AM8,連盟使用!$AN$3:$AO$100,2,FALSE),IF(AND(AV8="○",AW$3="通常",AW$1="通常・OPEN"),VLOOKUP($AM8,連盟使用!$AF$3:$AG$100,2,FALSE),IF(AND(AV8="○",AW$3="通常"),VLOOKUP($AM8,連盟使用!$AD$3:$AE$100,2,FALSE),IF(AV8="△",10000,IF(AND(AV8="○",AW$3="OPEN"),VLOOKUP($AM8,連盟使用!$AF$3:$AG$100,2,FALSE),IF(AND(AV8="○",AW$3="Jr",AW$1="Jrふじてん"),VLOOKUP($AM8,連盟使用!$AP$3:$AQ$100,2,FALSE),IF(AND(AV8="○",AW$3="Jr"),VLOOKUP($AM8,連盟使用!$AH$3:$AI$100,2,FALSE),IF(AND(AV8="○",AW$3="MS",$AE8=1),VLOOKUP($AN8,連盟使用!$AJ$3:$AK$100,2,FALSE),VLOOKUP($AN8,連盟使用!$AL$3:$AM$100,2,FALSE)))))))))) | AY8: =IF(AX8="","",IF(AND(AX8="○",AY$3="国体"),VLOOKUP($AM8,連盟使用!$AN$3:$AO$100,2,FALSE),IF(AND(AX8="○",AY$3="通常",AY$1="通常・OPEN"),VLOOKUP($AM8,連盟使用!$AF$3:$AG$100,2,FALSE),IF(AND(AX8="○",AY$3="通常"),VLOOKUP($AM8,連盟使用!$AD$3:$AE$100,2,FALSE),IF(AX8="△",10000,IF(AND(AX8="○",AY$3="OPEN"),VLOOKUP($AM8,連盟使用!$AF$3:$AG$100,2,FALSE),IF(AND(AX8="○",AY$3="Jr",AY$1="Jrふじてん"),VLOOKUP($AM8,連盟使用!$AP$3:$AQ$100,2,FALSE),IF(AND(AX8="○",AY$3="Jr"),VLOOKUP($AM8,連盟使用!$AH$3:$AI$100,2,FALSE),IF(AND(AX8="○",AY$3="MS",$AE8=1),VLOOKUP($AN8,連盟使用!$AJ$3:$AK$100,2,FALSE),VLOOKUP($AN8,連盟使用!$AL$3:$AM$100,2,FALSE)))))))))) | BA8: =IF(AZ8="","",IF(AND(AZ8="○",BA$3="国体"),VLOOKUP($AM8,連盟使用!$AN$3:$AO$100,2,FALSE),IF(AND(AZ8="○",BA$3="通常",BA$1="通常・OPEN"),VLOOKUP($AM8,連盟使用!$AF$3:$AG$100,2,FALSE),IF(AND(AZ8="○",BA$3="通常"),VLOOKUP($AM8,連盟使用!$AD$3:$AE$100,2,FALSE),IF(AZ8="△",10000,IF(AND(AZ8="○",BA$3="OPEN"),VLOOKUP($AM8,連盟使用!$AF$3:$AG$100,2,FALSE),IF(AND(AZ8="○",BA$3="Jr",BA$1="Jrふじてん"),VLOOKUP($AM8,連盟使用!$AP$3:$AQ$100,2,FALSE),IF(AND(AZ8="○",BA$3="Jr"),VLOOKUP($AM8,連盟使用!$AH$3:$AI$100,2,FALSE),IF(AND(AZ8="○",BA$3="MS",$AE8=1),VLOOKUP($AN8,連盟使用!$AJ$3:$AK$100,2,FALSE),VLOOKUP($AN8,連盟使用!$AL$3:$AM$100,2,FALSE)))))))))) | BC8: =IF(BB8="","",IF(AND(BB8="○",BC$3="国体"),VLOOKUP($AM8,連盟使用!$AN$3:$AO$100,2,FALSE),IF(AND(BB8="○",BC$3="通常",BC$1="通常・OPEN"),VLOOKUP($AM8,連盟使用!$AF$3:$AG$100,2,FALSE),IF(AND(BB8="○",BC$3="通常"),VLOOKUP($AM8,連盟使用!$AD$3:$AE$100,2,FALSE),IF(BB8="△",10000,IF(AND(BB8="○",BC$3="OPEN"),VLOOKUP($AM8,連盟使用!$AF$3:$AG$100,2,FALSE),IF(AND(BB8="○",BC$3="Jr",BC$1="Jrふじてん"),VLOOKUP($AM8,連盟使用!$AP$3:$AQ$100,2,FALSE),IF(AND(BB8="○",BC$3="Jr"),VLOOKUP($AM8,連盟使用!$AH$3:$AI$100,2,FALSE),IF(AND(BB8="○",BC$3="MS",$AE8=1),VLOOKUP($AN8,連盟使用!$AJ$3:$AK$100,2,FALSE),VLOOKUP($AN8,連盟使用!$AL$3:$AM$100,2,FALSE)))))))))) | BE8: =IF(BD8="","",IF(AND(BD8="○",BE$3="国体"),VLOOKUP($AM8,連盟使用!$AN$3:$AO$100,2,FALSE),IF(AND(BD8="○",BE$3="通常",BE$1="通常・OPEN"),VLOOKUP($AM8,連盟使用!$AF$3:$AG$100,2,FALSE),IF(AND(BD8="○",BE$3="通常"),VLOOKUP($AM8,連盟使用!$AD$3:$AE$100,2,FALSE),IF(BD8="△",10000,IF(AND(BD8="○",BE$3="OPEN"),VLOOKUP($AM8,連盟使用!$AF$3:$AG$100,2,FALSE),IF(AND(BD8="○",BE$3="Jr",BE$1="Jrふじてん"),VLOOKUP($AM8,連盟使用!$AP$3:$AQ$100,2,FALSE),IF(AND(BD8="○",BE$3="Jr"),VLOOKUP($AM8,連盟使用!$AH$3:$AI$100,2,FALSE),IF(AND(BD8="○",BE$3="MS",$AE8=1),VLOOKUP($AN8,連盟使用!$AJ$3:$AK$100,2,FALSE),VLOOKUP($AN8,連盟使用!$AL$3:$AM$100,2,FALSE)))))))))) | BG8: =IF(BF8="","",IF(AND(BF8="○",BG$3="国体"),VLOOKUP($AM8,連盟使用!$AN$3:$AO$100,2,FALSE),IF(AND(BF8="○",BG$3="通常",BG$1="通常・OPEN"),VLOOKUP($AM8,連盟使用!$AF$3:$AG$100,2,FALSE),IF(AND(BF8="○",BG$3="通常"),VLOOKUP($AM8,連盟使用!$AD$3:$AE$100,2,FALSE),IF(BF8="△",10000,IF(AND(BF8="○",BG$3="OPEN"),VLOOKUP($AM8,連盟使用!$AF$3:$AG$100,2,FALSE),IF(AND(BF8="○",BG$3="Jr",BG$1="Jrふじてん"),VLOOKUP($AM8,連盟使用!$AP$3:$AQ$100,2,FALSE),IF(AND(BF8="○",BG$3="Jr"),VLOOKUP($AM8,連盟使用!$AH$3:$AI$100,2,FALSE),IF(AND(BF8="○",BG$3="MS",$AE8=1),VLOOKUP($AN8,連盟使用!$AJ$3:$AK$100,2,FALSE),VLOOKUP($AN8,連盟使用!$AL$3:$AM$100,2,FALSE)))))))))) | BI8: =IF(BH8="","",IF(AND(BH8="○",BI$3="国体"),VLOOKUP($AM8,連盟使用!$AN$3:$AO$100,2,FALSE),IF(AND(BH8="○",BI$3="通常",BI$1="通常・OPEN"),VLOOKUP($AM8,連盟使用!$AF$3:$AG$100,2,FALSE),IF(AND(BH8="○",BI$3="通常"),VLOOKUP($AM8,連盟使用!$AD$3:$AE$100,2,FALSE),IF(BH8="△",10000,IF(AND(BH8="○",BI$3="OPEN"),VLOOKUP($AM8,連盟使用!$AF$3:$AG$100,2,FALSE),IF(AND(BH8="○",BI$3="Jr",BI$1="Jrふじてん"),VLOOKUP($AM8,連盟使用!$AP$3:$AQ$100,2,FALSE),IF(AND(BH8="○",BI$3="Jr"),VLOOKUP($AM8,連盟使用!$AH$3:$AI$100,2,FALSE),IF(AND(BH8="○",BI$3="MS",$AE8=1),VLOOKUP($AN8,連盟使用!$AJ$3:$AK$100,2,FALSE),VLOOKUP($AN8,連盟使用!$AL$3:$AM$100,2,FALSE)))))))))) | BK8: =IF(BJ8="","",IF(AND(BJ8="○",BK$3="国体"),VLOOKUP($AM8,連盟使用!$AN$3:$AO$100,2,FALSE),IF(AND(BJ8="○",BK$3="通常",BK$1="通常・OPEN"),VLOOKUP($AM8,連盟使用!$AF$3:$AG$100,2,FALSE),IF(AND(BJ8="○",BK$3="通常"),VLOOKUP($AM8,連盟使用!$AD$3:$AE$100,2,FALSE),IF(BJ8="△",10000,IF(AND(BJ8="○",BK$3="OPEN"),VLOOKUP($AM8,連盟使用!$AF$3:$AG$100,2,FALSE),IF(AND(BJ8="○",BK$3="Jr",BK$1="Jrふじてん"),VLOOKUP($AM8,連盟使用!$AP$3:$AQ$100,2,FALSE),IF(AND(BJ8="○",BK$3="Jr"),VLOOKUP($AM8,連盟使用!$AH$3:$AI$100,2,FALSE),IF(AND(BJ8="○",BK$3="MS",$AE8=1),VLOOKUP($AN8,連盟使用!$AJ$3:$AK$100,2,FALSE),VLOOKUP($AN8,連盟使用!$AL$3:$AM$100,2,FALSE)))))))))) | BM8: =IF(BL8="","",IF(AND(BL8="○",BM$3="国体"),VLOOKUP($AM8,連盟使用!$AN$3:$AO$100,2,FALSE),IF(AND(BL8="○",BM$3="通常",BM$1="通常・OPEN"),VLOOKUP($AM8,連盟使用!$AF$3:$AG$100,2,FALSE),IF(AND(BL8="○",BM$3="通常"),VLOOKUP($AM8,連盟使用!$AD$3:$AE$100,2,FALSE),IF(BL8="△",10000,IF(AND(BL8="○",BM$3="OPEN"),VLOOKUP($AM8,連盟使用!$AF$3:$AG$100,2,FALSE),IF(AND(BL8="○",BM$3="Jr",BM$1="Jrふじてん"),VLOOKUP($AM8,連盟使用!$AP$3:$AQ$100,2,FALSE),IF(AND(BL8="○",BM$3="Jr"),VLOOKUP($AM8,連盟使用!$AH$3:$AI$100,2,FALSE),IF(AND(BL8="○",BM$3="MS",$AE8=1),VLOOKUP($AN8,連盟使用!$AJ$3:$AK$100,2,FALSE),VLOOKUP($AN8,連盟使用!$AL$3:$AM$100,2,FALSE)))))))))) | BO8: =IF(BN8="","",IF(AND(BN8="○",BO$3="国体"),VLOOKUP($AM8,連盟使用!$AN$3:$AO$100,2,FALSE),IF(AND(BN8="○",BO$3="通常",BO$1="通常・OPEN"),VLOOKUP($AM8,連盟使用!$AF$3:$AG$100,2,FALSE),IF(AND(BN8="○",BO$3="通常"),VLOOKUP($AM8,連盟使用!$AD$3:$AE$100,2,FALSE),IF(BN8="△",10000,IF(AND(BN8="○",BO$3="OPEN"),VLOOKUP($AM8,連盟使用!$AF$3:$AG$100,2,FALSE),IF(AND(BN8="○",BO$3="Jr",BO$1="Jrふじてん"),VLOOKUP($AM8,連盟使用!$AP$3:$AQ$100,2,FALSE),IF(AND(BN8="○",BO$3="Jr"),VLOOKUP($AM8,連盟使用!$AH$3:$AI$100,2,FALSE),IF(AND(BN8="○",BO$3="MS",$AE8=1),VLOOKUP($AN8,連盟使用!$AJ$3:$AK$100,2,FALSE),VLOOKUP($AN8,連盟使用!$AL$3:$AM$100,2,FALSE)))))))))) | BQ8: =IF(BP8="","",IF(AND(BP8="○",BQ$3="国体"),VLOOKUP($AM8,連盟使用!$AN$3:$AO$100,2,FALSE),IF(AND(BP8="○",BQ$3="通常",BQ$1="通常・OPEN"),VLOOKUP($AM8,連盟使用!$AF$3:$AG$100,2,FALSE),IF(AND(BP8="○",BQ$3="通常"),VLOOKUP($AM8,連盟使用!$AD$3:$AE$100,2,FALSE),IF(BP8="△",10000,IF(AND(BP8="○",BQ$3="OPEN"),VLOOKUP($AM8,連盟使用!$AF$3:$AG$100,2,FALSE),IF(AND(BP8="○",BQ$3="Jr",BQ$1="Jrふじてん"),VLOOKUP($AM8,連盟使用!$AP$3:$AQ$100,2,FALSE),IF(AND(BP8="○",BQ$3="Jr"),VLOOKUP($AM8,連盟使用!$AH$3:$AI$100,2,FALSE),IF(AND(BP8="○",BQ$3="MS",$AE8=1),VLOOKUP($AN8,連盟使用!$AJ$3:$AK$100,2,FALSE),VLOOKUP($AN8,連盟使用!$AL$3:$AM$100,2,FALSE)))))))))) | BS8: =IF(BR8="","",IF(AND(BR8="○",BS$3="国体"),VLOOKUP($AM8,連盟使用!$AN$3:$AO$100,2,FALSE),IF(AND(BR8="○",BS$3="通常",BS$1="通常・OPEN"),VLOOKUP($AM8,連盟使用!$AF$3:$AG$100,2,FALSE),IF(AND(BR8="○",BS$3="通常"),VLOOKUP($AM8,連盟使用!$AD$3:$AE$100,2,FALSE),IF(BR8="△",10000,IF(AND(BR8="○",BS$3="OPEN"),VLOOKUP($AM8,連盟使用!$AF$3:$AG$100,2,FALSE),IF(AND(BR8="○",BS$3="Jr",BS$1="Jrふじてん"),VLOOKUP($AM8,連盟使用!$AP$3:$AQ$100,2,FALSE),IF(AND(BR8="○",BS$3="Jr"),VLOOKUP($AM8,連盟使用!$AH$3:$AI$100,2,FALSE),IF(AND(BR8="○",BS$3="MS",$AE8=1),VLOOKUP($AN8,連盟使用!$AJ$3:$AK$100,2,FALSE),VLOOKUP($AN8,連盟使用!$AL$3:$AM$100,2,FALSE)))))))))) | BU8: =IF(BT8="","",IF(AND(BT8="○",BU$3="国体"),VLOOKUP($AM8,連盟使用!$AN$3:$AO$100,2,FALSE),IF(AND(BT8="○",BU$3="通常",BU$1="通常・OPEN"),VLOOKUP($AM8,連盟使用!$AF$3:$AG$100,2,FALSE),IF(AND(BT8="○",BU$3="通常"),VLOOKUP($AM8,連盟使用!$AD$3:$AE$100,2,FALSE),IF(BT8="△",10000,IF(AND(BT8="○",BU$3="OPEN"),VLOOKUP($AM8,連盟使用!$AF$3:$AG$100,2,FALSE),IF(AND(BT8="○",BU$3="Jr",BU$1="Jrふじてん"),VLOOKUP($AM8,連盟使用!$AP$3:$AQ$100,2,FALSE),IF(AND(BT8="○",BU$3="Jr"),VLOOKUP($AM8,連盟使用!$AH$3:$AI$100,2,FALSE),IF(AND(BT8="○",BU$3="MS",$AE8=1),VLOOKUP($AN8,連盟使用!$AJ$3:$AK$100,2,FALSE),VLOOKUP($AN8,連盟使用!$AL$3:$AM$100,2,FALSE)))))))))) | BW8: =IF(BV8="","",IF(AND(BV8="○",BW$3="国体"),VLOOKUP($AM8,連盟使用!$AN$3:$AO$100,2,FALSE),IF(AND(BV8="○",BW$3="通常",BW$1="通常・OPEN"),VLOOKUP($AM8,連盟使用!$AF$3:$AG$100,2,FALSE),IF(AND(BV8="○",BW$3="通常"),VLOOKUP($AM8,連盟使用!$AD$3:$AE$100,2,FALSE),IF(BV8="△",10000,IF(AND(BV8="○",BW$3="OPEN"),VLOOKUP($AM8,連盟使用!$AF$3:$AG$100,2,FALSE),IF(AND(BV8="○",BW$3="Jr",BW$1="Jrふじてん"),VLOOKUP($AM8,連盟使用!$AP$3:$AQ$100,2,FALSE),IF(AND(BV8="○",BW$3="Jr"),VLOOKUP($AM8,連盟使用!$AH$3:$AI$100,2,FALSE),IF(AND(BV8="○",BW$3="MS",$AE8=1),VLOOKUP($AN8,連盟使用!$AJ$3:$AK$100,2,FALSE),VLOOKUP($AN8,連盟使用!$AL$3:$AM$100,2,FALSE)))))))))) | BY8: =IF(BX8="","",IF(AND(BX8="○",BY$3="国体"),VLOOKUP($AM8,連盟使用!$AN$3:$AO$100,2,FALSE),IF(AND(BX8="○",BY$3="通常",BY$1="通常・OPEN"),VLOOKUP($AM8,連盟使用!$AF$3:$AG$100,2,FALSE),IF(AND(BX8="○",BY$3="通常"),VLOOKUP($AM8,連盟使用!$AD$3:$AE$100,2,FALSE),IF(BX8="△",10000,IF(AND(BX8="○",BY$3="OPEN"),VLOOKUP($AM8,連盟使用!$AF$3:$AG$100,2,FALSE),IF(AND(BX8="○",BY$3="Jr",BY$1="Jrふじてん"),VLOOKUP($AM8,連盟使用!$AP$3:$AQ$100,2,FALSE),IF(AND(BX8="○",BY$3="Jr"),VLOOKUP($AM8,連盟使用!$AH$3:$AI$100,2,FALSE),IF(AND(BX8="○",BY$3="MS",$AE8=1),VLOOKUP($AN8,連盟使用!$AJ$3:$AK$100,2,FALSE),VLOOKUP($AN8,連盟使用!$AL$3:$AM$100,2,FALSE)))))))))) | CA8: =IF(BZ8="","",IF(AND(BZ8="○",CA$3="国体"),VLOOKUP($AM8,連盟使用!$AN$3:$AO$100,2,FALSE),IF(AND(BZ8="○",CA$3="通常",CA$1="通常・OPEN"),VLOOKUP($AM8,連盟使用!$AF$3:$AG$100,2,FALSE),IF(AND(BZ8="○",CA$3="通常"),VLOOKUP($AM8,連盟使用!$AD$3:$AE$100,2,FALSE),IF(BZ8="△",10000,IF(AND(BZ8="○",CA$3="OPEN"),VLOOKUP($AM8,連盟使用!$AF$3:$AG$100,2,FALSE),IF(AND(BZ8="○",CA$3="Jr",CA$1="Jrふじてん"),VLOOKUP($AM8,連盟使用!$AP$3:$AQ$100,2,FALSE),IF(AND(BZ8="○",CA$3="Jr"),VLOOKUP($AM8,連盟使用!$AH$3:$AI$100,2,FALSE),IF(AND(BZ8="○",CA$3="MS",$AE8=1),VLOOKUP($AN8,連盟使用!$AJ$3:$AK$100,2,FALSE),VLOOKUP($AN8,連盟使用!$AL$3:$AM$100,2,FALSE)))))))))) | CC8: =IF(CB8="","",IF(AND(CB8="○",CC$3="国体"),VLOOKUP($AM8,連盟使用!$AN$3:$AO$100,2,FALSE),IF(AND(CB8="○",CC$3="通常",CC$1="通常・OPEN"),VLOOKUP($AM8,連盟使用!$AF$3:$AG$100,2,FALSE),IF(AND(CB8="○",CC$3="通常"),VLOOKUP($AM8,連盟使用!$AD$3:$AE$100,2,FALSE),IF(CB8="△",10000,IF(AND(CB8="○",CC$3="OPEN"),VLOOKUP($AM8,連盟使用!$AF$3:$AG$100,2,FALSE),IF(AND(CB8="○",CC$3="Jr",CC$1="Jrふじてん"),VLOOKUP($AM8,連盟使用!$AP$3:$AQ$100,2,FALSE),IF(AND(CB8="○",CC$3="Jr"),VLOOKUP($AM8,連盟使用!$AH$3:$AI$100,2,FALSE),IF(AND(CB8="○",CC$3="MS",$AE8=1),VLOOKUP($AN8,連盟使用!$AJ$3:$AK$100,2,FALSE),VLOOKUP($AN8,連盟使用!$AL$3:$AM$100,2,FALSE)))))))))) | CE8: =IF(CD8="","",IF(AND(CD8="○",CE$3="国体"),VLOOKUP($AM8,連盟使用!$AN$3:$AO$100,2,FALSE),IF(AND(CD8="○",CE$3="通常",CE$1="通常・OPEN"),VLOOKUP($AM8,連盟使用!$AF$3:$AG$100,2,FALSE),IF(AND(CD8="○",CE$3="通常"),VLOOKUP($AM8,連盟使用!$AD$3:$AE$100,2,FALSE),IF(CD8="△",10000,IF(AND(CD8="○",CE$3="OPEN"),VLOOKUP($AM8,連盟使用!$AF$3:$AG$100,2,FALSE),IF(AND(CD8="○",CE$3="Jr",CE$1="Jrふじてん"),VLOOKUP($AM8,連盟使用!$AP$3:$AQ$100,2,FALSE),IF(AND(CD8="○",CE$3="Jr"),VLOOKUP($AM8,連盟使用!$AH$3:$AI$100,2,FALSE),IF(AND(CD8="○",CE$3="MS",$AE8=1),VLOOKUP($AN8,連盟使用!$AJ$3:$AK$100,2,FALSE),VLOOKUP($AN8,連盟使用!$AL$3:$AM$100,2,FALSE)))))))))) | CG8: =IF(CF8="","",IF(AND(CF8="○",CG$3="国体"),VLOOKUP($AM8,連盟使用!$AN$3:$AO$100,2,FALSE),IF(AND(CF8="○",CG$3="通常",CG$1="通常・OPEN"),VLOOKUP($AM8,連盟使用!$AF$3:$AG$100,2,FALSE),IF(AND(CF8="○",CG$3="通常"),VLOOKUP($AM8,連盟使用!$AD$3:$AE$100,2,FALSE),IF(CF8="△",10000,IF(AND(CF8="○",CG$3="OPEN"),VLOOKUP($AM8,連盟使用!$AF$3:$AG$100,2,FALSE),IF(AND(CF8="○",CG$3="Jr",CG$1="Jrふじてん"),VLOOKUP($AM8,連盟使用!$AP$3:$AQ$100,2,FALSE),IF(AND(CF8="○",CG$3="Jr"),VLOOKUP($AM8,連盟使用!$AH$3:$AI$100,2,FALSE),IF(AND(CF8="○",CG$3="MS",$AE8=1),VLOOKUP($AN8,連盟使用!$AJ$3:$AK$100,2,FALSE),VLOOKUP($AN8,連盟使用!$AL$3:$AM$100,2,FALSE)))))))))) | CH8: =SUM(AT8:CG8) -> 0
